BEGIN:VCALENDAR
VERSION:2.0
PRODID:-//CCC - ECPv6.11.2//NONSGML v1.0//EN
CALSCALE:GREGORIAN
METHOD:PUBLISH
X-ORIGINAL-URL:https://events.ccc.edu
X-WR-CALDESC:Events for CCC
REFRESH-INTERVAL;VALUE=DURATION:PT1H
X-Robots-Tag:noindex
X-PUBLISHED-TTL:PT1H
BEGIN:VTIMEZONE
TZID:America/Chicago
BEGIN:DAYLIGHT
TZOFFSETFROM:-0600
TZOFFSETTO:-0500
TZNAME:CDT
DTSTART:20240310T080000
END:DAYLIGHT
BEGIN:STANDARD
TZOFFSETFROM:-0500
TZOFFSETTO:-0600
TZNAME:CST
DTSTART:20241103T070000
END:STANDARD
END:VTIMEZONE
BEGIN:VEVENT
DTSTART;TZID=America/Chicago:20241202T100000
DTEND;TZID=America/Chicago:20241202T120000
DTSTAMP:20260421T104326
CREATED:20241112T224352Z
LAST-MODIFIED:20241112T224352Z
UID:10002704-1733133600-1733140800@events.ccc.edu
SUMMARY:Wright: Financial Aid Completion Workshop
DESCRIPTION:
URL:https://events.ccc.edu/event/wright-financial-aid-completion-workshop-65/
CATEGORIES:Wilbur Wright
ATTACH;FMTTYPE=image/jpeg:https://events.ccc.edu/app/uploads/Financial-Aid_Calendar.jpg
END:VEVENT
BEGIN:VEVENT
DTSTART;TZID=America/Chicago:20241203T170000
DTEND;TZID=America/Chicago:20241203T200000
DTSTAMP:20260421T104326
CREATED:20241024T193259Z
LAST-MODIFIED:20241024T193259Z
UID:10002613-1733245200-1733256000@events.ccc.edu
SUMMARY:Wright: Pack the Gym Night for Basketball!
DESCRIPTION:
URL:https://events.ccc.edu/event/wright-pack-the-gym-night-for-basketball/
CATEGORIES:Wilbur Wright
ATTACH;FMTTYPE=image/jpeg:https://events.ccc.edu/app/uploads/WW_Stdnt_Act_01.jpg
END:VEVENT
BEGIN:VEVENT
DTSTART;TZID=America/Chicago:20241204T100000
DTEND;TZID=America/Chicago:20241204T110000
DTSTAMP:20260421T104326
CREATED:20240829T194216Z
LAST-MODIFIED:20240829T194216Z
UID:10002149-1733306400-1733310000@events.ccc.edu
SUMMARY:Partners in Education Info Session
DESCRIPTION:
URL:https://events.ccc.edu/event/partners-in-education-info-session-39/
CATEGORIES:Harold Washington,Harry S Truman,Kennedy-King,Malcolm X,Olive-Harvey,Richard J. Daley,Wilbur Wright
ATTACH;FMTTYPE=image/jpeg:https://events.ccc.edu/app/uploads/CHA-Calendar-Image.jpg
END:VEVENT
BEGIN:VEVENT
DTSTART;TZID=America/Chicago:20241204T120000
DTEND;TZID=America/Chicago:20241204T130000
DTSTAMP:20260421T104326
CREATED:20240829T194206Z
LAST-MODIFIED:20240829T194206Z
UID:10002148-1733313600-1733317200@events.ccc.edu
SUMMARY:Partners in Education Info Session
DESCRIPTION:
URL:https://events.ccc.edu/event/partners-in-education-info-session-38/
CATEGORIES:Harold Washington,Harry S Truman,Kennedy-King,Malcolm X,Olive-Harvey,Richard J. Daley,Wilbur Wright
ATTACH;FMTTYPE=image/jpeg:https://events.ccc.edu/app/uploads/CHA-Calendar-Image.jpg
END:VEVENT
BEGIN:VEVENT
DTSTART;TZID=America/Chicago:20241206T100000
DTEND;TZID=America/Chicago:20241206T120000
DTSTAMP:20260421T104326
CREATED:20241112T223946Z
LAST-MODIFIED:20241112T223946Z
UID:10002700-1733479200-1733486400@events.ccc.edu
SUMMARY:Wright: Financial Aid Completion Workshop
DESCRIPTION:
URL:https://events.ccc.edu/event/wright-financial-aid-completion-workshop-61/
CATEGORIES:Wilbur Wright
ATTACH;FMTTYPE=image/jpeg:https://events.ccc.edu/app/uploads/Financial-Aid_Calendar.jpg
END:VEVENT
BEGIN:VEVENT
DTSTART;TZID=America/Chicago:20241209T090000
DTEND;TZID=America/Chicago:20241209T130000
DTSTAMP:20260421T104326
CREATED:20241205T223756Z
LAST-MODIFIED:20241205T223756Z
UID:10002778-1733734800-1733749200@events.ccc.edu
SUMMARY:Wright: Mini Computer Science Transfer Fair
DESCRIPTION:
URL:https://events.ccc.edu/event/wright-mini-computer-science-transfer-fair/
CATEGORIES:Wilbur Wright
ATTACH;FMTTYPE=image/png:https://events.ccc.edu/app/uploads/Transfer_Table_Per-College_WW.png
END:VEVENT
BEGIN:VEVENT
DTSTART;TZID=America/Chicago:20241209T090000
DTEND;TZID=America/Chicago:20241212T180000
DTSTAMP:20260421T104326
CREATED:20241205T223749Z
LAST-MODIFIED:20241205T223749Z
UID:10002777-1733734800-1734026400@events.ccc.edu
SUMMARY:Wright: Fuel for Finals
DESCRIPTION:
URL:https://events.ccc.edu/event/wright-fuel-for-finals/
CATEGORIES:Wilbur Wright
ATTACH;FMTTYPE=image/jpeg:https://events.ccc.edu/app/uploads/WW_Stdnt_Act_03.jpg
END:VEVENT
BEGIN:VEVENT
DTSTART;TZID=America/Chicago:20241210T100000
DTEND;TZID=America/Chicago:20241210T130000
DTSTAMP:20260421T104326
CREATED:20241209T220759Z
LAST-MODIFIED:20241209T220759Z
UID:10002824-1733824800-1733835600@events.ccc.edu
SUMMARY:Wright: Elmhurst University Table Visit
DESCRIPTION:
URL:https://events.ccc.edu/event/wright-elmhurst-university-table-visit-7/
CATEGORIES:Wilbur Wright
ATTACH;FMTTYPE=image/png:https://events.ccc.edu/app/uploads/Transfer_Table_Per-College_WW.png
END:VEVENT
BEGIN:VEVENT
DTSTART;TZID=America/Chicago:20241210T130000
DTEND;TZID=America/Chicago:20241210T150000
DTSTAMP:20260421T104326
CREATED:20241112T224146Z
LAST-MODIFIED:20241112T224147Z
UID:10002701-1733835600-1733842800@events.ccc.edu
SUMMARY:Wright: Financial Aid Completion Workshop
DESCRIPTION:
URL:https://events.ccc.edu/event/wright-financial-aid-completion-workshop-62/
CATEGORIES:Wilbur Wright
ATTACH;FMTTYPE=image/jpeg:https://events.ccc.edu/app/uploads/Financial-Aid_Calendar.jpg
END:VEVENT
BEGIN:VEVENT
DTSTART;TZID=America/Chicago:20241210T150000
DTEND;TZID=America/Chicago:20241210T170000
DTSTAMP:20260421T104326
CREATED:20241112T225206Z
LAST-MODIFIED:20241112T225206Z
UID:10002705-1733842800-1733850000@events.ccc.edu
SUMMARY:Wright: Satisfactory Academic Progress (SAP) Workshop
DESCRIPTION:
URL:https://events.ccc.edu/event/wright-satisfactory-academic-progress-sap-workshop-9/
CATEGORIES:Wilbur Wright
ATTACH;FMTTYPE=image/jpeg:https://events.ccc.edu/app/uploads/Financial-Aid_Calendar.jpg
END:VEVENT
BEGIN:VEVENT
DTSTART;TZID=America/Chicago:20241211T100000
DTEND;TZID=America/Chicago:20241211T110000
DTSTAMP:20260421T104326
CREATED:20240829T194147Z
LAST-MODIFIED:20240829T194147Z
UID:10002147-1733911200-1733914800@events.ccc.edu
SUMMARY:Partners in Education Info Session
DESCRIPTION:
URL:https://events.ccc.edu/event/partners-in-education-info-session-37/
CATEGORIES:Harold Washington,Harry S Truman,Kennedy-King,Malcolm X,Olive-Harvey,Richard J. Daley,Wilbur Wright
ATTACH;FMTTYPE=image/jpeg:https://events.ccc.edu/app/uploads/CHA-Calendar-Image.jpg
END:VEVENT
BEGIN:VEVENT
DTSTART;TZID=America/Chicago:20241211T120000
DTEND;TZID=America/Chicago:20241211T130000
DTSTAMP:20260421T104326
CREATED:20240829T194136Z
LAST-MODIFIED:20240829T194136Z
UID:10002146-1733918400-1733922000@events.ccc.edu
SUMMARY:Partners in Education Info Session
DESCRIPTION:
URL:https://events.ccc.edu/event/partners-in-education-info-session-36/
CATEGORIES:Harold Washington,Harry S Truman,Kennedy-King,Malcolm X,Olive-Harvey,Richard J. Daley,Wilbur Wright
ATTACH;FMTTYPE=image/jpeg:https://events.ccc.edu/app/uploads/CHA-Calendar-Image.jpg
END:VEVENT
BEGIN:VEVENT
DTSTART;TZID=America/Chicago:20241211T140000
DTEND;TZID=America/Chicago:20241211T160000
DTSTAMP:20260421T104326
CREATED:20241112T225436Z
LAST-MODIFIED:20241112T225436Z
UID:10002713-1733925600-1733932800@events.ccc.edu
SUMMARY:Wright: Satisfactory Academic Progress (SAP) Workshop
DESCRIPTION:
URL:https://events.ccc.edu/event/wright-satisfactory-academic-progress-sap-workshop-10/
CATEGORIES:Wilbur Wright
ATTACH;FMTTYPE=image/jpeg:https://events.ccc.edu/app/uploads/Financial-Aid_Calendar.jpg
END:VEVENT
BEGIN:VEVENT
DTSTART;TZID=America/Chicago:20241212T100000
DTEND;TZID=America/Chicago:20241212T120000
DTSTAMP:20260421T104326
CREATED:20241111T222149Z
LAST-MODIFIED:20241111T222149Z
UID:10002693-1733997600-1734004800@events.ccc.edu
SUMMARY:Wright: Financial Aid Completion Workshop
DESCRIPTION:
URL:https://events.ccc.edu/event/wright-financial-aid-completion-workshop-58/
CATEGORIES:Wilbur Wright
ATTACH;FMTTYPE=image/jpeg:https://events.ccc.edu/app/uploads/Financial-Aid_Calendar.jpg
END:VEVENT
BEGIN:VEVENT
DTSTART;TZID=America/Chicago:20241212T100000
DTEND;TZID=America/Chicago:20241212T120000
DTSTAMP:20260421T104326
CREATED:20241111T222541Z
LAST-MODIFIED:20241111T222541Z
UID:10002697-1733997600-1734004800@events.ccc.edu
SUMMARY:Wright: Financial Aid Completion Workshop
DESCRIPTION:
URL:https://events.ccc.edu/event/wright-financial-aid-completion-workshop-59/
CATEGORIES:Wilbur Wright
ATTACH;FMTTYPE=image/jpeg:https://events.ccc.edu/app/uploads/Financial-Aid_Calendar.jpg
END:VEVENT
BEGIN:VEVENT
DTSTART;TZID=America/Chicago:20241212T140000
DTEND;TZID=America/Chicago:20241212T160000
DTSTAMP:20260421T104326
CREATED:20241111T222055Z
LAST-MODIFIED:20241111T222055Z
UID:10002689-1734012000-1734019200@events.ccc.edu
SUMMARY:Wright: Financial Aid Completion Workshop
DESCRIPTION:
URL:https://events.ccc.edu/event/wright-financial-aid-completion-workshop-56/
CATEGORIES:Wilbur Wright
ATTACH;FMTTYPE=image/jpeg:https://events.ccc.edu/app/uploads/Financial-Aid_Calendar.jpg
END:VEVENT
BEGIN:VEVENT
DTSTART;TZID=America/Chicago:20241212T180000
DTEND;TZID=America/Chicago:20241212T200000
DTSTAMP:20260421T104326
CREATED:20240904T202642Z
LAST-MODIFIED:20240904T202642Z
UID:10002191-1734026400-1734033600@events.ccc.edu
SUMMARY:Wright: Engineering Information Session
DESCRIPTION:
URL:https://events.ccc.edu/event/wright-engineering-information-session-10/
CATEGORIES:Wilbur Wright
ATTACH;FMTTYPE=image/jpeg:https://events.ccc.edu/app/uploads/Engineering-and-Computer-Science_Calendar-image.jpg
END:VEVENT
BEGIN:VEVENT
DTSTART;TZID=America/Chicago:20241212T183000
DTEND;TZID=America/Chicago:20241212T193000
DTSTAMP:20260421T104326
CREATED:20240829T194122Z
LAST-MODIFIED:20240829T194122Z
UID:10002145-1734028200-1734031800@events.ccc.edu
SUMMARY:Partners in Education Info Session
DESCRIPTION:
URL:https://events.ccc.edu/event/partners-in-education-info-session-35/
CATEGORIES:Harold Washington,Harry S Truman,Kennedy-King,Malcolm X,Olive-Harvey,Richard J. Daley,Wilbur Wright
ATTACH;FMTTYPE=image/jpeg:https://events.ccc.edu/app/uploads/CHA-Calendar-Image.jpg
END:VEVENT
BEGIN:VEVENT
DTSTART;TZID=America/Chicago:20241216T150000
DTEND;TZID=America/Chicago:20241216T170000
DTSTAMP:20260421T104326
CREATED:20241111T222110Z
LAST-MODIFIED:20241111T222110Z
UID:10002691-1734361200-1734368400@events.ccc.edu
SUMMARY:Wright: Financial Aid Completion Workshop
DESCRIPTION:
URL:https://events.ccc.edu/event/wright-financial-aid-completion-workshop-57/
CATEGORIES:Wilbur Wright
ATTACH;FMTTYPE=image/jpeg:https://events.ccc.edu/app/uploads/Financial-Aid_Calendar.jpg
END:VEVENT
BEGIN:VEVENT
DTSTART;TZID=America/Chicago:20241217T090000
DTEND;TZID=America/Chicago:20241217T170000
DTSTAMP:20260421T104326
CREATED:20241210T180720Z
LAST-MODIFIED:20241210T180721Z
UID:10002828-1734426000-1734454800@events.ccc.edu
SUMMARY:Wright: Enrollment Days
DESCRIPTION:
URL:https://events.ccc.edu/event/wright-enrollment-days/
CATEGORIES:Wilbur Wright
ATTACH;FMTTYPE=image/jpeg:https://events.ccc.edu/app/uploads/WW_Calendar-Image_02.jpg
END:VEVENT
BEGIN:VEVENT
DTSTART;TZID=America/Chicago:20241218T100000
DTEND;TZID=America/Chicago:20241218T110000
DTSTAMP:20260421T104326
CREATED:20240829T194113Z
LAST-MODIFIED:20240829T194113Z
UID:10002144-1734516000-1734519600@events.ccc.edu
SUMMARY:Partners in Education Info Session
DESCRIPTION:
URL:https://events.ccc.edu/event/partners-in-education-info-session-34/
CATEGORIES:Harold Washington,Harry S Truman,Kennedy-King,Malcolm X,Olive-Harvey,Richard J. Daley,Wilbur Wright
ATTACH;FMTTYPE=image/jpeg:https://events.ccc.edu/app/uploads/CHA-Calendar-Image.jpg
END:VEVENT
BEGIN:VEVENT
DTSTART;TZID=America/Chicago:20241218T120000
DTEND;TZID=America/Chicago:20241218T130000
DTSTAMP:20260421T104326
CREATED:20240829T194102Z
LAST-MODIFIED:20240829T194102Z
UID:10002143-1734523200-1734526800@events.ccc.edu
SUMMARY:Partners in Education Info Session
DESCRIPTION:
URL:https://events.ccc.edu/event/partners-in-education-info-session-33/
CATEGORIES:Harold Washington,Harry S Truman,Kennedy-King,Malcolm X,Olive-Harvey,Richard J. Daley,Wilbur Wright
ATTACH;FMTTYPE=image/jpeg:https://events.ccc.edu/app/uploads/CHA-Calendar-Image.jpg
END:VEVENT
BEGIN:VEVENT
DTSTART;TZID=America/Chicago:20241218T150000
DTEND;TZID=America/Chicago:20241218T170000
DTSTAMP:20260421T104326
CREATED:20241111T222700Z
LAST-MODIFIED:20241111T222700Z
UID:10002692-1734534000-1734541200@events.ccc.edu
SUMMARY:Wright: Satisfactory Academic Progress (SAP) Workshop
DESCRIPTION:
URL:https://events.ccc.edu/event/wright-satisfactory-academic-progress-sap-workshop-8/
CATEGORIES:Wilbur Wright
ATTACH;FMTTYPE=image/jpeg:https://events.ccc.edu/app/uploads/Financial-Aid_Calendar.jpg
END:VEVENT
END:VCALENDAR