BEGIN:VCALENDAR
VERSION:2.0
PRODID:-//CCC - ECPv6.11.2//NONSGML v1.0//EN
CALSCALE:GREGORIAN
METHOD:PUBLISH
X-ORIGINAL-URL:https://events.ccc.edu
X-WR-CALDESC:Events for CCC
REFRESH-INTERVAL;VALUE=DURATION:PT1H
X-Robots-Tag:noindex
X-PUBLISHED-TTL:PT1H
BEGIN:VTIMEZONE
TZID:America/Chicago
BEGIN:DAYLIGHT
TZOFFSETFROM:-0600
TZOFFSETTO:-0500
TZNAME:CDT
DTSTART:20240310T080000
END:DAYLIGHT
BEGIN:STANDARD
TZOFFSETFROM:-0500
TZOFFSETTO:-0600
TZNAME:CST
DTSTART:20241103T070000
END:STANDARD
END:VTIMEZONE
BEGIN:VEVENT
DTSTART;TZID=America/Chicago:20240917T100000
DTEND;TZID=America/Chicago:20240917T110000
DTSTAMP:20260421T175017
CREATED:20240910T204422Z
LAST-MODIFIED:20240910T204422Z
UID:10002238-1726567200-1726570800@events.ccc.edu
SUMMARY:City Colleges of Chicago Financial Capability Workshop
DESCRIPTION:
URL:https://events.ccc.edu/event/city-colleges-of-chicago-financial-capability-workshop-3/
CATEGORIES:District-wide,Harold Washington,Harry S Truman,Kennedy-King,Malcolm X,Olive-Harvey,Richard J. Daley,Wilbur Wright
ATTACH;FMTTYPE=image/jpeg:https://events.ccc.edu/app/uploads/Financial-Aid_Calendar.jpg
END:VEVENT
BEGIN:VEVENT
DTSTART;TZID=America/Chicago:20240917T100000
DTEND;TZID=America/Chicago:20240917T120000
DTSTAMP:20260421T175017
CREATED:20240910T204649Z
LAST-MODIFIED:20240910T204649Z
UID:10002240-1726567200-1726574400@events.ccc.edu
SUMMARY:Wright: One-on-One Advising with Illinois Tech
DESCRIPTION:
URL:https://events.ccc.edu/event/wright-one-on-one-advising-with-illinois-tech/
CATEGORIES:Wilbur Wright
ATTACH;FMTTYPE=image/png:https://events.ccc.edu/app/uploads/Transfer_Per-College_WW.png
END:VEVENT
BEGIN:VEVENT
DTSTART;TZID=America/Chicago:20240917T100000
DTEND;TZID=America/Chicago:20240917T130000
DTSTAMP:20260421T175017
CREATED:20240910T204457Z
LAST-MODIFIED:20240910T204457Z
UID:10002239-1726567200-1726578000@events.ccc.edu
SUMMARY:Wright: Elmhurst University Table Visit
DESCRIPTION:
URL:https://events.ccc.edu/event/wright-elmhurst-university-table-visit-5/
CATEGORIES:Wilbur Wright
ATTACH;FMTTYPE=image/png:https://events.ccc.edu/app/uploads/Transfer_Table_Per-College_WW.png
END:VEVENT
BEGIN:VEVENT
DTSTART;TZID=America/Chicago:20240917T100000
DTEND;TZID=America/Chicago:20240917T140000
DTSTAMP:20260421T175017
CREATED:20240910T202440Z
LAST-MODIFIED:20240910T202440Z
UID:10002228-1726567200-1726581600@events.ccc.edu
SUMMARY:Wright: National Voter Registration Day
DESCRIPTION:
URL:https://events.ccc.edu/event/wright-national-voter-registration-day/
CATEGORIES:Wilbur Wright
ATTACH;FMTTYPE=image/jpeg:https://events.ccc.edu/app/uploads/WW_Calendar-Image_02.jpg
END:VEVENT
BEGIN:VEVENT
DTSTART;TZID=America/Chicago:20240917T110000
DTEND;TZID=America/Chicago:20240917T140000
DTSTAMP:20260421T175017
CREATED:20240815T174429Z
LAST-MODIFIED:20240815T174429Z
UID:10001952-1726570800-1726581600@events.ccc.edu
SUMMARY:Wright: Wilburpalooza
DESCRIPTION:
URL:https://events.ccc.edu/event/wright-wilburpalooza-2/
CATEGORIES:Wilbur Wright
ATTACH;FMTTYPE=image/jpeg:https://events.ccc.edu/app/uploads/WW_Stdnt_Act_01.jpg
END:VEVENT
BEGIN:VEVENT
DTSTART;TZID=America/Chicago:20240917T130000
DTEND;TZID=America/Chicago:20240917T160000
DTSTAMP:20260421T175018
CREATED:20240910T205052Z
LAST-MODIFIED:20240910T205053Z
UID:10002242-1726578000-1726588800@events.ccc.edu
SUMMARY:Wright: Illinois Tech Table Visit
DESCRIPTION:
URL:https://events.ccc.edu/event/wright-illinois-tech-table-visit-2/
CATEGORIES:Wilbur Wright
ATTACH;FMTTYPE=image/png:https://events.ccc.edu/app/uploads/Transfer_Table_Per-College_WW.png
END:VEVENT
BEGIN:VEVENT
DTSTART;TZID=America/Chicago:20240917T163000
DTEND;TZID=America/Chicago:20240917T173000
DTSTAMP:20260421T175018
CREATED:20240910T205416Z
LAST-MODIFIED:20240910T205416Z
UID:10002244-1726590600-1726594200@events.ccc.edu
SUMMARY:Wright: Get Ready to Be a Jack Kent Cooke Scholar
DESCRIPTION:
URL:https://events.ccc.edu/event/wright-get-ready-to-be-a-jack-kent-cooke-scholar/
CATEGORIES:Wilbur Wright
ATTACH;FMTTYPE=image/jpeg:https://events.ccc.edu/app/uploads/WW_Calendar-Image_01-e1715880201328-wC0vNw.tmp_.jpg
END:VEVENT
BEGIN:VEVENT
DTSTART;TZID=America/Chicago:20240918T100000
DTEND;TZID=America/Chicago:20240918T110000
DTSTAMP:20260421T175018
CREATED:20240620T165847Z
LAST-MODIFIED:20240620T165847Z
UID:10001683-1726653600-1726657200@events.ccc.edu
SUMMARY:Partners in Education Info Session
DESCRIPTION:
URL:https://events.ccc.edu/event/partners-in-education-info-session-11/
CATEGORIES:District Office,District-wide,Harold Washington,Harry S Truman,Kennedy-King,Malcolm X,Olive-Harvey,Richard J. Daley,Wilbur Wright
ATTACH;FMTTYPE=image/jpeg:https://events.ccc.edu/app/uploads/CHA-Calendar-Image.jpg
END:VEVENT
BEGIN:VEVENT
DTSTART;TZID=America/Chicago:20240918T120000
DTEND;TZID=America/Chicago:20240918T130000
DTSTAMP:20260421T175018
CREATED:20240620T165735Z
LAST-MODIFIED:20240620T165735Z
UID:10001682-1726660800-1726664400@events.ccc.edu
SUMMARY:Partners in Education Info Session
DESCRIPTION:
URL:https://events.ccc.edu/event/partners-in-education-info-session-10/
CATEGORIES:District Office,District-wide,Harold Washington,Harry S Truman,Kennedy-King,Malcolm X,Olive-Harvey,Richard J. Daley,Wilbur Wright
ATTACH;FMTTYPE=image/jpeg:https://events.ccc.edu/app/uploads/CHA-Calendar-Image.jpg
END:VEVENT
BEGIN:VEVENT
DTSTART;TZID=America/Chicago:20240918T140000
DTEND;TZID=America/Chicago:20240918T150000
DTSTAMP:20260421T175018
CREATED:20240910T205518Z
LAST-MODIFIED:20240910T205518Z
UID:10002245-1726668000-1726671600@events.ccc.edu
SUMMARY:City Colleges of Chicago Financial Capability Workshop
DESCRIPTION:
URL:https://events.ccc.edu/event/city-colleges-of-chicago-financial-capability-workshop-4/
CATEGORIES:District-wide,Harold Washington,Harry S Truman,Kennedy-King,Malcolm X,Olive-Harvey,Richard J. Daley,Wilbur Wright
ATTACH;FMTTYPE=image/jpeg:https://events.ccc.edu/app/uploads/Financial-Aid_Calendar.jpg
END:VEVENT
BEGIN:VEVENT
DTSTART;TZID=America/Chicago:20240919T100000
DTEND;TZID=America/Chicago:20240919T130000
DTSTAMP:20260421T175018
CREATED:20240910T215114Z
LAST-MODIFIED:20240910T215114Z
UID:10002248-1726740000-1726750800@events.ccc.edu
SUMMARY:Wright: Valparaiso University Table Visit
DESCRIPTION:
URL:https://events.ccc.edu/event/wright-valparaiso-university-table-visit/
CATEGORIES:Wilbur Wright
ATTACH;FMTTYPE=image/png:https://events.ccc.edu/app/uploads/Transfer_Table_Per-College_WW.png
END:VEVENT
BEGIN:VEVENT
DTSTART;TZID=America/Chicago:20240919T173000
DTEND;TZID=America/Chicago:20240919T183000
DTSTAMP:20260421T175018
CREATED:20240911T194900Z
LAST-MODIFIED:20240911T194900Z
UID:10002270-1726767000-1726770600@events.ccc.edu
SUMMARY:Wright: Planning to Transfer? Begin with the End in Mind
DESCRIPTION:
URL:https://events.ccc.edu/event/wright-planning-to-transfer-begin-with-the-end-in-mind-2/
CATEGORIES:Wilbur Wright
ATTACH;FMTTYPE=image/png:https://events.ccc.edu/app/uploads/Transfer_Per-College_WW.png
END:VEVENT
BEGIN:VEVENT
DTSTART;TZID=America/Chicago:20240921T090000
DTEND;TZID=America/Chicago:20240921T133000
DTSTAMP:20260421T175018
CREATED:20240910T203319Z
LAST-MODIFIED:20240910T211609Z
UID:10002230-1726909200-1726925400@events.ccc.edu
SUMMARY:Chicago Architecture and Design College Day 2024
DESCRIPTION:
URL:https://events.ccc.edu/event/harold-washington-chicago-architecture-and-design-college-day-2024/
CATEGORIES:District-wide,Harold Washington,Harry S Truman,Kennedy-King,Malcolm X,Olive-Harvey,Richard J. Daley,Wilbur Wright
ATTACH;FMTTYPE=image/jpeg:https://events.ccc.edu/app/uploads/DO_Calendar-Image_01-e1709153611957-wuAWoR.tmp_.jpg
END:VEVENT
BEGIN:VEVENT
DTSTART;TZID=America/Chicago:20240923T100000
DTEND;TZID=America/Chicago:20240923T130000
DTSTAMP:20260421T175018
CREATED:20240911T195003Z
LAST-MODIFIED:20240911T195003Z
UID:10002271-1727085600-1727096400@events.ccc.edu
SUMMARY:Wright: Roosevelt University Table Visit
DESCRIPTION:
URL:https://events.ccc.edu/event/wright-roosevelt-university-table-visit-9/
CATEGORIES:Wilbur Wright
ATTACH;FMTTYPE=image/png:https://events.ccc.edu/app/uploads/Transfer_Table_Per-College_WW.png
END:VEVENT
BEGIN:VEVENT
DTSTART;TZID=America/Chicago:20240924T100000
DTEND;TZID=America/Chicago:20240924T130000
DTSTAMP:20260421T175018
CREATED:20240911T195533Z
LAST-MODIFIED:20240911T195533Z
UID:10002274-1727172000-1727182800@events.ccc.edu
SUMMARY:Wright: DePaul University
DESCRIPTION:
URL:https://events.ccc.edu/event/wright-depaul-university-2/
CATEGORIES:Wilbur Wright
ATTACH;FMTTYPE=image/png:https://events.ccc.edu/app/uploads/Transfer_Table_Per-College_WW.png
END:VEVENT
BEGIN:VEVENT
DTSTART;TZID=America/Chicago:20240924T120000
DTEND;TZID=America/Chicago:20240924T130000
DTSTAMP:20260421T175018
CREATED:20240911T195826Z
LAST-MODIFIED:20240911T195826Z
UID:10002276-1727179200-1727182800@events.ccc.edu
SUMMARY:City Colleges of Chicago Financial Capability Workshop
DESCRIPTION:
URL:https://events.ccc.edu/event/city-colleges-of-chicago-financial-capability-workshop-5/
CATEGORIES:District-wide,Harold Washington,Harry S Truman,Kennedy-King,Malcolm X,Olive-Harvey,Richard J. Daley,Wilbur Wright
ATTACH;FMTTYPE=image/jpeg:https://events.ccc.edu/app/uploads/Financial-Aid_Calendar.jpg
END:VEVENT
BEGIN:VEVENT
DTSTART;TZID=America/Chicago:20240924T130000
DTEND;TZID=America/Chicago:20240924T140000
DTSTAMP:20260421T175018
CREATED:20240815T180205Z
LAST-MODIFIED:20240815T180205Z
UID:10001956-1727182800-1727186400@events.ccc.edu
SUMMARY:Wright: Taco Tuesday - Coffee\, Churros\, and Crafts!
DESCRIPTION:
URL:https://events.ccc.edu/event/wright-taco-tuesday-coffee-churros-and-crafts/
CATEGORIES:Wilbur Wright
ATTACH;FMTTYPE=image/jpeg:https://events.ccc.edu/app/uploads/Hispanic-Heritage-Month_Calendar-Image_WW.jpg
END:VEVENT
BEGIN:VEVENT
DTSTART;TZID=America/Chicago:20240924T130000
DTEND;TZID=America/Chicago:20240924T160000
DTSTAMP:20260421T175018
CREATED:20240913T170210Z
LAST-MODIFIED:20240913T170210Z
UID:10002297-1727182800-1727193600@events.ccc.edu
SUMMARY:Wright: One-on-One Advising with DePaul University
DESCRIPTION:
URL:https://events.ccc.edu/event/wright-one-on-one-advising-with-depaul-university/
CATEGORIES:Wilbur Wright
ATTACH;FMTTYPE=image/png:https://events.ccc.edu/app/uploads/Transfer_Table_Per-College_WW.png
END:VEVENT
BEGIN:VEVENT
DTSTART;TZID=America/Chicago:20240924T140000
DTEND;TZID=America/Chicago:20240924T150000
DTSTAMP:20260421T175018
CREATED:20240913T170328Z
LAST-MODIFIED:20240913T170328Z
UID:10002298-1727186400-1727190000@events.ccc.edu
SUMMARY:Wright: Are You Ready to Transfer?
DESCRIPTION:
URL:https://events.ccc.edu/event/wright-are-you-ready-to-transfer/
CATEGORIES:Wilbur Wright
ATTACH;FMTTYPE=image/png:https://events.ccc.edu/app/uploads/Transfer_Per-College_WW.png
END:VEVENT
BEGIN:VEVENT
DTSTART;TZID=America/Chicago:20240925T100000
DTEND;TZID=America/Chicago:20240925T110000
DTSTAMP:20260421T175018
CREATED:20240829T194720Z
LAST-MODIFIED:20240829T194720Z
UID:10002168-1727258400-1727262000@events.ccc.edu
SUMMARY:Partners in Education Info Session
DESCRIPTION:
URL:https://events.ccc.edu/event/partners-in-education-info-session-56/
CATEGORIES:Harold Washington,Harry S Truman,Kennedy-King,Malcolm X,Olive-Harvey,Richard J. Daley,Wilbur Wright
ATTACH;FMTTYPE=image/jpeg:https://events.ccc.edu/app/uploads/CHA-Calendar-Image.jpg
END:VEVENT
BEGIN:VEVENT
DTSTART;TZID=America/Chicago:20240925T100000
DTEND;TZID=America/Chicago:20240925T130000
DTSTAMP:20260421T175018
CREATED:20240913T172137Z
LAST-MODIFIED:20240913T172137Z
UID:10002300-1727258400-1727269200@events.ccc.edu
SUMMARY:Wright: Illinois Tech Table Visit
DESCRIPTION:
URL:https://events.ccc.edu/event/wright-illinois-tech-table-visit-3/
CATEGORIES:Wilbur Wright
ATTACH;FMTTYPE=image/png:https://events.ccc.edu/app/uploads/Transfer_Table_Per-College_WW.png
END:VEVENT
BEGIN:VEVENT
DTSTART;TZID=America/Chicago:20240925T120000
DTEND;TZID=America/Chicago:20240925T130000
DTSTAMP:20260421T175018
CREATED:20240829T194702Z
LAST-MODIFIED:20240829T194702Z
UID:10002167-1727265600-1727269200@events.ccc.edu
SUMMARY:Partners in Education Info Session
DESCRIPTION:
URL:https://events.ccc.edu/event/partners-in-education-info-session-55/
CATEGORIES:Harold Washington,Harry S Truman,Kennedy-King,Malcolm X,Olive-Harvey,Richard J. Daley,Wilbur Wright
ATTACH;FMTTYPE=image/jpeg:https://events.ccc.edu/app/uploads/CHA-Calendar-Image.jpg
END:VEVENT
BEGIN:VEVENT
DTSTART;TZID=America/Chicago:20240925T140000
DTEND;TZID=America/Chicago:20240925T160000
DTSTAMP:20260421T175018
CREATED:20240913T172636Z
LAST-MODIFIED:20240913T172636Z
UID:10002302-1727272800-1727280000@events.ccc.edu
SUMMARY:Wright: One-on-One Advising with Illinois Tech
DESCRIPTION:
URL:https://events.ccc.edu/event/wright-one-on-one-advising-with-illinois-tech-2/
CATEGORIES:Wilbur Wright
ATTACH;FMTTYPE=image/png:https://events.ccc.edu/app/uploads/Transfer_Table_Per-College_WW.png
END:VEVENT
BEGIN:VEVENT
DTSTART;TZID=America/Chicago:20240925T160000
DTEND;TZID=America/Chicago:20240925T170000
DTSTAMP:20260421T175018
CREATED:20240916T205419Z
LAST-MODIFIED:20240916T205419Z
UID:10002304-1727280000-1727283600@events.ccc.edu
SUMMARY:City Colleges of Chicago Financial Capability Workshop
DESCRIPTION:
URL:https://events.ccc.edu/event/city-colleges-of-chicago-financial-capability-workshop-8/
CATEGORIES:District-wide,Harold Washington,Harry S Truman,Kennedy-King,Malcolm X,Olive-Harvey,Richard J. Daley,Wilbur Wright
ATTACH;FMTTYPE=image/jpeg:https://events.ccc.edu/app/uploads/Financial-Aid_Calendar.jpg
END:VEVENT
BEGIN:VEVENT
DTSTART;TZID=America/Chicago:20240925T163000
DTEND;TZID=America/Chicago:20240925T173000
DTSTAMP:20260421T175018
CREATED:20240916T205551Z
LAST-MODIFIED:20240916T205551Z
UID:10002305-1727281800-1727285400@events.ccc.edu
SUMMARY:Wright: Are You Ready to Transfer?
DESCRIPTION:
URL:https://events.ccc.edu/event/wright-are-you-ready-to-transfer-2/
CATEGORIES:Wilbur Wright
ATTACH;FMTTYPE=image/png:https://events.ccc.edu/app/uploads/Transfer_Per-College_WW.png
END:VEVENT
BEGIN:VEVENT
DTSTART;TZID=America/Chicago:20240926T100000
DTEND;TZID=America/Chicago:20240926T130000
DTSTAMP:20260421T175018
CREATED:20240911T202247Z
LAST-MODIFIED:20240911T202247Z
UID:10002288-1727344800-1727355600@events.ccc.edu
SUMMARY:Wright: UIC Transfer Day
DESCRIPTION:
URL:https://events.ccc.edu/event/wright-uic-transfer-day/
CATEGORIES:Wilbur Wright
ATTACH;FMTTYPE=image/png:https://events.ccc.edu/app/uploads/Transfer_Per-College_WW.png
END:VEVENT
BEGIN:VEVENT
DTSTART;TZID=America/Chicago:20240926T150000
DTEND;TZID=America/Chicago:20240926T160000
DTSTAMP:20260421T175018
CREATED:20240910T203405Z
LAST-MODIFIED:20240910T203405Z
UID:10002231-1727362800-1727366400@events.ccc.edu
SUMMARY:City Colleges of Chicago Financial Capability Workshop
DESCRIPTION:
URL:https://events.ccc.edu/event/city-colleges-of-chicago-financial-capability-workshop-2/
CATEGORIES:District-wide,Harold Washington,Harry S Truman,Kennedy-King,Malcolm X,Olive-Harvey,Richard J. Daley,Wilbur Wright
ATTACH;FMTTYPE=image/jpeg:https://events.ccc.edu/app/uploads/Financial-Aid_Calendar.jpg
END:VEVENT
BEGIN:VEVENT
DTSTART;TZID=America/Chicago:20240930T100000
DTEND;TZID=America/Chicago:20240930T130000
DTSTAMP:20260421T175018
CREATED:20240916T210253Z
LAST-MODIFIED:20240916T210253Z
UID:10002309-1727690400-1727701200@events.ccc.edu
SUMMARY:Wright: Loyola University Table Visit
DESCRIPTION:
URL:https://events.ccc.edu/event/wright-loyola-university-table-visit/
CATEGORIES:Wilbur Wright
ATTACH;FMTTYPE=image/png:https://events.ccc.edu/app/uploads/Transfer_Table_Per-College_WW.png
END:VEVENT
BEGIN:VEVENT
DTSTART;TZID=America/Chicago:20240930T100000
DTEND;TZID=America/Chicago:20240930T130000
DTSTAMP:20260421T175018
CREATED:20240916T211122Z
LAST-MODIFIED:20240916T211122Z
UID:10002313-1727690400-1727701200@events.ccc.edu
SUMMARY:Wright: Eastern Illinois University Table Visit
DESCRIPTION:
URL:https://events.ccc.edu/event/wright-eastern-illinois-university-table-visit/
CATEGORIES:Wilbur Wright
ATTACH;FMTTYPE=image/png:https://events.ccc.edu/app/uploads/Transfer_Table_Per-College_WW.png
END:VEVENT
BEGIN:VEVENT
DTSTART;TZID=America/Chicago:20241001T100000
DTEND;TZID=America/Chicago:20241001T130000
DTSTAMP:20260421T175018
CREATED:20240930T195606Z
LAST-MODIFIED:20240930T195606Z
UID:10002396-1727776800-1727787600@events.ccc.edu
SUMMARY:Wright: Dominican University Table Visit
DESCRIPTION:
URL:https://events.ccc.edu/event/wright-dominican-university-table-visit-6/
CATEGORIES:Wilbur Wright
ATTACH;FMTTYPE=image/png:https://events.ccc.edu/app/uploads/Transfer_Table_Per-College_WW.png
END:VEVENT
END:VCALENDAR