BEGIN:VCALENDAR
VERSION:2.0
PRODID:-//CCC - ECPv6.11.2//NONSGML v1.0//EN
CALSCALE:GREGORIAN
METHOD:PUBLISH
X-WR-CALNAME:CCC
X-ORIGINAL-URL:https://events.ccc.edu
X-WR-CALDESC:Events for CCC
REFRESH-INTERVAL;VALUE=DURATION:PT1H
X-Robots-Tag:noindex
X-PUBLISHED-TTL:PT1H
BEGIN:VTIMEZONE
TZID:America/Chicago
BEGIN:DAYLIGHT
TZOFFSETFROM:-0600
TZOFFSETTO:-0500
TZNAME:CDT
DTSTART:20240310T080000
END:DAYLIGHT
BEGIN:STANDARD
TZOFFSETFROM:-0500
TZOFFSETTO:-0600
TZNAME:CST
DTSTART:20241103T070000
END:STANDARD
END:VTIMEZONE
BEGIN:VEVENT
DTSTART;TZID=America/Chicago:20240822T100000
DTEND;TZID=America/Chicago:20240822T140000
DTSTAMP:20260423T040614
CREATED:20240813T214328Z
LAST-MODIFIED:20240813T214328Z
UID:10001924-1724320800-1724335200@events.ccc.edu
SUMMARY:Wright College: Landing Day!
DESCRIPTION:
URL:https://events.ccc.edu/event/wright-college-landing-day/
CATEGORIES:Wilbur Wright
ATTACH;FMTTYPE=image/jpeg:https://events.ccc.edu/app/uploads/WW_Stdnt_Act_02.jpg
END:VEVENT
BEGIN:VEVENT
DTSTART;TZID=America/Chicago:20240815T183000
DTEND;TZID=America/Chicago:20240815T193000
DTSTAMP:20260423T040614
CREATED:20240620T170937Z
LAST-MODIFIED:20240620T170937Z
UID:10001694-1723746600-1723750200@events.ccc.edu
SUMMARY:Partners in Education Info Session
DESCRIPTION:
URL:https://events.ccc.edu/event/partners-in-education-info-session-22/
CATEGORIES:District Office,District-wide,Harold Washington,Harry S Truman,Kennedy-King,Malcolm X,Olive-Harvey,Richard J. Daley,Wilbur Wright
ATTACH;FMTTYPE=image/jpeg:https://events.ccc.edu/app/uploads/CHA-Calendar-Image.jpg
END:VEVENT
BEGIN:VEVENT
DTSTART;TZID=America/Chicago:20240814T120000
DTEND;TZID=America/Chicago:20240814T130000
DTSTAMP:20260423T040614
CREATED:20240620T171006Z
LAST-MODIFIED:20240620T171006Z
UID:10001695-1723636800-1723640400@events.ccc.edu
SUMMARY:Partners in Education Info Session
DESCRIPTION:
URL:https://events.ccc.edu/event/partners-in-education-info-session-23/
CATEGORIES:District Office,District-wide,Harold Washington,Harry S Truman,Kennedy-King,Malcolm X,Olive-Harvey,Richard J. Daley,Wilbur Wright
ATTACH;FMTTYPE=image/jpeg:https://events.ccc.edu/app/uploads/CHA-Calendar-Image.jpg
END:VEVENT
BEGIN:VEVENT
DTSTART;TZID=America/Chicago:20240814T100000
DTEND;TZID=America/Chicago:20240814T110000
DTSTAMP:20260423T040614
CREATED:20240620T171043Z
LAST-MODIFIED:20240620T171043Z
UID:10001696-1723629600-1723633200@events.ccc.edu
SUMMARY:Partners in Education Info Session
DESCRIPTION:
URL:https://events.ccc.edu/event/partners-in-education-info-session-24/
CATEGORIES:District Office,District-wide,Harold Washington,Harry S Truman,Kennedy-King,Malcolm X,Olive-Harvey,Richard J. Daley,Wilbur Wright
ATTACH;FMTTYPE=image/jpeg:https://events.ccc.edu/app/uploads/CHA-Calendar-Image.jpg
END:VEVENT
BEGIN:VEVENT
DTSTART;TZID=America/Chicago:20240813T110000
DTEND;TZID=America/Chicago:20240813T120000
DTSTAMP:20260423T040614
CREATED:20240529T155815Z
LAST-MODIFIED:20240529T155815Z
UID:10001612-1723546800-1723550400@events.ccc.edu
SUMMARY:Wright: Campus Tour
DESCRIPTION:
URL:https://events.ccc.edu/event/wright-campus-tour-12/
CATEGORIES:Wilbur Wright
ATTACH;FMTTYPE=image/jpeg:https://events.ccc.edu/app/uploads/WW_Calendar-Image_01-e1715880201328-wC0vNw.tmp_.jpg
END:VEVENT
BEGIN:VEVENT
DTSTART;TZID=America/Chicago:20240808T170000
DTEND;TZID=America/Chicago:20240808T180000
DTSTAMP:20260423T040615
CREATED:20240529T160349Z
LAST-MODIFIED:20240529T160350Z
UID:10001613-1723136400-1723140000@events.ccc.edu
SUMMARY:Wright: Campus Tour
DESCRIPTION:
URL:https://events.ccc.edu/event/wright-campus-tour-13/
CATEGORIES:Wilbur Wright
ATTACH;FMTTYPE=image/jpeg:https://events.ccc.edu/app/uploads/WW_Calendar-Image_01-e1715880201328-wC0vNw.tmp_.jpg
END:VEVENT
BEGIN:VEVENT
DTSTART;TZID=America/Chicago:20240808T120000
DTEND;TZID=America/Chicago:20240808T160000
DTSTAMP:20260423T040615
CREATED:20240731T133828Z
LAST-MODIFIED:20240731T133828Z
UID:10001835-1723118400-1723132800@events.ccc.edu
SUMMARY:Wright: 2024-25 FAFSA Workshop
DESCRIPTION:
URL:https://events.ccc.edu/event/wright-2024-25-fafsa-workshop/
CATEGORIES:Wilbur Wright
ATTACH;FMTTYPE=image/jpeg:https://events.ccc.edu/app/uploads/Financial-Aid_Calendar.jpg
END:VEVENT
BEGIN:VEVENT
DTSTART;TZID=America/Chicago:20240807T120000
DTEND;TZID=America/Chicago:20240807T130000
DTSTAMP:20260423T040615
CREATED:20240620T171157Z
LAST-MODIFIED:20240620T171157Z
UID:10001697-1723032000-1723035600@events.ccc.edu
SUMMARY:Partners in Education Info Session
DESCRIPTION:
URL:https://events.ccc.edu/event/partners-in-education-info-session-25/
CATEGORIES:District Office,District-wide,Harold Washington,Harry S Truman,Kennedy-King,Malcolm X,Olive-Harvey,Richard J. Daley,Wilbur Wright
ATTACH;FMTTYPE=image/jpeg:https://events.ccc.edu/app/uploads/CHA-Calendar-Image.jpg
END:VEVENT
BEGIN:VEVENT
DTSTART;TZID=America/Chicago:20240807T100000
DTEND;TZID=America/Chicago:20240807T110000
DTSTAMP:20260423T040615
CREATED:20240620T171307Z
LAST-MODIFIED:20240620T171307Z
UID:10001698-1723024800-1723028400@events.ccc.edu
SUMMARY:Partners in Education Info Session
DESCRIPTION:
URL:https://events.ccc.edu/event/partners-in-education-info-session-26/
CATEGORIES:District Office,District-wide,Harold Washington,Harry S Truman,Kennedy-King,Malcolm X,Olive-Harvey,Richard J. Daley,Wilbur Wright
ATTACH;FMTTYPE=image/jpeg:https://events.ccc.edu/app/uploads/CHA-Calendar-Image.jpg
END:VEVENT
BEGIN:VEVENT
DTSTART;TZID=America/Chicago:20240801T183000
DTEND;TZID=America/Chicago:20240801T193000
DTSTAMP:20260423T040615
CREATED:20240620T171413Z
LAST-MODIFIED:20240620T171413Z
UID:10001699-1722537000-1722540600@events.ccc.edu
SUMMARY:Partners in Education Info Session
DESCRIPTION:
URL:https://events.ccc.edu/event/partners-in-education-info-session-27/
CATEGORIES:District Office,District-wide,Harold Washington,Harry S Truman,Kennedy-King,Malcolm X,Olive-Harvey,Richard J. Daley,Wilbur Wright
ATTACH;FMTTYPE=image/jpeg:https://events.ccc.edu/app/uploads/CHA-Calendar-Image.jpg
END:VEVENT
BEGIN:VEVENT
DTSTART;TZID=America/Chicago:20240731T120000
DTEND;TZID=America/Chicago:20240731T130000
DTSTAMP:20260423T040615
CREATED:20240620T171540Z
LAST-MODIFIED:20240620T171540Z
UID:10001700-1722427200-1722430800@events.ccc.edu
SUMMARY:Partners in Education Info Session
DESCRIPTION:
URL:https://events.ccc.edu/event/partners-in-education-info-session-28/
CATEGORIES:District Office,District-wide,Harold Washington,Harry S Truman,Kennedy-King,Malcolm X,Olive-Harvey,Richard J. Daley,Wilbur Wright
ATTACH;FMTTYPE=image/jpeg:https://events.ccc.edu/app/uploads/CHA-Calendar-Image.jpg
END:VEVENT
BEGIN:VEVENT
DTSTART;TZID=America/Chicago:20240731T100000
DTEND;TZID=America/Chicago:20240731T110000
DTSTAMP:20260423T040615
CREATED:20240701T142552Z
LAST-MODIFIED:20240701T142553Z
UID:10001701-1722420000-1722423600@events.ccc.edu
SUMMARY:Partners in Education Info Session
DESCRIPTION:
URL:https://events.ccc.edu/event/partners-in-educaion-info-session/
CATEGORIES:District Office,District-wide,Harold Washington,Harry S Truman,Kennedy-King,Malcolm X,Olive-Harvey,Richard J. Daley,Wilbur Wright
ATTACH;FMTTYPE=image/jpeg:https://events.ccc.edu/app/uploads/CHA-Calendar-Image.jpg
END:VEVENT
BEGIN:VEVENT
DTSTART;TZID=America/Chicago:20240730T130000
DTEND;TZID=America/Chicago:20240730T150000
DTSTAMP:20260423T040615
CREATED:20240709T172755Z
LAST-MODIFIED:20240709T172756Z
UID:10001723-1722344400-1722351600@events.ccc.edu
SUMMARY:Wright: Financial Aid Completion Workshop
DESCRIPTION:
URL:https://events.ccc.edu/event/wilbur-wright-financial-aid-completion-workshop/
CATEGORIES:Wilbur Wright
ATTACH;FMTTYPE=image/jpeg:https://events.ccc.edu/app/uploads/Financial-Aid_Calendar.jpg
END:VEVENT
BEGIN:VEVENT
DTSTART;TZID=America/Chicago:20240730T110000
DTEND;TZID=America/Chicago:20240730T120000
DTSTAMP:20260423T040615
CREATED:20240529T160429Z
LAST-MODIFIED:20240529T160429Z
UID:10001614-1722337200-1722340800@events.ccc.edu
SUMMARY:Wright: Campus Tour
DESCRIPTION:
URL:https://events.ccc.edu/event/wright-campus-tour-14/
CATEGORIES:Wilbur Wright
ATTACH;FMTTYPE=image/jpeg:https://events.ccc.edu/app/uploads/WW_Calendar-Image_01-e1715880201328-wC0vNw.tmp_.jpg
END:VEVENT
BEGIN:VEVENT
DTSTART;TZID=America/Chicago:20240726T100000
DTEND;TZID=America/Chicago:20240726T130000
DTSTAMP:20260423T040615
CREATED:20240709T172713Z
LAST-MODIFIED:20240709T172713Z
UID:10001724-1721988000-1721998800@events.ccc.edu
SUMMARY:Wright: Financial Aid Completion Workshop
DESCRIPTION:
URL:https://events.ccc.edu/event/wilbur-wright-financial-aid-completion-workshop-2/
CATEGORIES:Wilbur Wright
ATTACH;FMTTYPE=image/jpeg:https://events.ccc.edu/app/uploads/Financial-Aid_Calendar.jpg
END:VEVENT
BEGIN:VEVENT
DTSTART;TZID=America/Chicago:20240725T170000
DTEND;TZID=America/Chicago:20240725T180000
DTSTAMP:20260423T040615
CREATED:20240709T172635Z
LAST-MODIFIED:20240709T172635Z
UID:10001725-1721926800-1721930400@events.ccc.edu
SUMMARY:Wright: Satisfactory Academic Progress (SAP) Workshop
DESCRIPTION:
URL:https://events.ccc.edu/event/wright-satisfactory-academic-progress-sap-workshop/
CATEGORIES:Wilbur Wright
ATTACH;FMTTYPE=image/jpeg:https://events.ccc.edu/app/uploads/Financial-Aid_Calendar.jpg
END:VEVENT
BEGIN:VEVENT
DTSTART;TZID=America/Chicago:20240725T170000
DTEND;TZID=America/Chicago:20240725T180000
DTSTAMP:20260423T040615
CREATED:20240529T160519Z
LAST-MODIFIED:20240529T160519Z
UID:10001615-1721926800-1721930400@events.ccc.edu
SUMMARY:Wright: Campus Tour
DESCRIPTION:
URL:https://events.ccc.edu/event/wright-campus-tour-15/
CATEGORIES:Wilbur Wright
ATTACH;FMTTYPE=image/jpeg:https://events.ccc.edu/app/uploads/WW_Calendar-Image_02.jpg
END:VEVENT
BEGIN:VEVENT
DTSTART;TZID=America/Chicago:20240724T140000
DTEND;TZID=America/Chicago:20240724T160000
DTSTAMP:20260423T040615
CREATED:20240709T173354Z
LAST-MODIFIED:20240709T173354Z
UID:10001728-1721829600-1721836800@events.ccc.edu
SUMMARY:Wright: Financial Aid Completion Workshop
DESCRIPTION:
URL:https://events.ccc.edu/event/wright-financial-aid-completion-workshop-49/
CATEGORIES:Wilbur Wright
ATTACH;FMTTYPE=image/jpeg:https://events.ccc.edu/app/uploads/Financial-Aid_Calendar.jpg
END:VEVENT
BEGIN:VEVENT
DTSTART;TZID=America/Chicago:20240724T120000
DTEND;TZID=America/Chicago:20240724T130000
DTSTAMP:20260423T040615
CREATED:20240620T171709Z
LAST-MODIFIED:20240620T171709Z
UID:10001702-1721822400-1721826000@events.ccc.edu
SUMMARY:Partners in Education Info Session
DESCRIPTION:
URL:https://events.ccc.edu/event/partners-in-education-info-session-29/
CATEGORIES:District Office,District-wide,Harold Washington,Harry S Truman,Kennedy-King,Malcolm X,Olive-Harvey,Richard J. Daley,Wilbur Wright
ATTACH;FMTTYPE=image/jpeg:https://events.ccc.edu/app/uploads/CHA-Calendar-Image.jpg
END:VEVENT
BEGIN:VEVENT
DTSTART;TZID=America/Chicago:20240724T100000
DTEND;TZID=America/Chicago:20240724T110000
DTSTAMP:20260423T040615
CREATED:20240620T171810Z
LAST-MODIFIED:20240620T171810Z
UID:10001703-1721815200-1721818800@events.ccc.edu
SUMMARY:Partners in Education Info Session
DESCRIPTION:
URL:https://events.ccc.edu/event/partners-in-education-info-session-30/
CATEGORIES:District Office,District-wide,Harold Washington,Harry S Truman,Kennedy-King,Malcolm X,Olive-Harvey,Richard J. Daley,Wilbur Wright
ATTACH;FMTTYPE=image/jpeg:https://events.ccc.edu/app/uploads/CHA-Calendar-Image.jpg
END:VEVENT
BEGIN:VEVENT
DTSTART;TZID=America/Chicago:20240722T110000
DTEND;TZID=America/Chicago:20240722T130000
DTSTAMP:20260423T040615
CREATED:20240709T173815Z
LAST-MODIFIED:20240709T173815Z
UID:10001730-1721646000-1721653200@events.ccc.edu
SUMMARY:Wright: Financial Aid Completion Workshop
DESCRIPTION:
URL:https://events.ccc.edu/event/wright-financial-aid-completion-workshop-50/
CATEGORIES:Wilbur Wright
ATTACH;FMTTYPE=image/jpeg:https://events.ccc.edu/app/uploads/Financial-Aid_Calendar.jpg
END:VEVENT
BEGIN:VEVENT
DTSTART;TZID=America/Chicago:20240719T100000
DTEND;TZID=America/Chicago:20240719T130000
DTSTAMP:20260423T040615
CREATED:20240709T173930Z
LAST-MODIFIED:20240709T173930Z
UID:10001731-1721383200-1721394000@events.ccc.edu
SUMMARY:Wright: Financial Aid Completion Workshop
DESCRIPTION:
URL:https://events.ccc.edu/event/wright-financial-aid-completion-workshop-51/
CATEGORIES:Wilbur Wright
ATTACH;FMTTYPE=image/jpeg:https://events.ccc.edu/app/uploads/Financial-Aid_Calendar.jpg
END:VEVENT
BEGIN:VEVENT
DTSTART;TZID=America/Chicago:20240718T160000
DTEND;TZID=America/Chicago:20240718T180000
DTSTAMP:20260423T040615
CREATED:20240709T174137Z
LAST-MODIFIED:20240709T174137Z
UID:10001733-1721318400-1721325600@events.ccc.edu
SUMMARY:Wright: Financial Aid Completion Workshop
DESCRIPTION:
URL:https://events.ccc.edu/event/wright-financial-aid-completion-workshop-52/
CATEGORIES:Wilbur Wright
ATTACH;FMTTYPE=image/jpeg:https://events.ccc.edu/app/uploads/Financial-Aid_Calendar.jpg
END:VEVENT
BEGIN:VEVENT
DTSTART;TZID=America/Chicago:20240717T120000
DTEND;TZID=America/Chicago:20240717T130000
DTSTAMP:20260423T040615
CREATED:20240614T195318Z
LAST-MODIFIED:20240614T195318Z
UID:10001663-1721217600-1721221200@events.ccc.edu
SUMMARY:Partners in Education Info Session
DESCRIPTION:
URL:https://events.ccc.edu/event/partners-in-education-info-session-2/
CATEGORIES:District Office,District-wide,Harold Washington,Harry S Truman,Kennedy-King,Malcolm X,Olive-Harvey,Richard J. Daley,Wilbur Wright
ATTACH;FMTTYPE=image/jpeg:https://events.ccc.edu/app/uploads/CHA-Calendar-Image.jpg
END:VEVENT
BEGIN:VEVENT
DTSTART;TZID=America/Chicago:20240717T100000
DTEND;TZID=America/Chicago:20240717T110000
DTSTAMP:20260423T040615
CREATED:20240614T195405Z
LAST-MODIFIED:20240614T195405Z
UID:10001664-1721210400-1721214000@events.ccc.edu
SUMMARY:Partners in Education Info Session
DESCRIPTION:
URL:https://events.ccc.edu/event/partners-in-education-info-session-3/
CATEGORIES:District Office,District-wide,Harold Washington,Harry S Truman,Kennedy-King,Malcolm X,Olive-Harvey,Richard J. Daley,Wilbur Wright
ATTACH;FMTTYPE=image/jpeg:https://events.ccc.edu/app/uploads/CHA-Calendar-Image.jpg
END:VEVENT
BEGIN:VEVENT
DTSTART;TZID=America/Chicago:20240716T170000
DTEND;TZID=America/Chicago:20240716T210000
DTSTAMP:20260423T040615
CREATED:20240716T154305Z
LAST-MODIFIED:20240716T154305Z
UID:10001586-1721149200-1721163600@events.ccc.edu
SUMMARY:Microsoft Word\, Excel\, and PowerPoint Classes at Wilbur Wright College
DESCRIPTION:
URL:https://events.ccc.edu/event/microsoft-word-excel-and-powerpoint-classes-at-wilbur-wright-college/
CATEGORIES:Wilbur Wright
ATTACH;FMTTYPE=image/jpeg:https://events.ccc.edu/app/uploads/CE_Business.jpg
END:VEVENT
BEGIN:VEVENT
DTSTART;TZID=America/Chicago:20240716T130000
DTEND;TZID=America/Chicago:20240716T150000
DTSTAMP:20260423T040615
CREATED:20240709T174522Z
LAST-MODIFIED:20240709T174522Z
UID:10001736-1721134800-1721142000@events.ccc.edu
SUMMARY:Wright: Financial Aid Completion Workshop
DESCRIPTION:
URL:https://events.ccc.edu/event/wright-financial-aid-completion-workshop-53/
CATEGORIES:Wilbur Wright
ATTACH;FMTTYPE=image/jpeg:https://events.ccc.edu/app/uploads/Financial-Aid_Calendar.jpg
END:VEVENT
BEGIN:VEVENT
DTSTART;TZID=America/Chicago:20240716T110000
DTEND;TZID=America/Chicago:20240716T120000
DTSTAMP:20260423T040615
CREATED:20240529T160556Z
LAST-MODIFIED:20240529T160556Z
UID:10001616-1721127600-1721131200@events.ccc.edu
SUMMARY:Wright: Campus Tour
DESCRIPTION:
URL:https://events.ccc.edu/event/wright-campus-tour-16/
CATEGORIES:Wilbur Wright
ATTACH;FMTTYPE=image/jpeg:https://events.ccc.edu/app/uploads/WW_Calendar-Image_02.jpg
END:VEVENT
BEGIN:VEVENT
DTSTART;TZID=America/Chicago:20240711T183000
DTEND;TZID=America/Chicago:20240711T193000
DTSTAMP:20260423T040615
CREATED:20240614T195453Z
LAST-MODIFIED:20240614T195453Z
UID:10001665-1720722600-1720726200@events.ccc.edu
SUMMARY:Partners in Education Info Session
DESCRIPTION:
URL:https://events.ccc.edu/event/partners-in-education-info-session-4/
CATEGORIES:District Office,District-wide,Harold Washington,Harry S Truman,Kennedy-King,Malcolm X,Olive-Harvey,Richard J. Daley,Wilbur Wright
ATTACH;FMTTYPE=image/jpeg:https://events.ccc.edu/app/uploads/CHA-Calendar-Image.jpg
END:VEVENT
BEGIN:VEVENT
DTSTART;TZID=America/Chicago:20240711T170000
DTEND;TZID=America/Chicago:20240711T180000
DTSTAMP:20260423T040615
CREATED:20240709T174809Z
LAST-MODIFIED:20240709T174809Z
UID:10001737-1720717200-1720720800@events.ccc.edu
SUMMARY:Wright: Satisfactory Academic Progress (SAP) Workshop
DESCRIPTION:
URL:https://events.ccc.edu/event/wright-satisfactory-academic-progress-sap-workshop-2/
CATEGORIES:Wilbur Wright
ATTACH;FMTTYPE=image/jpeg:https://events.ccc.edu/app/uploads/Financial-Aid_Calendar.jpg
END:VEVENT
END:VCALENDAR