BEGIN:VCALENDAR
VERSION:2.0
PRODID:-//CCC - ECPv6.11.2//NONSGML v1.0//EN
CALSCALE:GREGORIAN
METHOD:PUBLISH
X-WR-CALNAME:CCC
X-ORIGINAL-URL:https://events.ccc.edu
X-WR-CALDESC:Events for CCC
REFRESH-INTERVAL;VALUE=DURATION:PT1H
X-Robots-Tag:noindex
X-PUBLISHED-TTL:PT1H
BEGIN:VTIMEZONE
TZID:America/Chicago
BEGIN:DAYLIGHT
TZOFFSETFROM:-0600
TZOFFSETTO:-0500
TZNAME:CDT
DTSTART:20240310T080000
END:DAYLIGHT
BEGIN:STANDARD
TZOFFSETFROM:-0500
TZOFFSETTO:-0600
TZNAME:CST
DTSTART:20241103T070000
END:STANDARD
END:VTIMEZONE
BEGIN:VEVENT
DTSTART;TZID=America/Chicago:20240722T110000
DTEND;TZID=America/Chicago:20240722T130000
DTSTAMP:20260423T052359
CREATED:20240709T173815Z
LAST-MODIFIED:20240709T173815Z
UID:10001730-1721646000-1721653200@events.ccc.edu
SUMMARY:Wright: Financial Aid Completion Workshop
DESCRIPTION:
URL:https://events.ccc.edu/event/wright-financial-aid-completion-workshop-50/
CATEGORIES:Wilbur Wright
ATTACH;FMTTYPE=image/jpeg:https://events.ccc.edu/app/uploads/Financial-Aid_Calendar.jpg
END:VEVENT
BEGIN:VEVENT
DTSTART;TZID=America/Chicago:20240719T100000
DTEND;TZID=America/Chicago:20240719T130000
DTSTAMP:20260423T052359
CREATED:20240709T173930Z
LAST-MODIFIED:20240709T173930Z
UID:10001731-1721383200-1721394000@events.ccc.edu
SUMMARY:Wright: Financial Aid Completion Workshop
DESCRIPTION:
URL:https://events.ccc.edu/event/wright-financial-aid-completion-workshop-51/
CATEGORIES:Wilbur Wright
ATTACH;FMTTYPE=image/jpeg:https://events.ccc.edu/app/uploads/Financial-Aid_Calendar.jpg
END:VEVENT
BEGIN:VEVENT
DTSTART;TZID=America/Chicago:20240718T160000
DTEND;TZID=America/Chicago:20240718T180000
DTSTAMP:20260423T052359
CREATED:20240709T174137Z
LAST-MODIFIED:20240709T174137Z
UID:10001733-1721318400-1721325600@events.ccc.edu
SUMMARY:Wright: Financial Aid Completion Workshop
DESCRIPTION:
URL:https://events.ccc.edu/event/wright-financial-aid-completion-workshop-52/
CATEGORIES:Wilbur Wright
ATTACH;FMTTYPE=image/jpeg:https://events.ccc.edu/app/uploads/Financial-Aid_Calendar.jpg
END:VEVENT
BEGIN:VEVENT
DTSTART;TZID=America/Chicago:20240717T120000
DTEND;TZID=America/Chicago:20240717T130000
DTSTAMP:20260423T052359
CREATED:20240614T195318Z
LAST-MODIFIED:20240614T195318Z
UID:10001663-1721217600-1721221200@events.ccc.edu
SUMMARY:Partners in Education Info Session
DESCRIPTION:
URL:https://events.ccc.edu/event/partners-in-education-info-session-2/
CATEGORIES:District Office,District-wide,Harold Washington,Harry S Truman,Kennedy-King,Malcolm X,Olive-Harvey,Richard J. Daley,Wilbur Wright
ATTACH;FMTTYPE=image/jpeg:https://events.ccc.edu/app/uploads/CHA-Calendar-Image.jpg
END:VEVENT
BEGIN:VEVENT
DTSTART;TZID=America/Chicago:20240717T100000
DTEND;TZID=America/Chicago:20240717T110000
DTSTAMP:20260423T052359
CREATED:20240614T195405Z
LAST-MODIFIED:20240614T195405Z
UID:10001664-1721210400-1721214000@events.ccc.edu
SUMMARY:Partners in Education Info Session
DESCRIPTION:
URL:https://events.ccc.edu/event/partners-in-education-info-session-3/
CATEGORIES:District Office,District-wide,Harold Washington,Harry S Truman,Kennedy-King,Malcolm X,Olive-Harvey,Richard J. Daley,Wilbur Wright
ATTACH;FMTTYPE=image/jpeg:https://events.ccc.edu/app/uploads/CHA-Calendar-Image.jpg
END:VEVENT
BEGIN:VEVENT
DTSTART;TZID=America/Chicago:20240716T170000
DTEND;TZID=America/Chicago:20240716T210000
DTSTAMP:20260423T052359
CREATED:20240716T154305Z
LAST-MODIFIED:20240716T154305Z
UID:10001586-1721149200-1721163600@events.ccc.edu
SUMMARY:Microsoft Word\, Excel\, and PowerPoint Classes at Wilbur Wright College
DESCRIPTION:
URL:https://events.ccc.edu/event/microsoft-word-excel-and-powerpoint-classes-at-wilbur-wright-college/
CATEGORIES:Wilbur Wright
ATTACH;FMTTYPE=image/jpeg:https://events.ccc.edu/app/uploads/CE_Business.jpg
END:VEVENT
BEGIN:VEVENT
DTSTART;TZID=America/Chicago:20240716T130000
DTEND;TZID=America/Chicago:20240716T150000
DTSTAMP:20260423T052359
CREATED:20240709T174522Z
LAST-MODIFIED:20240709T174522Z
UID:10001736-1721134800-1721142000@events.ccc.edu
SUMMARY:Wright: Financial Aid Completion Workshop
DESCRIPTION:
URL:https://events.ccc.edu/event/wright-financial-aid-completion-workshop-53/
CATEGORIES:Wilbur Wright
ATTACH;FMTTYPE=image/jpeg:https://events.ccc.edu/app/uploads/Financial-Aid_Calendar.jpg
END:VEVENT
BEGIN:VEVENT
DTSTART;TZID=America/Chicago:20240716T110000
DTEND;TZID=America/Chicago:20240716T120000
DTSTAMP:20260423T052359
CREATED:20240529T160556Z
LAST-MODIFIED:20240529T160556Z
UID:10001616-1721127600-1721131200@events.ccc.edu
SUMMARY:Wright: Campus Tour
DESCRIPTION:
URL:https://events.ccc.edu/event/wright-campus-tour-16/
CATEGORIES:Wilbur Wright
ATTACH;FMTTYPE=image/jpeg:https://events.ccc.edu/app/uploads/WW_Calendar-Image_02.jpg
END:VEVENT
BEGIN:VEVENT
DTSTART;TZID=America/Chicago:20240711T183000
DTEND;TZID=America/Chicago:20240711T193000
DTSTAMP:20260423T052359
CREATED:20240614T195453Z
LAST-MODIFIED:20240614T195453Z
UID:10001665-1720722600-1720726200@events.ccc.edu
SUMMARY:Partners in Education Info Session
DESCRIPTION:
URL:https://events.ccc.edu/event/partners-in-education-info-session-4/
CATEGORIES:District Office,District-wide,Harold Washington,Harry S Truman,Kennedy-King,Malcolm X,Olive-Harvey,Richard J. Daley,Wilbur Wright
ATTACH;FMTTYPE=image/jpeg:https://events.ccc.edu/app/uploads/CHA-Calendar-Image.jpg
END:VEVENT
BEGIN:VEVENT
DTSTART;TZID=America/Chicago:20240711T170000
DTEND;TZID=America/Chicago:20240711T180000
DTSTAMP:20260423T052359
CREATED:20240709T174809Z
LAST-MODIFIED:20240709T174809Z
UID:10001737-1720717200-1720720800@events.ccc.edu
SUMMARY:Wright: Satisfactory Academic Progress (SAP) Workshop
DESCRIPTION:
URL:https://events.ccc.edu/event/wright-satisfactory-academic-progress-sap-workshop-2/
CATEGORIES:Wilbur Wright
ATTACH;FMTTYPE=image/jpeg:https://events.ccc.edu/app/uploads/Financial-Aid_Calendar.jpg
END:VEVENT
BEGIN:VEVENT
DTSTART;TZID=America/Chicago:20240711T170000
DTEND;TZID=America/Chicago:20240711T180000
DTSTAMP:20260423T052359
CREATED:20240529T160747Z
LAST-MODIFIED:20240529T160747Z
UID:10001618-1720717200-1720720800@events.ccc.edu
SUMMARY:Wright: Campus Tour
DESCRIPTION:
URL:https://events.ccc.edu/event/wright-campus-tour-17/
CATEGORIES:Wilbur Wright
ATTACH;FMTTYPE=image/jpeg:https://events.ccc.edu/app/uploads/WW_Calendar-Image_02.jpg
END:VEVENT
BEGIN:VEVENT
DTSTART;TZID=America/Chicago:20240710T140000
DTEND;TZID=America/Chicago:20240710T160000
DTSTAMP:20260423T052359
CREATED:20240709T175233Z
LAST-MODIFIED:20240709T175233Z
UID:10001739-1720620000-1720627200@events.ccc.edu
SUMMARY:Wright: Financial Aid Completion Workshop
DESCRIPTION:
URL:https://events.ccc.edu/event/wright-financial-aid-completion-workshop-54/
CATEGORIES:Wilbur Wright
ATTACH;FMTTYPE=image/jpeg:https://events.ccc.edu/app/uploads/Financial-Aid_Calendar.jpg
END:VEVENT
BEGIN:VEVENT
DTSTART;TZID=America/Chicago:20240710T120000
DTEND;TZID=America/Chicago:20240710T130000
DTSTAMP:20260423T052359
CREATED:20240614T195531Z
LAST-MODIFIED:20240614T195531Z
UID:10001666-1720612800-1720616400@events.ccc.edu
SUMMARY:Partners in Education Info Session
DESCRIPTION:
URL:https://events.ccc.edu/event/partners-in-education-info-session-5/
CATEGORIES:District Office,District-wide,Harold Washington,Harry S Truman,Kennedy-King,Malcolm X,Olive-Harvey,Richard J. Daley,Wilbur Wright
ATTACH;FMTTYPE=image/jpeg:https://events.ccc.edu/app/uploads/CHA-Calendar-Image.jpg
END:VEVENT
BEGIN:VEVENT
DTSTART;TZID=America/Chicago:20240710T100000
DTEND;TZID=America/Chicago:20240710T110000
DTSTAMP:20260423T052359
CREATED:20240614T195657Z
LAST-MODIFIED:20240614T195658Z
UID:10001667-1720605600-1720609200@events.ccc.edu
SUMMARY:Partners in Education Info Session
DESCRIPTION:
URL:https://events.ccc.edu/event/partners-in-education-info-session-6/
CATEGORIES:District Office,District-wide,Harold Washington,Harry S Truman,Kennedy-King,Malcolm X,Olive-Harvey,Richard J. Daley,Wilbur Wright
ATTACH;FMTTYPE=image/jpeg:https://events.ccc.edu/app/uploads/CHA-Calendar-Image.jpg
END:VEVENT
BEGIN:VEVENT
DTSTART;TZID=America/Chicago:20240709T180000
DTEND;TZID=America/Chicago:20240709T194500
DTSTAMP:20260423T052359
CREATED:20240528T201729Z
LAST-MODIFIED:20250623T165548Z
UID:10001611-1720548000-1720554300@events.ccc.edu
SUMMARY:Wright: Notary Signing Agent Training
DESCRIPTION:
URL:https://colleges.ccc.edu/event/wright-notary-training/
CATEGORIES:Wilbur Wright
ATTACH;FMTTYPE=image/jpeg:https://events.ccc.edu/app/uploads/CE_Business.jpg
END:VEVENT
BEGIN:VEVENT
DTSTART;TZID=America/Chicago:20240629T100000
DTEND;TZID=America/Chicago:20240629T110000
DTSTAMP:20260423T052359
CREATED:20240529T160836Z
LAST-MODIFIED:20240529T160836Z
UID:10001619-1719655200-1719658800@events.ccc.edu
SUMMARY:Wright: Campus Tour & Application Workshop
DESCRIPTION:
URL:https://events.ccc.edu/event/wright-campus-tour-application-workshop/
CATEGORIES:Wilbur Wright
ATTACH;FMTTYPE=image/jpeg:https://events.ccc.edu/app/uploads/WW_Calendar-Image_01-e1715880201328-wC0vNw.tmp_.jpg
END:VEVENT
BEGIN:VEVENT
DTSTART;TZID=America/Chicago:20240628T100000
DTEND;TZID=America/Chicago:20240628T130000
DTSTAMP:20260423T052359
CREATED:20240531T191635Z
LAST-MODIFIED:20240531T191635Z
UID:10001629-1719568800-1719579600@events.ccc.edu
SUMMARY:Wright: Financial Aid Completion Workshop
DESCRIPTION:
URL:https://events.ccc.edu/event/wright-financial-aid-completion-workshop-37/
CATEGORIES:Wilbur Wright
ATTACH;FMTTYPE=image/jpeg:https://events.ccc.edu/app/uploads/Financial-Aid_Calendar.jpg
END:VEVENT
BEGIN:VEVENT
DTSTART;TZID=America/Chicago:20240628T100000
DTEND;TZID=America/Chicago:20240628T130000
DTSTAMP:20260423T052359
CREATED:20240531T191626Z
LAST-MODIFIED:20240531T191626Z
UID:10001628-1719568800-1719579600@events.ccc.edu
SUMMARY:Wright: Financial Aid Completion Workshop
DESCRIPTION:
URL:https://events.ccc.edu/event/wright-financial-aid-completion-workshop-36/
CATEGORIES:Wilbur Wright
ATTACH;FMTTYPE=image/jpeg:https://events.ccc.edu/app/uploads/Financial-Aid_Calendar.jpg
END:VEVENT
BEGIN:VEVENT
DTSTART;TZID=America/Chicago:20240627T183000
DTEND;TZID=America/Chicago:20240627T193000
DTSTAMP:20260423T052359
CREATED:20240614T195738Z
LAST-MODIFIED:20240614T195738Z
UID:10001668-1719513000-1719516600@events.ccc.edu
SUMMARY:Partners in Education Info Session
DESCRIPTION:
URL:https://events.ccc.edu/event/partners-in-education-info-session-7/
CATEGORIES:District Office,District-wide,Harold Washington,Harry S Truman,Kennedy-King,Malcolm X,Olive-Harvey,Richard J. Daley,Wilbur Wright
ATTACH;FMTTYPE=image/jpeg:https://events.ccc.edu/app/uploads/CHA-Calendar-Image.jpg
END:VEVENT
BEGIN:VEVENT
DTSTART;TZID=America/Chicago:20240626T140000
DTEND;TZID=America/Chicago:20240626T160000
DTSTAMP:20260423T052359
CREATED:20240531T191728Z
LAST-MODIFIED:20240531T191728Z
UID:10001630-1719410400-1719417600@events.ccc.edu
SUMMARY:Wright: Financial Aid Completion Workshop
DESCRIPTION:
URL:https://events.ccc.edu/event/wright-financial-aid-completion-workshop-38/
CATEGORIES:Wilbur Wright
ATTACH;FMTTYPE=image/jpeg:https://events.ccc.edu/app/uploads/Financial-Aid_Calendar.jpg
END:VEVENT
BEGIN:VEVENT
DTSTART;TZID=America/Chicago:20240626T120000
DTEND;TZID=America/Chicago:20240626T130000
DTSTAMP:20260423T052359
CREATED:20240614T195812Z
LAST-MODIFIED:20240614T195812Z
UID:10001669-1719403200-1719406800@events.ccc.edu
SUMMARY:Partners in Education Info Session
DESCRIPTION:
URL:https://events.ccc.edu/event/partners-in-education-info-session-8/
CATEGORIES:District Office,District-wide,Harold Washington,Harry S Truman,Kennedy-King,Malcolm X,Olive-Harvey,Richard J. Daley,Wilbur Wright
ATTACH;FMTTYPE=image/jpeg:https://events.ccc.edu/app/uploads/CHA-Calendar-Image.jpg
END:VEVENT
BEGIN:VEVENT
DTSTART;TZID=America/Chicago:20240626T100000
DTEND;TZID=America/Chicago:20240626T110000
DTSTAMP:20260423T052359
CREATED:20240614T195915Z
LAST-MODIFIED:20240614T195915Z
UID:10001670-1719396000-1719399600@events.ccc.edu
SUMMARY:Partners in Education Info Session
DESCRIPTION:
URL:https://events.ccc.edu/event/partners-in-education-info-session-9/
CATEGORIES:District Office,District-wide,Harold Washington,Harry S Truman,Kennedy-King,Malcolm X,Olive-Harvey,Richard J. Daley,Wilbur Wright
ATTACH;FMTTYPE=image/jpeg:https://events.ccc.edu/app/uploads/CHA-Calendar-Image.jpg
END:VEVENT
BEGIN:VEVENT
DTSTART;TZID=America/Chicago:20240625T110000
DTEND;TZID=America/Chicago:20240625T120000
DTSTAMP:20260423T052359
CREATED:20240529T161112Z
LAST-MODIFIED:20240529T161112Z
UID:10001621-1719313200-1719316800@events.ccc.edu
SUMMARY:Wright: Campus Tour
DESCRIPTION:
URL:https://events.ccc.edu/event/wright-campus-tour-18/
CATEGORIES:Wilbur Wright
ATTACH;FMTTYPE=image/jpeg:https://events.ccc.edu/app/uploads/WW_Calendar-Image_01-e1715880201328-wC0vNw.tmp_.jpg
END:VEVENT
BEGIN:VEVENT
DTSTART;TZID=America/Chicago:20240624T110000
DTEND;TZID=America/Chicago:20240624T130000
DTSTAMP:20260423T052359
CREATED:20240531T191813Z
LAST-MODIFIED:20240531T191813Z
UID:10001631-1719226800-1719234000@events.ccc.edu
SUMMARY:Wright: Financial Aid Completion Workshop
DESCRIPTION:
URL:https://events.ccc.edu/event/wright-financial-aid-completion-workshop-39/
CATEGORIES:Wilbur Wright
ATTACH;FMTTYPE=image/jpeg:https://events.ccc.edu/app/uploads/Financial-Aid_Calendar.jpg
END:VEVENT
BEGIN:VEVENT
DTSTART;TZID=America/Chicago:20240622T090000
DTEND;TZID=America/Chicago:20240622T120000
DTSTAMP:20260423T052359
CREATED:20240531T191931Z
LAST-MODIFIED:20240531T191932Z
UID:10001632-1719046800-1719057600@events.ccc.edu
SUMMARY:Wright: Family Financial Aid Completion Day
DESCRIPTION:
URL:https://events.ccc.edu/event/wright-family-financial-aid-completion-day/
CATEGORIES:Wilbur Wright
ATTACH;FMTTYPE=image/jpeg:https://events.ccc.edu/app/uploads/Financial-Aid_Calendar.jpg
END:VEVENT
BEGIN:VEVENT
DTSTART;TZID=America/Chicago:20240621T130000
DTEND;TZID=America/Chicago:20240621T150000
DTSTAMP:20260423T052359
CREATED:20240523T161959Z
LAST-MODIFIED:20240523T161959Z
UID:10001609-1718974800-1718982000@events.ccc.edu
SUMMARY:Wright: Forklift Training with National Safety Council Credential Included
DESCRIPTION:
URL:https://events.ccc.edu/event/wright-forklift-training-with-national-safety-council-credential-included/
CATEGORIES:Wilbur Wright
ATTACH;FMTTYPE=image/jpeg:https://events.ccc.edu/app/uploads/CE_TDL.jpg
END:VEVENT
BEGIN:VEVENT
DTSTART;TZID=America/Chicago:20240621T100000
DTEND;TZID=America/Chicago:20240621T130000
DTSTAMP:20260423T052359
CREATED:20240531T192134Z
LAST-MODIFIED:20240531T192134Z
UID:10001633-1718964000-1718974800@events.ccc.edu
SUMMARY:Wright: Financial Aid Completion Workshop
DESCRIPTION:
URL:https://events.ccc.edu/event/wright-financial-aid-completion-workshop-40/
CATEGORIES:Wilbur Wright
ATTACH;FMTTYPE=image/jpeg:https://events.ccc.edu/app/uploads/Financial-Aid_Calendar.jpg
END:VEVENT
BEGIN:VEVENT
DTSTART;TZID=America/Chicago:20240620T170000
DTEND;TZID=America/Chicago:20240620T180000
DTSTAMP:20260423T052359
CREATED:20240529T161218Z
LAST-MODIFIED:20240529T161218Z
UID:10001622-1718902800-1718906400@events.ccc.edu
SUMMARY:Wright: Campus Tour
DESCRIPTION:
URL:https://events.ccc.edu/event/wright-campus-tour-19/
CATEGORIES:Wilbur Wright
ATTACH;FMTTYPE=image/jpeg:https://events.ccc.edu/app/uploads/WW_Calendar-Image_01-e1715880201328-wC0vNw.tmp_.jpg
END:VEVENT
BEGIN:VEVENT
DTSTART;TZID=America/Chicago:20240620T160000
DTEND;TZID=America/Chicago:20240620T190000
DTSTAMP:20260423T052359
CREATED:20240531T192219Z
LAST-MODIFIED:20240531T192219Z
UID:10001634-1718899200-1718910000@events.ccc.edu
SUMMARY:Wright: Financial Aid Completion Workshop
DESCRIPTION:
URL:https://events.ccc.edu/event/wright-financial-aid-completion-workshop-41/
CATEGORIES:Wilbur Wright
ATTACH;FMTTYPE=image/jpeg:https://events.ccc.edu/app/uploads/Financial-Aid_Calendar.jpg
END:VEVENT
BEGIN:VEVENT
DTSTART;TZID=America/Chicago:20240618T130000
DTEND;TZID=America/Chicago:20240618T150000
DTSTAMP:20260423T052359
CREATED:20240531T192256Z
LAST-MODIFIED:20240531T192256Z
UID:10001635-1718715600-1718722800@events.ccc.edu
SUMMARY:Wright: Financial Aid Completion Workshop
DESCRIPTION:
URL:https://events.ccc.edu/event/wright-financial-aid-completion-workshop-42/
CATEGORIES:Wilbur Wright
ATTACH;FMTTYPE=image/jpeg:https://events.ccc.edu/app/uploads/Financial-Aid_Calendar.jpg
END:VEVENT
END:VCALENDAR