BEGIN:VCALENDAR
VERSION:2.0
PRODID:-//CCC - ECPv6.11.2//NONSGML v1.0//EN
CALSCALE:GREGORIAN
METHOD:PUBLISH
X-ORIGINAL-URL:https://events.ccc.edu
X-WR-CALDESC:Events for CCC
REFRESH-INTERVAL;VALUE=DURATION:PT1H
X-Robots-Tag:noindex
X-PUBLISHED-TTL:PT1H
BEGIN:VTIMEZONE
TZID:America/Chicago
BEGIN:DAYLIGHT
TZOFFSETFROM:-0600
TZOFFSETTO:-0500
TZNAME:CDT
DTSTART:20250309T080000
END:DAYLIGHT
BEGIN:STANDARD
TZOFFSETFROM:-0500
TZOFFSETTO:-0600
TZNAME:CST
DTSTART:20251102T070000
END:STANDARD
END:VTIMEZONE
BEGIN:VEVENT
DTSTART;TZID=America/Chicago:20250130T183000
DTEND;TZID=America/Chicago:20250130T193000
DTSTAMP:20260421T162350
CREATED:20241209T201754Z
LAST-MODIFIED:20241209T201754Z
UID:10002799-1738261800-1738265400@events.ccc.edu
SUMMARY:Partners in Education Info Session
DESCRIPTION:
URL:https://events.ccc.edu/event/partners-in-education-info-session-62/
CATEGORIES:District-wide,Harold Washington,Harry S Truman,Kennedy-King,Malcolm X,Olive-Harvey,Richard J. Daley,Wilbur Wright
ATTACH;FMTTYPE=image/jpeg:https://events.ccc.edu/app/uploads/CHA-Calendar-Image.jpg
END:VEVENT
BEGIN:VEVENT
DTSTART;TZID=America/Chicago:20250131T130000
DTEND;TZID=America/Chicago:20250131T140000
DTSTAMP:20260421T162350
CREATED:20250113T173005Z
LAST-MODIFIED:20250113T173005Z
UID:10003154-1738328400-1738332000@events.ccc.edu
SUMMARY:Earn and Learn Information Session
DESCRIPTION:
URL:https://events.ccc.edu/event/earn-and-learn-information-session-11/
CATEGORIES:District-wide,Harold Washington,Harry S Truman,Kennedy-King,Malcolm X,Olive-Harvey,Richard J. Daley,Wilbur Wright
ATTACH;FMTTYPE=image/png:https://events.ccc.edu/app/uploads/CalendarImage_CareerCenter_4_DO.png
END:VEVENT
BEGIN:VEVENT
DTSTART;TZID=America/Chicago:20250131T133000
DTEND;TZID=America/Chicago:20250131T150000
DTSTAMP:20260421T162350
CREATED:20250129T151625Z
LAST-MODIFIED:20250129T151625Z
UID:10003457-1738330200-1738335600@events.ccc.edu
SUMMARY:Know Your Rights Training (Virtual)
DESCRIPTION:
URL:https://events.ccc.edu/event/know-your-rights-training-virtual/
CATEGORIES:District-wide,Harold Washington,Harry S Truman,Kennedy-King,Malcolm X,Olive-Harvey,Richard J. Daley,Wilbur Wright
ATTACH;FMTTYPE=image/jpeg:https://events.ccc.edu/app/uploads/DO_Calendar-Image_01-e1709153611957-wuAWoR.tmp_.jpg
END:VEVENT
BEGIN:VEVENT
DTSTART;TZID=America/Chicago:20250203T140000
DTEND;TZID=America/Chicago:20250203T150000
DTSTAMP:20260421T162350
CREATED:20241216T220310Z
LAST-MODIFIED:20241216T220310Z
UID:10002902-1738591200-1738594800@events.ccc.edu
SUMMARY:Truman: Transfer 101 Workshop - Computer Science/ Engineering Majors
DESCRIPTION:
URL:https://events.ccc.edu/event/truman-transfer-101-workshop-computer-science-engineering-majors-2/
CATEGORIES:District-wide,Harold Washington,Harry S Truman,Kennedy-King,Malcolm X,Olive-Harvey,Richard J. Daley,Wilbur Wright
ATTACH;FMTTYPE=image/png:https://events.ccc.edu/app/uploads/Transfer_Per-College_HT.png
END:VEVENT
BEGIN:VEVENT
DTSTART;TZID=America/Chicago:20250204T140000
DTEND;TZID=America/Chicago:20250204T150000
DTSTAMP:20260421T162350
CREATED:20250108T212936Z
LAST-MODIFIED:20250117T203111Z
UID:10003059-1738677600-1738681200@events.ccc.edu
SUMMARY:Wright: Taco Tuesday Black History Month Kickoff
DESCRIPTION:
URL:https://events.ccc.edu/event/wright-taco-tuesday-black-history-month-kickoff/
CATEGORIES:Wilbur Wright
ATTACH;FMTTYPE=image/jpeg:https://events.ccc.edu/app/uploads/BHM-Calendar_WW.jpg
END:VEVENT
BEGIN:VEVENT
DTSTART;TZID=America/Chicago:20250205T140000
DTEND;TZID=America/Chicago:20250205T150000
DTSTAMP:20260421T162350
CREATED:20241216T215853Z
LAST-MODIFIED:20241216T215853Z
UID:10002900-1738764000-1738767600@events.ccc.edu
SUMMARY:Northeastern Illinois University Information Session (Virtual)
DESCRIPTION:
URL:https://events.ccc.edu/event/northeastern-illinois-university-information-session-virtual/
CATEGORIES:District-wide,Harold Washington,Harry S Truman,Kennedy-King,Malcolm X,Olive-Harvey,Richard J. Daley,Wilbur Wright
ATTACH;FMTTYPE=image/jpeg:https://events.ccc.edu/app/uploads/Transfer_01.jpg
END:VEVENT
BEGIN:VEVENT
DTSTART;TZID=America/Chicago:20250205T173000
DTEND;TZID=America/Chicago:20250205T190000
DTSTAMP:20260421T162350
CREATED:20250109T204026Z
LAST-MODIFIED:20250109T204026Z
UID:10003086-1738776600-1738782000@events.ccc.edu
SUMMARY:Workshop for Parents of City Colleges Students (CPS Class of 2024 and 2025) | Taller para Padres de Estudiantes del City Colleges (Clase CPS 2024 y 2025)
DESCRIPTION:
URL:https://events.ccc.edu/event/workshop-for-parents-of-city-colleges-students-cps-class-of-2024-and-2025-taller-para-padres-de-estudiantes-del-city-colleges-clase-cps-2024-y-2025-2/
CATEGORIES:District-wide,Harold Washington,Harry S Truman,Kennedy-King,Malcolm X,Olive-Harvey,Richard J. Daley,Wilbur Wright
ATTACH;FMTTYPE=image/jpeg:https://events.ccc.edu/app/uploads/DO_Calendar-Image_01-e1709153611957-wuAWoR.tmp_.jpg
END:VEVENT
BEGIN:VEVENT
DTSTART;TZID=America/Chicago:20250206T130000
DTEND;TZID=America/Chicago:20250206T160000
DTSTAMP:20260421T162350
CREATED:20250206T211645Z
LAST-MODIFIED:20250206T211645Z
UID:10003590-1738846800-1738857600@events.ccc.edu
SUMMARY:Wright: Columbia College Chicago Table Visit
DESCRIPTION:
URL:https://events.ccc.edu/event/wright-columbia-college-chicago-table-visit-5/
CATEGORIES:Wilbur Wright
ATTACH;FMTTYPE=image/png:https://events.ccc.edu/app/uploads/Transfer_Table_Per-College_WW.png
END:VEVENT
BEGIN:VEVENT
DTSTART;TZID=America/Chicago:20250206T150000
DTEND;TZID=America/Chicago:20250206T170000
DTSTAMP:20260421T162350
CREATED:20250204T223832Z
LAST-MODIFIED:20250204T223832Z
UID:10003555-1738854000-1738861200@events.ccc.edu
SUMMARY:Wright: Satisfactory Academic Progress Appeal Workshop
DESCRIPTION:
URL:https://events.ccc.edu/event/wright-satisfactory-academic-progress-appeal-workshop/
CATEGORIES:Wilbur Wright
ATTACH;FMTTYPE=image/jpeg:https://events.ccc.edu/app/uploads/Financial-Aid_Calendar.jpg
END:VEVENT
BEGIN:VEVENT
DTSTART;TZID=America/Chicago:20250206T160000
DTEND;TZID=America/Chicago:20250206T161000
DTSTAMP:20260421T162350
CREATED:20241204T221231Z
LAST-MODIFIED:20241204T221231Z
UID:10002758-1738857600-1738858200@events.ccc.edu
SUMMARY:Wright: Campus Tour
DESCRIPTION:
URL:https://events.ccc.edu/event/wright-campus-tour-26/
CATEGORIES:Wilbur Wright
ATTACH;FMTTYPE=image/jpeg:https://events.ccc.edu/app/uploads/WW_Calendar-Image_01-e1715880201328-wC0vNw.tmp_.jpg
END:VEVENT
BEGIN:VEVENT
DTSTART;TZID=America/Chicago:20250206T170000
DTEND;TZID=America/Chicago:20250206T171000
DTSTAMP:20260421T162350
CREATED:20241209T215944Z
LAST-MODIFIED:20241209T215945Z
UID:10002818-1738861200-1738861800@events.ccc.edu
SUMMARY:Wright: Campus Tour
DESCRIPTION:
URL:https://events.ccc.edu/event/wright-campus-tour-45/
CATEGORIES:Wilbur Wright
ATTACH;FMTTYPE=image/jpeg:https://events.ccc.edu/app/uploads/WW_Calendar-Image_01-e1715880201328-wC0vNw.tmp_.jpg
END:VEVENT
BEGIN:VEVENT
DTSTART;TZID=America/Chicago:20250206T180000
DTEND;TZID=America/Chicago:20250206T200000
DTSTAMP:20260421T162350
CREATED:20240904T202333Z
LAST-MODIFIED:20240904T202333Z
UID:10002190-1738864800-1738872000@events.ccc.edu
SUMMARY:Wright: Engineering Information Session
DESCRIPTION:
URL:https://events.ccc.edu/event/wright-engineering-information-session-9/
CATEGORIES:Wilbur Wright
ATTACH;FMTTYPE=image/jpeg:https://events.ccc.edu/app/uploads/Engineering-and-Computer-Science_Calendar-image.jpg
END:VEVENT
BEGIN:VEVENT
DTSTART;TZID=America/Chicago:20250207T100000
DTEND;TZID=America/Chicago:20250207T120000
DTSTAMP:20260421T162350
CREATED:20250204T223911Z
LAST-MODIFIED:20250204T223911Z
UID:10003558-1738922400-1738929600@events.ccc.edu
SUMMARY:Wright: Satisfactory Academic Progress Appeal Workshop
DESCRIPTION:
URL:https://events.ccc.edu/event/wright-satisfactory-academic-progress-appeal-workshop-2/
CATEGORIES:Wilbur Wright
ATTACH;FMTTYPE=image/jpeg:https://events.ccc.edu/app/uploads/Financial-Aid_Calendar.jpg
END:VEVENT
BEGIN:VEVENT
DTSTART;TZID=America/Chicago:20250207T130000
DTEND;TZID=America/Chicago:20250207T140000
DTSTAMP:20260421T162350
CREATED:20250108T215713Z
LAST-MODIFIED:20250108T215713Z
UID:10003070-1738933200-1738936800@events.ccc.edu
SUMMARY:Earn and Learn Information session
DESCRIPTION:
URL:https://events.ccc.edu/event/earn-and-learn-information-session-5/
CATEGORIES:District-wide,Harold Washington,Harry S Truman,Kennedy-King,Malcolm X,Olive-Harvey,Richard J. Daley,Wilbur Wright
ATTACH;FMTTYPE=image/png:https://events.ccc.edu/app/uploads/CalendarImage_CareerCenter_4_DO.png
END:VEVENT
BEGIN:VEVENT
DTSTART;TZID=America/Chicago:20250210T100000
DTEND;TZID=America/Chicago:20250210T130000
DTSTAMP:20260421T162350
CREATED:20250206T211602Z
LAST-MODIFIED:20250206T211602Z
UID:10003588-1739181600-1739192400@events.ccc.edu
SUMMARY:Wright: Dominican University Table Visit
DESCRIPTION:
URL:https://events.ccc.edu/event/wright-dominican-university-table-visit-10/
CATEGORIES:Wilbur Wright
ATTACH;FMTTYPE=image/png:https://events.ccc.edu/app/uploads/Transfer_Table_Per-College_WW.png
END:VEVENT
BEGIN:VEVENT
DTSTART;TZID=America/Chicago:20250210T143000
DTEND;TZID=America/Chicago:20250210T153000
DTSTAMP:20260421T162350
CREATED:20250203T215939Z
LAST-MODIFIED:20250203T215939Z
UID:10003528-1739197800-1739201400@events.ccc.edu
SUMMARY:Scholarship Week: Forecasting your Financial Future
DESCRIPTION:
URL:https://events.ccc.edu/event/scholarship-week-forecasting-your-financial-future/
CATEGORIES:District-wide,Harold Washington,Harry S Truman,Kennedy-King,Malcolm X,Olive-Harvey,Richard J. Daley,Wilbur Wright
ATTACH;FMTTYPE=image/png:https://events.ccc.edu/app/uploads/Transfer_Per-College_DO.png
END:VEVENT
BEGIN:VEVENT
DTSTART;TZID=America/Chicago:20250211T100000
DTEND;TZID=America/Chicago:20250211T120000
DTSTAMP:20260421T162350
CREATED:20250204T223857Z
LAST-MODIFIED:20250204T223857Z
UID:10003556-1739268000-1739275200@events.ccc.edu
SUMMARY:Wright: Satisfactory Academic Progress Workshop
DESCRIPTION:
URL:https://events.ccc.edu/event/wright-satisfactory-academic-progress-workshop-3/
CATEGORIES:Wilbur Wright
ATTACH;FMTTYPE=image/jpeg:https://events.ccc.edu/app/uploads/Financial-Aid_Calendar.jpg
END:VEVENT
BEGIN:VEVENT
DTSTART;TZID=America/Chicago:20250211T100000
DTEND;TZID=America/Chicago:20250211T130000
DTSTAMP:20260421T162350
CREATED:20250206T211548Z
LAST-MODIFIED:20250206T211548Z
UID:10003587-1739268000-1739278800@events.ccc.edu
SUMMARY:Wright: Elmhurst University Table Visit
DESCRIPTION:
URL:https://events.ccc.edu/event/wright-elmhurst-university-table-visit-8/
CATEGORIES:Wilbur Wright
ATTACH;FMTTYPE=image/png:https://events.ccc.edu/app/uploads/Transfer_Table_Per-College_WW.png
END:VEVENT
BEGIN:VEVENT
DTSTART;TZID=America/Chicago:20250211T110000
DTEND;TZID=America/Chicago:20250211T130000
DTSTAMP:20260421T162350
CREATED:20250108T212520Z
LAST-MODIFIED:20250108T212520Z
UID:10003055-1739271600-1739278800@events.ccc.edu
SUMMARY:Wright: Fall in Love with a Club Day
DESCRIPTION:
URL:https://events.ccc.edu/event/wright-fall-in-love-with-a-club-day/
CATEGORIES:Wilbur Wright
ATTACH;FMTTYPE=image/jpeg:https://events.ccc.edu/app/uploads/WW_Stdnt_Act_03.jpg
END:VEVENT
BEGIN:VEVENT
DTSTART;TZID=America/Chicago:20250211T120000
DTEND;TZID=America/Chicago:20250211T130000
DTSTAMP:20260421T162350
CREATED:20241217T223626Z
LAST-MODIFIED:20241217T223627Z
UID:10002944-1739275200-1739278800@events.ccc.edu
SUMMARY:Saving and Investing Workshop
DESCRIPTION:
URL:https://events.ccc.edu/event/saving-and-investing-workshop/
CATEGORIES:District-wide,Harold Washington,Harry S Truman,Kennedy-King,Malcolm X,Olive-Harvey,Richard J. Daley,Wilbur Wright
ATTACH;FMTTYPE=image/jpeg:https://events.ccc.edu/app/uploads/DO_Calendar-Image_01-e1709153611957-wuAWoR.tmp_.jpg
END:VEVENT
BEGIN:VEVENT
DTSTART;TZID=America/Chicago:20250211T130000
DTEND;TZID=America/Chicago:20250211T160000
DTSTAMP:20260421T162350
CREATED:20250206T211535Z
LAST-MODIFIED:20250206T211535Z
UID:10003586-1739278800-1739289600@events.ccc.edu
SUMMARY:Wright: Northeastern Illinois University (NEIU) (Non-Traditional Programs) Table Visit
DESCRIPTION:
URL:https://events.ccc.edu/event/wright-northeastern-illinois-university-neiu-non-traditional-programs-table-visit/
CATEGORIES:Wilbur Wright
ATTACH;FMTTYPE=image/png:https://events.ccc.edu/app/uploads/Transfer_Table_Per-College_WW.png
END:VEVENT
BEGIN:VEVENT
DTSTART;TZID=America/Chicago:20250211T140000
DTEND;TZID=America/Chicago:20250211T150000
DTSTAMP:20260421T162350
CREATED:20250108T212642Z
LAST-MODIFIED:20250108T212642Z
UID:10003056-1739282400-1739286000@events.ccc.edu
SUMMARY:Wright: Taco Tuesday - Craft Time
DESCRIPTION:
URL:https://events.ccc.edu/event/wright-taco-tuesday-craft-time/
CATEGORIES:Wilbur Wright
ATTACH;FMTTYPE=image/jpeg:https://events.ccc.edu/app/uploads/WW_Stdnt_Act_03.jpg
END:VEVENT
BEGIN:VEVENT
DTSTART;TZID=America/Chicago:20250211T140000
DTEND;TZID=America/Chicago:20250211T150000
DTSTAMP:20260421T162350
CREATED:20250108T212834Z
LAST-MODIFIED:20250108T212834Z
UID:10003058-1739282400-1739286000@events.ccc.edu
SUMMARY:Wright: Taco Tuesday Game Day
DESCRIPTION:
URL:https://events.ccc.edu/event/wright-taco-tuesday-game-day-2/
CATEGORIES:Wilbur Wright
ATTACH;FMTTYPE=image/jpeg:https://events.ccc.edu/app/uploads/WW_Stdnt_Act_03.jpg
END:VEVENT
BEGIN:VEVENT
DTSTART;TZID=America/Chicago:20250211T150000
DTEND;TZID=America/Chicago:20250211T160000
DTSTAMP:20260421T162350
CREATED:20250206T211506Z
LAST-MODIFIED:20250206T211506Z
UID:10003585-1739286000-1739289600@events.ccc.edu
SUMMARY:Wright: Star Scholarship Virtual Transfer Fair
DESCRIPTION:
URL:https://events.ccc.edu/event/wright-star-scholarship-virtual-transfer-fair/
CATEGORIES:Wilbur Wright
ATTACH;FMTTYPE=image/png:https://events.ccc.edu/app/uploads/Transfer_Table_Per-College_WW.png
END:VEVENT
BEGIN:VEVENT
DTSTART;TZID=America/Chicago:20250211T150000
DTEND;TZID=America/Chicago:20250211T163000
DTSTAMP:20260421T162350
CREATED:20250203T220454Z
LAST-MODIFIED:20250203T220454Z
UID:10003531-1739286000-1739291400@events.ccc.edu
SUMMARY:Scholarship Week: Star Scholarship University Virtual Transfer Fair
DESCRIPTION:
URL:https://events.ccc.edu/event/scholarship-week-star-scholarship-university-virtual-transfer-fair/
CATEGORIES:District-wide,Harold Washington,Harry S Truman,Kennedy-King,Malcolm X,Olive-Harvey,Richard J. Daley,Wilbur Wright
ATTACH;FMTTYPE=image/png:https://events.ccc.edu/app/uploads/Transfer_Per-College_DO.png
END:VEVENT
BEGIN:VEVENT
DTSTART;TZID=America/Chicago:20250212T000000
DTEND;TZID=America/Chicago:20250213T000000
DTSTAMP:20260421T162350
CREATED:20250212T160044Z
LAST-MODIFIED:20250212T160044Z
UID:10003637-1739318400-1739404800@events.ccc.edu
SUMMARY:Cyber Rotation Program 2024 - 2025
DESCRIPTION:
URL:https://events.ccc.edu/event/cyber-rotation-program-2024-2025/
CATEGORIES:District-wide,Harold Washington,Harry S Truman,Kennedy-King,Malcolm X,Olive-Harvey,Richard J. Daley,Wilbur Wright
ATTACH;FMTTYPE=image/png:https://events.ccc.edu/app/uploads/CalendarImage_CareerCenter_4_DO.png
END:VEVENT
BEGIN:VEVENT
DTSTART;TZID=America/Chicago:20250212T000000
DTEND;TZID=America/Chicago:20250213T000000
DTSTAMP:20260421T162350
CREATED:20250212T160052Z
LAST-MODIFIED:20250212T160053Z
UID:10003638-1739318400-1739404800@events.ccc.edu
SUMMARY:Bank of America: 2024 Merrill Returning Talent Program
DESCRIPTION:
URL:https://events.ccc.edu/event/bank-of-america-2024-merrill-returning-talent-program/
CATEGORIES:District-wide,Harold Washington,Harry S Truman,Kennedy-King,Malcolm X,Olive-Harvey,Richard J. Daley,Wilbur Wright
ATTACH;FMTTYPE=image/png:https://events.ccc.edu/app/uploads/CalendarImage_CareerCenter_4_DO.png
END:VEVENT
BEGIN:VEVENT
DTSTART;TZID=America/Chicago:20250212T000000
DTEND;TZID=America/Chicago:20250213T000000
DTSTAMP:20260421T162350
CREATED:20250212T160057Z
LAST-MODIFIED:20250212T160057Z
UID:10003639-1739318400-1739404800@events.ccc.edu
SUMMARY:Cyber Rotation Program 2024 - 2025
DESCRIPTION:
URL:https://events.ccc.edu/event/cyber-rotation-program-2024-2025-2/
CATEGORIES:District-wide,Harold Washington,Harry S Truman,Kennedy-King,Malcolm X,Olive-Harvey,Richard J. Daley,Wilbur Wright
ATTACH;FMTTYPE=image/png:https://events.ccc.edu/app/uploads/CalendarImage_CareerCenter_4_DO.png
END:VEVENT
BEGIN:VEVENT
DTSTART;TZID=America/Chicago:20250212T000000
DTEND;TZID=America/Chicago:20250213T000000
DTSTAMP:20260421T162350
CREATED:20250212T160104Z
LAST-MODIFIED:20250212T160104Z
UID:10003640-1739318400-1739404800@events.ccc.edu
SUMMARY:Bank of America: 2024 Merrill Returning Talent Program
DESCRIPTION:
URL:https://events.ccc.edu/event/bank-of-america-2024-merrill-returning-talent-program-2/
CATEGORIES:District-wide,Harold Washington,Harry S Truman,Kennedy-King,Malcolm X,Olive-Harvey,Richard J. Daley,Wilbur Wright
ATTACH;FMTTYPE=image/png:https://events.ccc.edu/app/uploads/CalendarImage_CareerCenter_4_DO.png
END:VEVENT
BEGIN:VEVENT
DTSTART;TZID=America/Chicago:20250212T100000
DTEND;TZID=America/Chicago:20250212T110000
DTSTAMP:20260421T162350
CREATED:20241209T201407Z
LAST-MODIFIED:20241209T201407Z
UID:10002796-1739354400-1739358000@events.ccc.edu
SUMMARY:Partners in Education Info Session
DESCRIPTION:
URL:https://events.ccc.edu/event/partners-in-education-info-session-61/
CATEGORIES:District-wide,Harold Washington,Harry S Truman,Kennedy-King,Malcolm X,Olive-Harvey,Richard J. Daley,Wilbur Wright
ATTACH;FMTTYPE=image/jpeg:https://events.ccc.edu/app/uploads/CHA-Calendar-Image.jpg
END:VEVENT
END:VCALENDAR