BEGIN:VCALENDAR
VERSION:2.0
PRODID:-//CCC - ECPv6.11.2//NONSGML v1.0//EN
CALSCALE:GREGORIAN
METHOD:PUBLISH
X-ORIGINAL-URL:https://events.ccc.edu
X-WR-CALDESC:Events for CCC
REFRESH-INTERVAL;VALUE=DURATION:PT1H
X-Robots-Tag:noindex
X-PUBLISHED-TTL:PT1H
BEGIN:VTIMEZONE
TZID:America/Chicago
BEGIN:DAYLIGHT
TZOFFSETFROM:-0600
TZOFFSETTO:-0500
TZNAME:CDT
DTSTART:20250309T080000
END:DAYLIGHT
BEGIN:STANDARD
TZOFFSETFROM:-0500
TZOFFSETTO:-0600
TZNAME:CST
DTSTART:20251102T070000
END:STANDARD
END:VTIMEZONE
BEGIN:VEVENT
DTSTART;TZID=America/Chicago:20250211T150000
DTEND;TZID=America/Chicago:20250211T160000
DTSTAMP:20260421T145806
CREATED:20250206T211506Z
LAST-MODIFIED:20250206T211506Z
UID:10003585-1739286000-1739289600@events.ccc.edu
SUMMARY:Wright: Star Scholarship Virtual Transfer Fair
DESCRIPTION:
URL:https://events.ccc.edu/event/wright-star-scholarship-virtual-transfer-fair/
CATEGORIES:Wilbur Wright
ATTACH;FMTTYPE=image/png:https://events.ccc.edu/app/uploads/Transfer_Table_Per-College_WW.png
END:VEVENT
BEGIN:VEVENT
DTSTART;TZID=America/Chicago:20250211T150000
DTEND;TZID=America/Chicago:20250211T163000
DTSTAMP:20260421T145806
CREATED:20250203T220454Z
LAST-MODIFIED:20250203T220454Z
UID:10003531-1739286000-1739291400@events.ccc.edu
SUMMARY:Scholarship Week: Star Scholarship University Virtual Transfer Fair
DESCRIPTION:
URL:https://events.ccc.edu/event/scholarship-week-star-scholarship-university-virtual-transfer-fair/
CATEGORIES:District-wide,Harold Washington,Harry S Truman,Kennedy-King,Malcolm X,Olive-Harvey,Richard J. Daley,Wilbur Wright
ATTACH;FMTTYPE=image/png:https://events.ccc.edu/app/uploads/Transfer_Per-College_DO.png
END:VEVENT
BEGIN:VEVENT
DTSTART;TZID=America/Chicago:20250212T000000
DTEND;TZID=America/Chicago:20250213T000000
DTSTAMP:20260421T145806
CREATED:20250212T160044Z
LAST-MODIFIED:20250212T160044Z
UID:10003637-1739318400-1739404800@events.ccc.edu
SUMMARY:Cyber Rotation Program 2024 - 2025
DESCRIPTION:
URL:https://events.ccc.edu/event/cyber-rotation-program-2024-2025/
CATEGORIES:District-wide,Harold Washington,Harry S Truman,Kennedy-King,Malcolm X,Olive-Harvey,Richard J. Daley,Wilbur Wright
ATTACH;FMTTYPE=image/png:https://events.ccc.edu/app/uploads/CalendarImage_CareerCenter_4_DO.png
END:VEVENT
BEGIN:VEVENT
DTSTART;TZID=America/Chicago:20250212T000000
DTEND;TZID=America/Chicago:20250213T000000
DTSTAMP:20260421T145806
CREATED:20250212T160052Z
LAST-MODIFIED:20250212T160053Z
UID:10003638-1739318400-1739404800@events.ccc.edu
SUMMARY:Bank of America: 2024 Merrill Returning Talent Program
DESCRIPTION:
URL:https://events.ccc.edu/event/bank-of-america-2024-merrill-returning-talent-program/
CATEGORIES:District-wide,Harold Washington,Harry S Truman,Kennedy-King,Malcolm X,Olive-Harvey,Richard J. Daley,Wilbur Wright
ATTACH;FMTTYPE=image/png:https://events.ccc.edu/app/uploads/CalendarImage_CareerCenter_4_DO.png
END:VEVENT
BEGIN:VEVENT
DTSTART;TZID=America/Chicago:20250212T000000
DTEND;TZID=America/Chicago:20250213T000000
DTSTAMP:20260421T145806
CREATED:20250212T160057Z
LAST-MODIFIED:20250212T160057Z
UID:10003639-1739318400-1739404800@events.ccc.edu
SUMMARY:Cyber Rotation Program 2024 - 2025
DESCRIPTION:
URL:https://events.ccc.edu/event/cyber-rotation-program-2024-2025-2/
CATEGORIES:District-wide,Harold Washington,Harry S Truman,Kennedy-King,Malcolm X,Olive-Harvey,Richard J. Daley,Wilbur Wright
ATTACH;FMTTYPE=image/png:https://events.ccc.edu/app/uploads/CalendarImage_CareerCenter_4_DO.png
END:VEVENT
BEGIN:VEVENT
DTSTART;TZID=America/Chicago:20250212T000000
DTEND;TZID=America/Chicago:20250213T000000
DTSTAMP:20260421T145806
CREATED:20250212T160104Z
LAST-MODIFIED:20250212T160104Z
UID:10003640-1739318400-1739404800@events.ccc.edu
SUMMARY:Bank of America: 2024 Merrill Returning Talent Program
DESCRIPTION:
URL:https://events.ccc.edu/event/bank-of-america-2024-merrill-returning-talent-program-2/
CATEGORIES:District-wide,Harold Washington,Harry S Truman,Kennedy-King,Malcolm X,Olive-Harvey,Richard J. Daley,Wilbur Wright
ATTACH;FMTTYPE=image/png:https://events.ccc.edu/app/uploads/CalendarImage_CareerCenter_4_DO.png
END:VEVENT
BEGIN:VEVENT
DTSTART;TZID=America/Chicago:20250212T100000
DTEND;TZID=America/Chicago:20250212T110000
DTSTAMP:20260421T145806
CREATED:20241209T201407Z
LAST-MODIFIED:20241209T201407Z
UID:10002796-1739354400-1739358000@events.ccc.edu
SUMMARY:Partners in Education Info Session
DESCRIPTION:
URL:https://events.ccc.edu/event/partners-in-education-info-session-61/
CATEGORIES:District-wide,Harold Washington,Harry S Truman,Kennedy-King,Malcolm X,Olive-Harvey,Richard J. Daley,Wilbur Wright
ATTACH;FMTTYPE=image/jpeg:https://events.ccc.edu/app/uploads/CHA-Calendar-Image.jpg
END:VEVENT
BEGIN:VEVENT
DTSTART;TZID=America/Chicago:20250212T100000
DTEND;TZID=America/Chicago:20250212T110000
DTSTAMP:20260421T145806
CREATED:20250203T220631Z
LAST-MODIFIED:20250203T220631Z
UID:10003532-1739354400-1739358000@events.ccc.edu
SUMMARY:Scholarship Week - Money Moves: The Scholarship Playbook
DESCRIPTION:
URL:https://events.ccc.edu/event/scholarship-week-money-moves-the-scholarship-playbook/
CATEGORIES:District-wide,Harold Washington,Harry S Truman,Kennedy-King,Malcolm X,Olive-Harvey,Richard J. Daley,Wilbur Wright
ATTACH;FMTTYPE=image/png:https://events.ccc.edu/app/uploads/Transfer_Per-College_DO.png
END:VEVENT
BEGIN:VEVENT
DTSTART;TZID=America/Chicago:20250212T100000
DTEND;TZID=America/Chicago:20250212T130000
DTSTAMP:20260421T145806
CREATED:20250206T211458Z
LAST-MODIFIED:20250206T211458Z
UID:10003584-1739354400-1739365200@events.ccc.edu
SUMMARY:Wright: University of Illinois at Chicago (UIC) General Admissions Table Visit
DESCRIPTION:
URL:https://events.ccc.edu/event/wright-university-of-illinois-at-chicago-uic-general-admissions-table-visit/
CATEGORIES:Wilbur Wright
ATTACH;FMTTYPE=image/png:https://events.ccc.edu/app/uploads/Transfer_Table_Per-College_WW.png
END:VEVENT
BEGIN:VEVENT
DTSTART;TZID=America/Chicago:20250212T120000
DTEND;TZID=America/Chicago:20250212T130000
DTSTAMP:20260421T145806
CREATED:20241209T201321Z
LAST-MODIFIED:20241209T201321Z
UID:10002795-1739361600-1739365200@events.ccc.edu
SUMMARY:Partners in Education Info Session
DESCRIPTION:
URL:https://events.ccc.edu/event/partners-in-education-info-session-60/
CATEGORIES:District-wide,Harold Washington,Harry S Truman,Kennedy-King,Malcolm X,Olive-Harvey,Richard J. Daley,Wilbur Wright
ATTACH;FMTTYPE=image/jpeg:https://events.ccc.edu/app/uploads/CHA-Calendar-Image.jpg
END:VEVENT
BEGIN:VEVENT
DTSTART;TZID=America/Chicago:20250212T130000
DTEND;TZID=America/Chicago:20250212T160000
DTSTAMP:20260421T145806
CREATED:20250206T211417Z
LAST-MODIFIED:20250206T211417Z
UID:10003582-1739365200-1739376000@events.ccc.edu
SUMMARY:Wright: University of Illinois Chicago One-on-One Advising
DESCRIPTION:
URL:https://events.ccc.edu/event/wright-university-of-illinois-chicago-one-on-one-advising/
CATEGORIES:Wilbur Wright
ATTACH;FMTTYPE=image/png:https://events.ccc.edu/app/uploads/Transfer_Per-College_WW.png
END:VEVENT
BEGIN:VEVENT
DTSTART;TZID=America/Chicago:20250212T140000
DTEND;TZID=America/Chicago:20250212T150000
DTSTAMP:20260421T145806
CREATED:20250206T212932Z
LAST-MODIFIED:20250206T212932Z
UID:10003598-1739368800-1739372400@events.ccc.edu
SUMMARY:Wright: Planning to Transfer? Begin with the End in Mind
DESCRIPTION:
URL:https://events.ccc.edu/event/wright-planning-to-transfer-begin-with-the-end-in-mind-4/
CATEGORIES:Wilbur Wright
ATTACH;FMTTYPE=image/png:https://events.ccc.edu/app/uploads/Transfer_Per-College_WW.png
END:VEVENT
BEGIN:VEVENT
DTSTART;TZID=America/Chicago:20250212T140000
DTEND;TZID=America/Chicago:20250212T160000
DTSTAMP:20260421T145806
CREATED:20250204T223730Z
LAST-MODIFIED:20250204T223730Z
UID:10003553-1739368800-1739376000@events.ccc.edu
SUMMARY:Wright: Financial Aid/ Alternative Application Completion Workshop
DESCRIPTION:
URL:https://events.ccc.edu/event/wright-financial-aid-alternative-application-completion-workshop-4/
CATEGORIES:Wilbur Wright
ATTACH;FMTTYPE=image/jpeg:https://events.ccc.edu/app/uploads/Financial-Aid_Calendar.jpg
END:VEVENT
BEGIN:VEVENT
DTSTART;TZID=America/Chicago:20250213T100000
DTEND;TZID=America/Chicago:20250213T130000
DTSTAMP:20260421T145806
CREATED:20250206T212908Z
LAST-MODIFIED:20250206T212908Z
UID:10003597-1739440800-1739451600@events.ccc.edu
SUMMARY:Wright: University of Illinois at Chicago (UIC) College of Business Table Visit
DESCRIPTION:
URL:https://events.ccc.edu/event/wright-university-of-illinois-at-chicago-uic-college-of-business-table-visit/
CATEGORIES:Wilbur Wright
ATTACH;FMTTYPE=image/png:https://events.ccc.edu/app/uploads/Transfer_Table_Per-College_WW.png
END:VEVENT
BEGIN:VEVENT
DTSTART;TZID=America/Chicago:20250213T130000
DTEND;TZID=America/Chicago:20250213T160000
DTSTAMP:20260421T145806
CREATED:20250206T212842Z
LAST-MODIFIED:20250206T212842Z
UID:10003596-1739451600-1739462400@events.ccc.edu
SUMMARY:Wright: Eastern Illinois University Table Visit
DESCRIPTION:
URL:https://events.ccc.edu/event/wright-eastern-illinois-university-table-visit-5/
CATEGORIES:Wilbur Wright
ATTACH;FMTTYPE=image/png:https://events.ccc.edu/app/uploads/Transfer_Table_Per-College_WW.png
END:VEVENT
BEGIN:VEVENT
DTSTART;TZID=America/Chicago:20250213T150000
DTEND;TZID=America/Chicago:20250213T153000
DTSTAMP:20260421T145806
CREATED:20250203T220442Z
LAST-MODIFIED:20250203T220442Z
UID:10003529-1739458800-1739460600@events.ccc.edu
SUMMARY:Scholarship Week: Renaissance Foundation Scholarship Information Session
DESCRIPTION:
URL:https://events.ccc.edu/event/scholarship-week-renaissance-foundation-scholarship-information-session/
CATEGORIES:District-wide,Harold Washington,Harry S Truman,Kennedy-King,Malcolm X,Olive-Harvey,Richard J. Daley,Wilbur Wright
ATTACH;FMTTYPE=image/png:https://events.ccc.edu/app/uploads/Transfer_Per-College_DO.png
END:VEVENT
BEGIN:VEVENT
DTSTART;TZID=America/Chicago:20250213T160000
DTEND;TZID=America/Chicago:20250213T161000
DTSTAMP:20260421T145806
CREATED:20241204T223013Z
LAST-MODIFIED:20241204T223013Z
UID:10002761-1739462400-1739463000@events.ccc.edu
SUMMARY:Wright: Campus Tour
DESCRIPTION:
URL:https://events.ccc.edu/event/wright-campus-tour-27/
CATEGORIES:Wilbur Wright
ATTACH;FMTTYPE=image/jpeg:https://events.ccc.edu/app/uploads/WW_Calendar-Image_01-e1715880201328-wC0vNw.tmp_.jpg
END:VEVENT
BEGIN:VEVENT
DTSTART;TZID=America/Chicago:20250213T170000
DTEND;TZID=America/Chicago:20250213T171000
DTSTAMP:20260421T145806
CREATED:20241209T220301Z
LAST-MODIFIED:20241209T220301Z
UID:10002821-1739466000-1739466600@events.ccc.edu
SUMMARY:Wright: Campus Tour
DESCRIPTION:
URL:https://events.ccc.edu/event/wright-campus-tour-48/
CATEGORIES:Wilbur Wright
ATTACH;FMTTYPE=image/jpeg:https://events.ccc.edu/app/uploads/WW_Calendar-Image_01-e1715880201328-wC0vNw.tmp_.jpg
END:VEVENT
BEGIN:VEVENT
DTSTART;TZID=America/Chicago:20250213T183000
DTEND;TZID=America/Chicago:20250213T193000
DTSTAMP:20260421T145806
CREATED:20241209T201224Z
LAST-MODIFIED:20241209T201224Z
UID:10002794-1739471400-1739475000@events.ccc.edu
SUMMARY:Partners in Education Info Session
DESCRIPTION:
URL:https://events.ccc.edu/event/partners-in-education-info-session-59/
CATEGORIES:Harold Washington,Harry S Truman,Kennedy-King,Malcolm X,Olive-Harvey,Richard J. Daley,Wilbur Wright
ATTACH;FMTTYPE=image/jpeg:https://events.ccc.edu/app/uploads/CHA-Calendar-Image.jpg
END:VEVENT
BEGIN:VEVENT
DTSTART;TZID=America/Chicago:20250214T123000
DTEND;TZID=America/Chicago:20250214T133000
DTSTAMP:20260421T145806
CREATED:20250203T220450Z
LAST-MODIFIED:20250203T220450Z
UID:10003530-1739536200-1739539800@events.ccc.edu
SUMMARY:Scholarship Week: Voyager Scholarship Foundation Information Session
DESCRIPTION:
URL:https://events.ccc.edu/event/scholarship-week-voyager-scholarship-foundation-information-session/
CATEGORIES:District-wide,Harold Washington,Harry S Truman,Kennedy-King,Malcolm X,Olive-Harvey,Richard J. Daley,Wilbur Wright
ATTACH;FMTTYPE=image/png:https://events.ccc.edu/app/uploads/Transfer_Per-College_DO.png
END:VEVENT
BEGIN:VEVENT
DTSTART;TZID=America/Chicago:20250215T100000
DTEND;TZID=America/Chicago:20250218T130000
DTSTAMP:20260421T145806
CREATED:20250206T212834Z
LAST-MODIFIED:20250206T212834Z
UID:10003595-1739613600-1739883600@events.ccc.edu
SUMMARY:Wright: Chicago State University Table Visit
DESCRIPTION:
URL:https://events.ccc.edu/event/wright-chicago-state-university-table-visit-5/
CATEGORIES:Wilbur Wright
ATTACH;FMTTYPE=image/png:https://events.ccc.edu/app/uploads/Transfer_Table_Per-College_WW.png
END:VEVENT
BEGIN:VEVENT
DTSTART;TZID=America/Chicago:20250215T110000
DTEND;TZID=America/Chicago:20250215T170000
DTSTAMP:20260421T145806
CREATED:20250129T185210Z
LAST-MODIFIED:20250129T185210Z
UID:10003072-1739617200-1739638800@events.ccc.edu
SUMMARY:University Partner Fest at the Art Institute of Chicago
DESCRIPTION:
URL:https://events.ccc.edu/event/university-partner-fest-at-the-art-institute-of-chicago/
CATEGORIES:District-wide,Harold Washington,Harry S Truman,Kennedy-King,Malcolm X,Olive-Harvey,Richard J. Daley,Wilbur Wright
ATTACH;FMTTYPE=image/jpeg:https://events.ccc.edu/app/uploads/DO_Calendar-Image_01-e1709153611957-wuAWoR.tmp_.jpg
END:VEVENT
BEGIN:VEVENT
DTSTART;TZID=America/Chicago:20250218T110000
DTEND;TZID=America/Chicago:20250218T120000
DTSTAMP:20260421T145806
CREATED:20241217T221837Z
LAST-MODIFIED:20241217T221837Z
UID:10002936-1739876400-1739880000@events.ccc.edu
SUMMARY:Virtual ID Protection Workshop
DESCRIPTION:
URL:https://events.ccc.edu/event/virtual-id-protection-workshop/
CATEGORIES:District-wide,Harold Washington,Harry S Truman,Kennedy-King,Malcolm X,Olive-Harvey,Richard J. Daley,Wilbur Wright
ATTACH;FMTTYPE=image/jpeg:https://events.ccc.edu/app/uploads/DO_Calendar-Image_01-e1709153611957-wuAWoR.tmp_.jpg
END:VEVENT
BEGIN:VEVENT
DTSTART;TZID=America/Chicago:20250218T140000
DTEND;TZID=America/Chicago:20250218T150000
DTSTAMP:20260421T145806
CREATED:20250108T212737Z
LAST-MODIFIED:20250108T212737Z
UID:10003057-1739887200-1739890800@events.ccc.edu
SUMMARY:Wright: Taco Tuesday Human Bingo
DESCRIPTION:
URL:https://events.ccc.edu/event/wright-taco-tuesday-human-bingo/
CATEGORIES:Wilbur Wright
ATTACH;FMTTYPE=image/jpeg:https://events.ccc.edu/app/uploads/WW_Stdnt_Act_03.jpg
END:VEVENT
BEGIN:VEVENT
DTSTART;TZID=America/Chicago:20250219T100000
DTEND;TZID=America/Chicago:20250219T130000
DTSTAMP:20260421T145806
CREATED:20250206T212823Z
LAST-MODIFIED:20250206T212824Z
UID:10003594-1739959200-1739970000@events.ccc.edu
SUMMARY:Wright: Northeastern Illinois University (NEIU) Table Visit
DESCRIPTION:
URL:https://events.ccc.edu/event/wright-northeastern-illinois-university-neiu-table-visit-4/
CATEGORIES:Wilbur Wright
ATTACH;FMTTYPE=image/png:https://events.ccc.edu/app/uploads/Transfer_Table_Per-College_WW.png
END:VEVENT
BEGIN:VEVENT
DTSTART;TZID=America/Chicago:20250219T120000
DTEND;TZID=America/Chicago:20250219T130000
DTSTAMP:20260421T145806
CREATED:20241217T221854Z
LAST-MODIFIED:20241217T221855Z
UID:10002937-1739966400-1739970000@events.ccc.edu
SUMMARY:Understanding Tax Basics & Onboarding Paperwork
DESCRIPTION:
URL:https://events.ccc.edu/event/understanding-tax-basics-onboarding-paperwork-2/
CATEGORIES:District-wide,Harold Washington,Harry S Truman,Kennedy-King,Malcolm X,Olive-Harvey,Richard J. Daley,Wilbur Wright
ATTACH;FMTTYPE=image/jpeg:https://events.ccc.edu/app/uploads/DO_Calendar-Image_01-e1709153611957-wuAWoR.tmp_.jpg
END:VEVENT
BEGIN:VEVENT
DTSTART;TZID=America/Chicago:20250219T130000
DTEND;TZID=America/Chicago:20250219T160000
DTSTAMP:20260421T145806
CREATED:20250206T212739Z
LAST-MODIFIED:20250206T212739Z
UID:10003591-1739970000-1739980800@events.ccc.edu
SUMMARY:Wright: University of Illinois at Chicago (UIC) College of Engineering Table Visit
DESCRIPTION:
URL:https://events.ccc.edu/event/wright-university-of-illinois-at-chicago-uic-college-of-engineering-table-visit/
CATEGORIES:Wilbur Wright
ATTACH;FMTTYPE=image/png:https://events.ccc.edu/app/uploads/Transfer_Table_Per-College_WW.png
END:VEVENT
BEGIN:VEVENT
DTSTART;TZID=America/Chicago:20250219T130000
DTEND;TZID=America/Chicago:20250219T160000
DTSTAMP:20260421T145806
CREATED:20250206T212748Z
LAST-MODIFIED:20250206T212748Z
UID:10003592-1739970000-1739980800@events.ccc.edu
SUMMARY:Wright: Illinois Institute of Technology (IIT) Table Visit
DESCRIPTION:
URL:https://events.ccc.edu/event/wright-illinois-institute-of-technology-iit-table-visit-8/
CATEGORIES:Wilbur Wright
ATTACH;FMTTYPE=image/png:https://events.ccc.edu/app/uploads/Transfer_Table_Per-College_WW.png
END:VEVENT
BEGIN:VEVENT
DTSTART;TZID=America/Chicago:20250219T130000
DTEND;TZID=America/Chicago:20250219T160000
DTSTAMP:20260421T145806
CREATED:20250206T212759Z
LAST-MODIFIED:20250206T212759Z
UID:10003593-1739970000-1739980800@events.ccc.edu
SUMMARY:Wright: Valparaiso University Table Visit
DESCRIPTION:
URL:https://events.ccc.edu/event/wright-valparaiso-university-table-visit-5/
CATEGORIES:Wilbur Wright
ATTACH;FMTTYPE=image/png:https://events.ccc.edu/app/uploads/Transfer_Table_Per-College_WW.png
END:VEVENT
BEGIN:VEVENT
DTSTART;TZID=America/Chicago:20250219T140000
DTEND;TZID=America/Chicago:20250219T150000
DTSTAMP:20260421T145806
CREATED:20241216T215703Z
LAST-MODIFIED:20241216T215703Z
UID:10002899-1739973600-1739977200@events.ccc.edu
SUMMARY:DePaul University Information Session (Virtual)
DESCRIPTION:
URL:https://events.ccc.edu/event/depaul-university-information-session-virtual/
CATEGORIES:District-wide,Harold Washington,Harry S Truman,Kennedy-King,Malcolm X,Olive-Harvey,Richard J. Daley,Wilbur Wright
ATTACH;FMTTYPE=image/jpeg:https://events.ccc.edu/app/uploads/Transfer_02.jpg
END:VEVENT
END:VCALENDAR