BEGIN:VCALENDAR
VERSION:2.0
PRODID:-//CCC - ECPv6.11.2//NONSGML v1.0//EN
CALSCALE:GREGORIAN
METHOD:PUBLISH
X-ORIGINAL-URL:https://events.ccc.edu
X-WR-CALDESC:Events for CCC
REFRESH-INTERVAL;VALUE=DURATION:PT1H
X-Robots-Tag:noindex
X-PUBLISHED-TTL:PT1H
BEGIN:VTIMEZONE
TZID:America/Chicago
BEGIN:DAYLIGHT
TZOFFSETFROM:-0600
TZOFFSETTO:-0500
TZNAME:CDT
DTSTART:20240310T080000
END:DAYLIGHT
BEGIN:STANDARD
TZOFFSETFROM:-0500
TZOFFSETTO:-0600
TZNAME:CST
DTSTART:20241103T070000
END:STANDARD
END:VTIMEZONE
BEGIN:VEVENT
DTSTART;TZID=America/Chicago:20240501T140000
DTEND;TZID=America/Chicago:20240501T160000
DTSTAMP:20260423T094242
CREATED:20240417T194651Z
LAST-MODIFIED:20240417T194651Z
UID:10001537-1714572000-1714579200@events.ccc.edu
SUMMARY:Wright: Financial Aid Completion Workshop
DESCRIPTION:
URL:https://events.ccc.edu/event/wright-financial-aid-completion-workshop-21/
CATEGORIES:Wilbur Wright
ATTACH;FMTTYPE=image/jpeg:https://events.ccc.edu/app/uploads/Financial-Aid_Calendar.jpg
END:VEVENT
BEGIN:VEVENT
DTSTART;TZID=America/Chicago:20240426T100000
DTEND;TZID=America/Chicago:20240426T130000
DTSTAMP:20260423T094242
CREATED:20240315T144509Z
LAST-MODIFIED:20240315T144510Z
UID:10001478-1714125600-1714136400@events.ccc.edu
SUMMARY:Wright: Financial Aid Completion Workshop
DESCRIPTION:
URL:https://events.ccc.edu/event/wright-finanial-aid-completion-workshop/
CATEGORIES:Wilbur Wright
ATTACH;FMTTYPE=image/jpeg:https://events.ccc.edu/app/uploads/Financial-Aid_Calendar.jpg
END:VEVENT
BEGIN:VEVENT
DTSTART;TZID=America/Chicago:20240425T100000
DTEND;TZID=America/Chicago:20240425T140000
DTSTAMP:20260423T094242
CREATED:20240209T184650Z
LAST-MODIFIED:20240209T184650Z
UID:10001346-1714039200-1714053600@events.ccc.edu
SUMMARY:Wright: Spring 2024 Virtual Career Fair
DESCRIPTION:
URL:https://events.ccc.edu/event/wright-spring-2024-virtual-career-fair/
CATEGORIES:Wilbur Wright
ATTACH;FMTTYPE=image/jpeg:https://events.ccc.edu/app/uploads/WW_Calendar-Image_02.jpg
END:VEVENT
BEGIN:VEVENT
DTSTART;TZID=America/Chicago:20240424T163000
DTEND;TZID=America/Chicago:20240424T180000
DTSTAMP:20260423T094242
CREATED:20240103T172527Z
LAST-MODIFIED:20240103T172527Z
UID:10000783-1713976200-1713981600@events.ccc.edu
SUMMARY:Harold Washington: You Got In\, So Now What?
DESCRIPTION:
URL:https://events.ccc.edu/event/harold-washington-you-got-in-so-now-what/
CATEGORIES:District Office,District-wide,Harold Washington,Harry S Truman,Kennedy-King,Malcolm X,Olive-Harvey,Richard J. Daley,Wilbur Wright
ATTACH;FMTTYPE=image/png:https://events.ccc.edu/app/uploads/Transfer_Per-College_HW.png
END:VEVENT
BEGIN:VEVENT
DTSTART;TZID=America/Chicago:20240423T100000
DTEND;TZID=America/Chicago:20240423T130000
DTSTAMP:20260423T094242
CREATED:20240202T223216Z
LAST-MODIFIED:20240202T223216Z
UID:10001313-1713866400-1713877200@events.ccc.edu
SUMMARY:Wright: Northeastern Illinois University – Nontraditional Degree Program Table Visit
DESCRIPTION:
URL:https://events.ccc.edu/event/wright-northeastern-illinois-university-nontraditional-degree-program-table-visit-3/
CATEGORIES:Wilbur Wright
ATTACH;FMTTYPE=image/png:https://events.ccc.edu/app/uploads/Transfer_Table_Per-College_WW.png
END:VEVENT
BEGIN:VEVENT
DTSTART;TZID=America/Chicago:20240419T100000
DTEND;TZID=America/Chicago:20240419T130000
DTSTAMP:20260423T094242
CREATED:20240308T222211Z
LAST-MODIFIED:20240308T222212Z
UID:10001477-1713520800-1713531600@events.ccc.edu
SUMMARY:Wright: Financial Aid Completion Workshop
DESCRIPTION:
URL:https://events.ccc.edu/event/wright-financial-aid-completion-workshop-20/
CATEGORIES:Wilbur Wright
ATTACH;FMTTYPE=image/jpeg:https://events.ccc.edu/app/uploads/Financial-Aid_Calendar.jpg
END:VEVENT
BEGIN:VEVENT
DTSTART;TZID=America/Chicago:20240418T100000
DTEND;TZID=America/Chicago:20240418T130000
DTSTAMP:20260423T094242
CREATED:20240306T202111Z
LAST-MODIFIED:20240306T202111Z
UID:10001441-1713434400-1713445200@events.ccc.edu
SUMMARY:Wright: Governors State University Table Visit
DESCRIPTION:
URL:https://events.ccc.edu/event/wright-governors-state-university-table-visit-7/
CATEGORIES:Wilbur Wright
ATTACH;FMTTYPE=image/png:https://events.ccc.edu/app/uploads/Transfer_Table_Per-College_WW.png
END:VEVENT
BEGIN:VEVENT
DTSTART;TZID=America/Chicago:20240417T100000
DTEND;TZID=America/Chicago:20240417T130000
DTSTAMP:20260423T094242
CREATED:20240202T223318Z
LAST-MODIFIED:20240202T223318Z
UID:10001314-1713348000-1713358800@events.ccc.edu
SUMMARY:Wright: Roosevelt University Table Visit
DESCRIPTION:
URL:https://events.ccc.edu/event/wright-roosevelt-university-table-visit-8/
CATEGORIES:Wilbur Wright
ATTACH;FMTTYPE=image/png:https://events.ccc.edu/app/uploads/Transfer_Table_Per-College_WW.png
END:VEVENT
BEGIN:VEVENT
DTSTART;TZID=America/Chicago:20240416T100000
DTEND;TZID=America/Chicago:20240416T130000
DTSTAMP:20260423T094242
CREATED:20240202T223444Z
LAST-MODIFIED:20240202T223444Z
UID:10001315-1713261600-1713272400@events.ccc.edu
SUMMARY:Wright: Northeastern Illinois University Table Visit
DESCRIPTION:
URL:https://events.ccc.edu/event/wright-northeastern-illinois-university-table-visit-10/
CATEGORIES:Wilbur Wright
ATTACH;FMTTYPE=image/png:https://events.ccc.edu/app/uploads/Transfer_Table_Per-College_WW.png
END:VEVENT
BEGIN:VEVENT
DTSTART;TZID=America/Chicago:20240415T100000
DTEND;TZID=America/Chicago:20240415T130000
DTSTAMP:20260423T094242
CREATED:20240308T213551Z
LAST-MODIFIED:20240308T213551Z
UID:10001452-1713175200-1713186000@events.ccc.edu
SUMMARY:Wright: Dominican University
DESCRIPTION:
URL:https://events.ccc.edu/event/wright-dominican-university/
CATEGORIES:Wilbur Wright
ATTACH;FMTTYPE=image/png:https://events.ccc.edu/app/uploads/Transfer_Table_Per-College_WW.png
END:VEVENT
BEGIN:VEVENT
DTSTART;TZID=America/Chicago:20240412T100000
DTEND;TZID=America/Chicago:20240412T130000
DTSTAMP:20260423T094242
CREATED:20240308T221817Z
LAST-MODIFIED:20240308T221817Z
UID:10001476-1712916000-1712926800@events.ccc.edu
SUMMARY:Wright: Financial Aid Completion Workshop
DESCRIPTION:
URL:https://events.ccc.edu/event/wright-financial-aid-completion-workshop-19/
CATEGORIES:Wilbur Wright
ATTACH;FMTTYPE=image/jpeg:https://events.ccc.edu/app/uploads/Financial-Aid_Calendar.jpg
END:VEVENT
BEGIN:VEVENT
DTSTART;TZID=America/Chicago:20240411T170000
DTEND;TZID=America/Chicago:20240411T183000
DTSTAMP:20260423T094242
CREATED:20240308T222332Z
LAST-MODIFIED:20240308T222332Z
UID:10001479-1712854800-1712860200@events.ccc.edu
SUMMARY:Wright: Financial Empowerment Week
DESCRIPTION:
URL:https://events.ccc.edu/event/wright-financial-empowerment-week/
CATEGORIES:Wilbur Wright
ATTACH;FMTTYPE=image/jpeg:https://events.ccc.edu/app/uploads/Financial-Aid_Calendar.jpg
END:VEVENT
BEGIN:VEVENT
DTSTART;TZID=America/Chicago:20240411T153000
DTEND;TZID=America/Chicago:20240411T163000
DTSTAMP:20260423T094242
CREATED:20240308T222640Z
LAST-MODIFIED:20240308T222640Z
UID:10001480-1712849400-1712853000@events.ccc.edu
SUMMARY:Wright: Financial Empowerment Week
DESCRIPTION:
URL:https://events.ccc.edu/event/wilbur-wright-financial-empowerment-week/
CATEGORIES:Wilbur Wright
ATTACH;FMTTYPE=image/jpeg:https://events.ccc.edu/app/uploads/Financial-Aid_Calendar.jpg
END:VEVENT
BEGIN:VEVENT
DTSTART;TZID=America/Chicago:20240410T160000
DTEND;TZID=America/Chicago:20240410T170000
DTSTAMP:20260423T094242
CREATED:20240308T222901Z
LAST-MODIFIED:20240308T222901Z
UID:10001482-1712764800-1712768400@events.ccc.edu
SUMMARY:Wright: Financial Empowerment Week
DESCRIPTION:
URL:https://events.ccc.edu/event/wright-financial-empowerment-week-3/
CATEGORIES:Wilbur Wright
ATTACH;FMTTYPE=image/jpeg:https://events.ccc.edu/app/uploads/Financial-Aid_Calendar.jpg
END:VEVENT
BEGIN:VEVENT
DTSTART;TZID=America/Chicago:20240410T100000
DTEND;TZID=America/Chicago:20240410T130000
DTSTAMP:20260423T094242
CREATED:20240202T205958Z
LAST-MODIFIED:20240202T205958Z
UID:10001278-1712743200-1712754000@events.ccc.edu
SUMMARY:Wright: Columbia College Chicago Table Visit
DESCRIPTION:
URL:https://events.ccc.edu/event/wright-columbia-college-chicago-table-visit-3/
CATEGORIES:Wilbur Wright
ATTACH;FMTTYPE=image/png:https://events.ccc.edu/app/uploads/Transfer_Table_Per-College_WW.png
END:VEVENT
BEGIN:VEVENT
DTSTART;TZID=America/Chicago:20240409T153000
DTEND;TZID=America/Chicago:20240409T163000
DTSTAMP:20260423T094242
CREATED:20240308T222711Z
LAST-MODIFIED:20240308T222711Z
UID:10001481-1712676600-1712680200@events.ccc.edu
SUMMARY:Wright: Financial Empowerment Week
DESCRIPTION:
URL:https://events.ccc.edu/event/wright-financial-empowerment-week-2/
CATEGORIES:Wilbur Wright
ATTACH;FMTTYPE=image/jpeg:https://events.ccc.edu/app/uploads/Financial-Aid_Calendar.jpg
END:VEVENT
BEGIN:VEVENT
DTSTART;TZID=America/Chicago:20240409T100000
DTEND;TZID=America/Chicago:20240409T130000
DTSTAMP:20260423T094242
CREATED:20240202T210146Z
LAST-MODIFIED:20240202T210146Z
UID:10001279-1712656800-1712667600@events.ccc.edu
SUMMARY:Wright: Illinois Institute of Technology (IIT) Table Visit
DESCRIPTION:
URL:https://events.ccc.edu/event/wright-illinois-institute-of-technology-iit-table-visit/
CATEGORIES:Wilbur Wright
ATTACH;FMTTYPE=image/png:https://events.ccc.edu/app/uploads/Transfer_Table_Per-College_WW.png
END:VEVENT
BEGIN:VEVENT
DTSTART;TZID=America/Chicago:20240405T153000
DTEND;TZID=America/Chicago:20240405T170000
DTSTAMP:20260423T094242
CREATED:20240103T180521Z
LAST-MODIFIED:20240103T180521Z
UID:10000790-1712331000-1712336400@events.ccc.edu
SUMMARY:Transfer 101 Workshop
DESCRIPTION:
URL:https://events.ccc.edu/event/transfer-101-workshop/
CATEGORIES:District Office,District-wide,Harold Washington,Harry S Truman,Kennedy-King,Malcolm X,Olive-Harvey,Richard J. Daley,Wilbur Wright
ATTACH;FMTTYPE=image/png:https://events.ccc.edu/app/uploads/Transfer_Per-College_DO.png
END:VEVENT
BEGIN:VEVENT
DTSTART;TZID=America/Chicago:20240405T143000
DTEND;TZID=America/Chicago:20240405T160000
DTSTAMP:20260423T094242
CREATED:20240401T132222Z
LAST-MODIFIED:20240401T132222Z
UID:10000791-1712327400-1712332800@events.ccc.edu
SUMMARY:Transfer 101 Workshop
DESCRIPTION:
URL:https://events.ccc.edu/event/transfer-101-workshop-2/
CATEGORIES:District Office,District-wide,Harold Washington,Harry S Truman,Kennedy-King,Malcolm X,Olive-Harvey,Richard J. Daley,Wilbur Wright
ATTACH;FMTTYPE=image/png:https://events.ccc.edu/app/uploads/Transfer_Per-College_DO.png
END:VEVENT
BEGIN:VEVENT
DTSTART;TZID=America/Chicago:20240405T100000
DTEND;TZID=America/Chicago:20240405T130000
DTSTAMP:20260423T094242
CREATED:20240308T221739Z
LAST-MODIFIED:20240308T221739Z
UID:10001475-1712311200-1712322000@events.ccc.edu
SUMMARY:Wright: Financial Aid Completion Workshop
DESCRIPTION:
URL:https://events.ccc.edu/event/wright-financial-aid-completion-workshop-18/
CATEGORIES:Wilbur Wright
ATTACH;FMTTYPE=image/jpeg:https://events.ccc.edu/app/uploads/Financial-Aid_Calendar.jpg
END:VEVENT
BEGIN:VEVENT
DTSTART;TZID=America/Chicago:20240404T100000
DTEND;TZID=America/Chicago:20240404T130000
DTSTAMP:20260423T094242
CREATED:20240202T215213Z
LAST-MODIFIED:20240202T215213Z
UID:10001280-1712224800-1712235600@events.ccc.edu
SUMMARY:Wright: Concordia University Chicago Table Visit
DESCRIPTION:
URL:https://events.ccc.edu/event/wright-concordia-university-chicago-table-visit-3/
CATEGORIES:Wilbur Wright
ATTACH;FMTTYPE=image/png:https://events.ccc.edu/app/uploads/Transfer_Table_Per-College_WW.png
END:VEVENT
BEGIN:VEVENT
DTSTART;TZID=America/Chicago:20240403T100000
DTEND;TZID=America/Chicago:20240403T130000
DTSTAMP:20260423T094242
CREATED:20240202T215347Z
LAST-MODIFIED:20240202T215347Z
UID:10001281-1712138400-1712149200@events.ccc.edu
SUMMARY:Wright: Illinois Institute of Technology (IIT) Table Visit
DESCRIPTION:
URL:https://events.ccc.edu/event/wright-illinois-institute-of-technology-iit-table-visit-2/
CATEGORIES:Wilbur Wright
ATTACH;FMTTYPE=image/png:https://events.ccc.edu/app/uploads/Transfer_Table_Per-College_WW.png
END:VEVENT
BEGIN:VEVENT
DTSTART;TZID=America/Chicago:20240402T170000
DTEND;TZID=America/Chicago:20240402T210000
DTSTAMP:20260423T094242
CREATED:20240227T224849Z
LAST-MODIFIED:20240227T224849Z
UID:10001411-1712077200-1712091600@events.ccc.edu
SUMMARY:Photovoltaic System Fundamentals with IBEW
DESCRIPTION:
URL:https://events.ccc.edu/event/photovoltaic-system-fundamentals-with-ibew/
CATEGORIES:Richard J. Daley,Wilbur Wright
ATTACH;FMTTYPE=image/jpeg:https://events.ccc.edu/app/uploads/DO_Calendar-Image_02.jpg
END:VEVENT
BEGIN:VEVENT
DTSTART;TZID=America/Chicago:20240402T100000
DTEND;TZID=America/Chicago:20240402T130000
DTSTAMP:20260423T094242
CREATED:20240202T215500Z
LAST-MODIFIED:20240202T215500Z
UID:10001282-1712052000-1712062800@events.ccc.edu
SUMMARY:Wright: Elmhurst University Table Visit
DESCRIPTION:
URL:https://events.ccc.edu/event/wright-elmhurst-university-table-visit-2/
CATEGORIES:Wilbur Wright
ATTACH;FMTTYPE=image/png:https://events.ccc.edu/app/uploads/Transfer_Table_Per-College_WW.png
END:VEVENT
BEGIN:VEVENT
DTSTART;TZID=America/Chicago:20240401T180000
DTEND;TZID=America/Chicago:20240401T200000
DTSTAMP:20260423T094242
CREATED:20231201T210913Z
LAST-MODIFIED:20231201T210913Z
UID:10000396-1711994400-1712001600@events.ccc.edu
SUMMARY:Wright Engineering Information Session
DESCRIPTION:
URL:https://events.ccc.edu/event/wright-engineering-information-session-4/
CATEGORIES:Wilbur Wright
ATTACH;FMTTYPE=image/jpeg:https://events.ccc.edu/app/uploads/WW_Calendar-Image_01-e1715880201328.jpg
END:VEVENT
BEGIN:VEVENT
DTSTART;TZID=America/Chicago:20240401T100000
DTEND;TZID=America/Chicago:20240401T130000
DTSTAMP:20260423T094242
CREATED:20240202T215602Z
LAST-MODIFIED:20240202T215602Z
UID:10001283-1711965600-1711976400@events.ccc.edu
SUMMARY:Wright: Northeastern Illinois University Table Visit
DESCRIPTION:
URL:https://events.ccc.edu/event/wright-northeastern-illinois-university-table-visit-5/
CATEGORIES:Wilbur Wright
ATTACH;FMTTYPE=image/png:https://events.ccc.edu/app/uploads/Transfer_Table_Per-College_WW.png
END:VEVENT
BEGIN:VEVENT
DTSTART;TZID=America/Chicago:20240328T170000
DTEND;TZID=America/Chicago:20240328T181000
DTSTAMP:20260423T094242
CREATED:20240209T184800Z
LAST-MODIFIED:20240209T184800Z
UID:10001347-1711645200-1711649400@events.ccc.edu
SUMMARY:Wright: Campus Tour
DESCRIPTION:
URL:https://events.ccc.edu/event/wright-campus-tour/
CATEGORIES:Wilbur Wright
ATTACH;FMTTYPE=image/jpeg:https://events.ccc.edu/app/uploads/College-Tour_Per-College_WW.jpg
END:VEVENT
BEGIN:VEVENT
DTSTART;TZID=America/Chicago:20240328T160000
DTEND;TZID=America/Chicago:20240328T161000
DTSTAMP:20260423T094242
CREATED:20240212T214933Z
LAST-MODIFIED:20240212T214933Z
UID:10001362-1711641600-1711642200@events.ccc.edu
SUMMARY:Wright: Campus Tour
DESCRIPTION:
URL:https://events.ccc.edu/event/wright-campus-tour-3/
CATEGORIES:Wilbur Wright
ATTACH;FMTTYPE=image/jpeg:https://events.ccc.edu/app/uploads/College-Tour_Per-College_WW.jpg
END:VEVENT
BEGIN:VEVENT
DTSTART;TZID=America/Chicago:20240321T170000
DTEND;TZID=America/Chicago:20240321T181000
DTSTAMP:20260423T094242
CREATED:20240209T184946Z
LAST-MODIFIED:20240209T184946Z
UID:10001348-1711040400-1711044600@events.ccc.edu
SUMMARY:Wright: Campus Tour
DESCRIPTION:
URL:https://events.ccc.edu/event/wright-campus-tour-2/
CATEGORIES:Wilbur Wright
ATTACH;FMTTYPE=image/jpeg:https://events.ccc.edu/app/uploads/College-Tour_Per-College_WW.jpg
END:VEVENT
BEGIN:VEVENT
DTSTART;TZID=America/Chicago:20240321T160000
DTEND;TZID=America/Chicago:20240321T161000
DTSTAMP:20260423T094242
CREATED:20240212T215033Z
LAST-MODIFIED:20240212T215033Z
UID:10001363-1711036800-1711037400@events.ccc.edu
SUMMARY:Wright: Campus Tour
DESCRIPTION:
URL:https://events.ccc.edu/event/wright-campus-tour-4/
CATEGORIES:Wilbur Wright
ATTACH;FMTTYPE=image/jpeg:https://events.ccc.edu/app/uploads/College-Tour_Per-College_WW.jpg
END:VEVENT
END:VCALENDAR