BEGIN:VCALENDAR
VERSION:2.0
PRODID:-//CCC - ECPv6.11.2//NONSGML v1.0//EN
CALSCALE:GREGORIAN
METHOD:PUBLISH
X-ORIGINAL-URL:https://events.ccc.edu
X-WR-CALDESC:Events for CCC
REFRESH-INTERVAL;VALUE=DURATION:PT1H
X-Robots-Tag:noindex
X-PUBLISHED-TTL:PT1H
BEGIN:VTIMEZONE
TZID:America/Chicago
BEGIN:DAYLIGHT
TZOFFSETFROM:-0600
TZOFFSETTO:-0500
TZNAME:CDT
DTSTART:20240310T080000
END:DAYLIGHT
BEGIN:STANDARD
TZOFFSETFROM:-0500
TZOFFSETTO:-0600
TZNAME:CST
DTSTART:20241103T070000
END:STANDARD
END:VTIMEZONE
BEGIN:VEVENT
DTSTART;TZID=America/Chicago:20240404T100000
DTEND;TZID=America/Chicago:20240404T130000
DTSTAMP:20260423T110707
CREATED:20240202T215213Z
LAST-MODIFIED:20240202T215213Z
UID:10001280-1712224800-1712235600@events.ccc.edu
SUMMARY:Wright: Concordia University Chicago Table Visit
DESCRIPTION:
URL:https://events.ccc.edu/event/wright-concordia-university-chicago-table-visit-3/
CATEGORIES:Wilbur Wright
ATTACH;FMTTYPE=image/png:https://events.ccc.edu/app/uploads/Transfer_Table_Per-College_WW.png
END:VEVENT
BEGIN:VEVENT
DTSTART;TZID=America/Chicago:20240403T100000
DTEND;TZID=America/Chicago:20240403T130000
DTSTAMP:20260423T110707
CREATED:20240202T215347Z
LAST-MODIFIED:20240202T215347Z
UID:10001281-1712138400-1712149200@events.ccc.edu
SUMMARY:Wright: Illinois Institute of Technology (IIT) Table Visit
DESCRIPTION:
URL:https://events.ccc.edu/event/wright-illinois-institute-of-technology-iit-table-visit-2/
CATEGORIES:Wilbur Wright
ATTACH;FMTTYPE=image/png:https://events.ccc.edu/app/uploads/Transfer_Table_Per-College_WW.png
END:VEVENT
BEGIN:VEVENT
DTSTART;TZID=America/Chicago:20240402T170000
DTEND;TZID=America/Chicago:20240402T210000
DTSTAMP:20260423T110707
CREATED:20240227T224849Z
LAST-MODIFIED:20240227T224849Z
UID:10001411-1712077200-1712091600@events.ccc.edu
SUMMARY:Photovoltaic System Fundamentals with IBEW
DESCRIPTION:
URL:https://events.ccc.edu/event/photovoltaic-system-fundamentals-with-ibew/
CATEGORIES:Richard J. Daley,Wilbur Wright
ATTACH;FMTTYPE=image/jpeg:https://events.ccc.edu/app/uploads/DO_Calendar-Image_02.jpg
END:VEVENT
BEGIN:VEVENT
DTSTART;TZID=America/Chicago:20240402T100000
DTEND;TZID=America/Chicago:20240402T130000
DTSTAMP:20260423T110707
CREATED:20240202T215500Z
LAST-MODIFIED:20240202T215500Z
UID:10001282-1712052000-1712062800@events.ccc.edu
SUMMARY:Wright: Elmhurst University Table Visit
DESCRIPTION:
URL:https://events.ccc.edu/event/wright-elmhurst-university-table-visit-2/
CATEGORIES:Wilbur Wright
ATTACH;FMTTYPE=image/png:https://events.ccc.edu/app/uploads/Transfer_Table_Per-College_WW.png
END:VEVENT
BEGIN:VEVENT
DTSTART;TZID=America/Chicago:20240401T180000
DTEND;TZID=America/Chicago:20240401T200000
DTSTAMP:20260423T110707
CREATED:20231201T210913Z
LAST-MODIFIED:20231201T210913Z
UID:10000396-1711994400-1712001600@events.ccc.edu
SUMMARY:Wright Engineering Information Session
DESCRIPTION:
URL:https://events.ccc.edu/event/wright-engineering-information-session-4/
CATEGORIES:Wilbur Wright
ATTACH;FMTTYPE=image/jpeg:https://events.ccc.edu/app/uploads/WW_Calendar-Image_01-e1715880201328.jpg
END:VEVENT
BEGIN:VEVENT
DTSTART;TZID=America/Chicago:20240401T100000
DTEND;TZID=America/Chicago:20240401T130000
DTSTAMP:20260423T110707
CREATED:20240202T215602Z
LAST-MODIFIED:20240202T215602Z
UID:10001283-1711965600-1711976400@events.ccc.edu
SUMMARY:Wright: Northeastern Illinois University Table Visit
DESCRIPTION:
URL:https://events.ccc.edu/event/wright-northeastern-illinois-university-table-visit-5/
CATEGORIES:Wilbur Wright
ATTACH;FMTTYPE=image/png:https://events.ccc.edu/app/uploads/Transfer_Table_Per-College_WW.png
END:VEVENT
BEGIN:VEVENT
DTSTART;TZID=America/Chicago:20240328T170000
DTEND;TZID=America/Chicago:20240328T181000
DTSTAMP:20260423T110707
CREATED:20240209T184800Z
LAST-MODIFIED:20240209T184800Z
UID:10001347-1711645200-1711649400@events.ccc.edu
SUMMARY:Wright: Campus Tour
DESCRIPTION:
URL:https://events.ccc.edu/event/wright-campus-tour/
CATEGORIES:Wilbur Wright
ATTACH;FMTTYPE=image/jpeg:https://events.ccc.edu/app/uploads/College-Tour_Per-College_WW.jpg
END:VEVENT
BEGIN:VEVENT
DTSTART;TZID=America/Chicago:20240328T160000
DTEND;TZID=America/Chicago:20240328T161000
DTSTAMP:20260423T110707
CREATED:20240212T214933Z
LAST-MODIFIED:20240212T214933Z
UID:10001362-1711641600-1711642200@events.ccc.edu
SUMMARY:Wright: Campus Tour
DESCRIPTION:
URL:https://events.ccc.edu/event/wright-campus-tour-3/
CATEGORIES:Wilbur Wright
ATTACH;FMTTYPE=image/jpeg:https://events.ccc.edu/app/uploads/College-Tour_Per-College_WW.jpg
END:VEVENT
BEGIN:VEVENT
DTSTART;TZID=America/Chicago:20240321T170000
DTEND;TZID=America/Chicago:20240321T181000
DTSTAMP:20260423T110707
CREATED:20240209T184946Z
LAST-MODIFIED:20240209T184946Z
UID:10001348-1711040400-1711044600@events.ccc.edu
SUMMARY:Wright: Campus Tour
DESCRIPTION:
URL:https://events.ccc.edu/event/wright-campus-tour-2/
CATEGORIES:Wilbur Wright
ATTACH;FMTTYPE=image/jpeg:https://events.ccc.edu/app/uploads/College-Tour_Per-College_WW.jpg
END:VEVENT
BEGIN:VEVENT
DTSTART;TZID=America/Chicago:20240321T160000
DTEND;TZID=America/Chicago:20240321T161000
DTSTAMP:20260423T110707
CREATED:20240212T215033Z
LAST-MODIFIED:20240212T215033Z
UID:10001363-1711036800-1711037400@events.ccc.edu
SUMMARY:Wright: Campus Tour
DESCRIPTION:
URL:https://events.ccc.edu/event/wright-campus-tour-4/
CATEGORIES:Wilbur Wright
ATTACH;FMTTYPE=image/jpeg:https://events.ccc.edu/app/uploads/College-Tour_Per-College_WW.jpg
END:VEVENT
BEGIN:VEVENT
DTSTART;TZID=America/Chicago:20240321T100000
DTEND;TZID=America/Chicago:20240321T130000
DTSTAMP:20260423T110707
CREATED:20240202T215701Z
LAST-MODIFIED:20240202T215701Z
UID:10001284-1711015200-1711026000@events.ccc.edu
SUMMARY:Wright: DePaul University Table Visit
DESCRIPTION:
URL:https://events.ccc.edu/event/wright-depaul-university-table-visit-3/
CATEGORIES:Wilbur Wright
ATTACH;FMTTYPE=image/png:https://events.ccc.edu/app/uploads/Transfer_Table_Per-College_WW.png
END:VEVENT
BEGIN:VEVENT
DTSTART;TZID=America/Chicago:20240320T170000
DTEND;TZID=America/Chicago:20240320T190000
DTSTAMP:20260423T110707
CREATED:20240227T224717Z
LAST-MODIFIED:20240227T224717Z
UID:10001410-1710954000-1710961200@events.ccc.edu
SUMMARY:Wright: Paint & Sip
DESCRIPTION:
URL:https://events.ccc.edu/event/wright-paint-sip/
CATEGORIES:Wilbur Wright
ATTACH;FMTTYPE=image/png:https://events.ccc.edu/app/uploads/WHM_Calendar-Image_WW.png
END:VEVENT
BEGIN:VEVENT
DTSTART;TZID=America/Chicago:20240320T100000
DTEND;TZID=America/Chicago:20240320T130000
DTSTAMP:20260423T110707
CREATED:20240202T215809Z
LAST-MODIFIED:20240202T215809Z
UID:10001285-1710928800-1710939600@events.ccc.edu
SUMMARY:Wright: Illinois Institute of Technology (IIT) Table Visit
DESCRIPTION:
URL:https://events.ccc.edu/event/wright-illinois-institute-of-technology-iit-table-visit-3/
CATEGORIES:Wilbur Wright
ATTACH;FMTTYPE=image/png:https://events.ccc.edu/app/uploads/Transfer_Table_Per-College_WW.png
END:VEVENT
BEGIN:VEVENT
DTSTART;TZID=America/Chicago:20240319T140000
DTEND;TZID=America/Chicago:20240319T150000
DTSTAMP:20260423T110707
CREATED:20240301T223346Z
LAST-MODIFIED:20240301T223346Z
UID:10001421-1710856800-1710860400@events.ccc.edu
SUMMARY:Wright: Taco Tuesday - Polling Party
DESCRIPTION:
URL:https://events.ccc.edu/event/wright-taco-tuesday-polling-party/
CATEGORIES:Wilbur Wright
ATTACH;FMTTYPE=image/jpeg:https://events.ccc.edu/app/uploads/WW_Stdnt_Act_01.jpg
END:VEVENT
BEGIN:VEVENT
DTSTART;TZID=America/Chicago:20240319T100000
DTEND;TZID=America/Chicago:20240319T130000
DTSTAMP:20260423T110707
CREATED:20240202T215925Z
LAST-MODIFIED:20240202T215925Z
UID:10001286-1710842400-1710853200@events.ccc.edu
SUMMARY:Wright: Dominican University Table Visit
DESCRIPTION:
URL:https://events.ccc.edu/event/wright-dominican-university-table-visit-3/
CATEGORIES:Wilbur Wright
ATTACH;FMTTYPE=image/png:https://events.ccc.edu/app/uploads/Transfer_Table_Per-College_WW.png
END:VEVENT
BEGIN:VEVENT
DTSTART;TZID=America/Chicago:20240318T130000
DTEND;TZID=America/Chicago:20240318T160000
DTSTAMP:20260423T110707
CREATED:20240308T213209Z
LAST-MODIFIED:20240308T213209Z
UID:10001450-1710766800-1710777600@events.ccc.edu
SUMMARY:Wright: Indiana Tech Table Visit
DESCRIPTION:
URL:https://events.ccc.edu/event/wright-indiana-tech-table-visit/
CATEGORIES:Wilbur Wright
ATTACH;FMTTYPE=image/png:https://events.ccc.edu/app/uploads/Transfer_Table_Per-College_WW.png
END:VEVENT
BEGIN:VEVENT
DTSTART;TZID=America/Chicago:20240318T100000
DTEND;TZID=America/Chicago:20240318T130000
DTSTAMP:20260423T110707
CREATED:20240202T220044Z
LAST-MODIFIED:20240202T220044Z
UID:10001287-1710756000-1710766800@events.ccc.edu
SUMMARY:Wright: Southern Illinois University Carbondale Table Visit
DESCRIPTION:
URL:https://events.ccc.edu/event/wright-southern-illinois-university-carbondale-table-visit/
CATEGORIES:Wilbur Wright
ATTACH;FMTTYPE=image/png:https://events.ccc.edu/app/uploads/Transfer_Table_Per-College_WW.png
END:VEVENT
BEGIN:VEVENT
DTSTART;TZID=America/Chicago:20240314T180000
DTEND;TZID=America/Chicago:20240314T200000
DTSTAMP:20260423T110707
CREATED:20231201T192511Z
LAST-MODIFIED:20231201T192511Z
UID:10000397-1710439200-1710446400@events.ccc.edu
SUMMARY:Wright Engineering Information Session
DESCRIPTION:
URL:https://events.ccc.edu/event/wright-engineering-information-session-5/
CATEGORIES:Wilbur Wright
ATTACH;FMTTYPE=image/jpeg:https://events.ccc.edu/app/uploads/WW_Calendar-Image_01-e1715880201328.jpg
END:VEVENT
BEGIN:VEVENT
DTSTART;TZID=America/Chicago:20240314T170000
DTEND;TZID=America/Chicago:20240314T171000
DTSTAMP:20260423T110707
CREATED:20240212T215119Z
LAST-MODIFIED:20240212T215119Z
UID:10001364-1710435600-1710436200@events.ccc.edu
SUMMARY:Wright: Campus Tour
DESCRIPTION:
URL:https://events.ccc.edu/event/wright-campus-tour-5/
CATEGORIES:Wilbur Wright
ATTACH;FMTTYPE=image/jpeg:https://events.ccc.edu/app/uploads/College-Tour_Per-College_WW.jpg
END:VEVENT
BEGIN:VEVENT
DTSTART;TZID=America/Chicago:20240314T160000
DTEND;TZID=America/Chicago:20240314T161000
DTSTAMP:20260423T110707
CREATED:20240212T215204Z
LAST-MODIFIED:20240212T215204Z
UID:10001365-1710432000-1710432600@events.ccc.edu
SUMMARY:Wright: Campus Tour
DESCRIPTION:
URL:https://events.ccc.edu/event/wright-campus-tour-6/
CATEGORIES:Wilbur Wright
ATTACH;FMTTYPE=image/jpeg:https://events.ccc.edu/app/uploads/College-Tour_Per-College_WW.jpg
END:VEVENT
BEGIN:VEVENT
DTSTART;TZID=America/Chicago:20240313T153000
DTEND;TZID=America/Chicago:20240313T163000
DTSTAMP:20260423T110707
CREATED:20240131T152719Z
LAST-MODIFIED:20240131T152719Z
UID:10001261-1710343800-1710347400@events.ccc.edu
SUMMARY:Wright: Satisfactory Academic Progress (SAP) Virtual Information Session
DESCRIPTION:
URL:https://events.ccc.edu/event/wright-satisfactory-academic-progress-sap-virtual-information-session/
CATEGORIES:Wilbur Wright
ATTACH;FMTTYPE=image/jpeg:https://events.ccc.edu/app/uploads/Financial-Aid_Calendar.jpg
END:VEVENT
BEGIN:VEVENT
DTSTART;TZID=America/Chicago:20240313T130000
DTEND;TZID=America/Chicago:20240313T160000
DTSTAMP:20260423T110707
CREATED:20240202T220156Z
LAST-MODIFIED:20240202T220156Z
UID:10001288-1710334800-1710345600@events.ccc.edu
SUMMARY:Wright: Concordia University Chicago Table Visit
DESCRIPTION:
URL:https://events.ccc.edu/event/wright-concordia-university-chicago-table-visit-4/
CATEGORIES:Wilbur Wright
ATTACH;FMTTYPE=image/png:https://events.ccc.edu/app/uploads/Transfer_Table_Per-College_WW.png
END:VEVENT
BEGIN:VEVENT
DTSTART;TZID=America/Chicago:20240313T130000
DTEND;TZID=America/Chicago:20240313T150000
DTSTAMP:20260423T110707
CREATED:20240301T223552Z
LAST-MODIFIED:20240301T223552Z
UID:10001422-1710334800-1710342000@events.ccc.edu
SUMMARY:Wright: Barbie Showing
DESCRIPTION:
URL:https://events.ccc.edu/event/wright-barbie-showing/
CATEGORIES:Wilbur Wright
ATTACH;FMTTYPE=image/png:https://events.ccc.edu/app/uploads/WHM_Calendar-Image_WW.png
END:VEVENT
BEGIN:VEVENT
DTSTART;TZID=America/Chicago:20240313T100000
DTEND;TZID=America/Chicago:20240313T130000
DTSTAMP:20260423T110707
CREATED:20240202T220249Z
LAST-MODIFIED:20240202T220249Z
UID:10001289-1710324000-1710334800@events.ccc.edu
SUMMARY:Wright: Marquette University Table Visit
DESCRIPTION:
URL:https://events.ccc.edu/event/wright-marquette-university-table-visit/
CATEGORIES:Wilbur Wright
ATTACH;FMTTYPE=image/png:https://events.ccc.edu/app/uploads/Transfer_Table_Per-College_WW.png
END:VEVENT
BEGIN:VEVENT
DTSTART;TZID=America/Chicago:20240312T153000
DTEND;TZID=America/Chicago:20240312T173000
DTSTAMP:20260423T110707
CREATED:20240103T173851Z
LAST-MODIFIED:20240103T173851Z
UID:10000786-1710257400-1710264600@events.ccc.edu
SUMMARY:Harold Washington: Becoming a Rockstar Grad Student
DESCRIPTION:
URL:https://events.ccc.edu/event/harold-washington-becoming-a-rockstar-grad-student-2/
CATEGORIES:District Office,District-wide,Harold Washington,Harry S Truman,Kennedy-King,Malcolm X,Olive-Harvey,Richard J. Daley,Wilbur Wright
ATTACH;FMTTYPE=image/png:https://events.ccc.edu/app/uploads/Transfer_Per-College_HW.png
END:VEVENT
BEGIN:VEVENT
DTSTART;TZID=America/Chicago:20240312T140000
DTEND;TZID=America/Chicago:20240312T150000
DTSTAMP:20260423T110707
CREATED:20240301T222358Z
LAST-MODIFIED:20240301T222358Z
UID:10001417-1710252000-1710255600@events.ccc.edu
SUMMARY:Wright: Taco Tuesday - HERstory Kahoot
DESCRIPTION:
URL:https://events.ccc.edu/event/wright-taco-tuesday-herstory-kahoot/
CATEGORIES:Wilbur Wright
ATTACH;FMTTYPE=image/png:https://events.ccc.edu/app/uploads/WHM_Calendar-Image_WW.png
END:VEVENT
BEGIN:VEVENT
DTSTART;TZID=America/Chicago:20240312T140000
DTEND;TZID=America/Chicago:20240312T150000
DTSTAMP:20260423T110707
CREATED:20240227T182817Z
LAST-MODIFIED:20240227T182817Z
UID:10001407-1710252000-1710255600@events.ccc.edu
SUMMARY:Wright: Criminal Justice Information Session
DESCRIPTION:
URL:https://events.ccc.edu/event/wright-criminal-justice-information-session/
CATEGORIES:District-wide,Wilbur Wright
ATTACH;FMTTYPE=image/jpeg:https://events.ccc.edu/app/uploads/DO_Calendar-Image_01-e1709153611957.jpg
END:VEVENT
BEGIN:VEVENT
DTSTART;TZID=America/Chicago:20240312T100000
DTEND;TZID=America/Chicago:20240312T130000
DTSTAMP:20260423T110707
CREATED:20240202T220342Z
LAST-MODIFIED:20240202T220342Z
UID:10001290-1710237600-1710248400@events.ccc.edu
SUMMARY:Wright: Illinois Institute of Technology (IIT) Table Visit
DESCRIPTION:
URL:https://events.ccc.edu/event/wright-illinois-institute-of-technology-iit-table-visit-4/
CATEGORIES:Wilbur Wright
ATTACH;FMTTYPE=image/png:https://events.ccc.edu/app/uploads/Transfer_Table_Per-College_WW.png
END:VEVENT
BEGIN:VEVENT
DTSTART;TZID=America/Chicago:20240311T130000
DTEND;TZID=America/Chicago:20240311T160000
DTSTAMP:20260423T110707
CREATED:20240202T220506Z
LAST-MODIFIED:20240202T220506Z
UID:10001291-1710162000-1710172800@events.ccc.edu
SUMMARY:Wright: Elmhurst University Table Visit
DESCRIPTION:
URL:https://events.ccc.edu/event/wright-elmhurst-university-table-visit-3/
CATEGORIES:Wilbur Wright
ATTACH;FMTTYPE=image/png:https://events.ccc.edu/app/uploads/Transfer_Table_Per-College_WW.png
END:VEVENT
BEGIN:VEVENT
DTSTART;TZID=America/Chicago:20240311T100000
DTEND;TZID=America/Chicago:20240311T130000
DTSTAMP:20260423T110707
CREATED:20240202T220558Z
LAST-MODIFIED:20240202T220558Z
UID:10001292-1710151200-1710162000@events.ccc.edu
SUMMARY:Wright: Saint Xavier University Table Visit
DESCRIPTION:
URL:https://events.ccc.edu/event/wright-saint-xavier-university-table-visit/
CATEGORIES:Wilbur Wright
ATTACH;FMTTYPE=image/png:https://events.ccc.edu/app/uploads/Transfer_Table_Per-College_WW.png
END:VEVENT
END:VCALENDAR