BEGIN:VCALENDAR
VERSION:2.0
PRODID:-//CCC - ECPv6.11.2//NONSGML v1.0//EN
CALSCALE:GREGORIAN
METHOD:PUBLISH
X-ORIGINAL-URL:https://events.ccc.edu
X-WR-CALDESC:Events for CCC
REFRESH-INTERVAL;VALUE=DURATION:PT1H
X-Robots-Tag:noindex
X-PUBLISHED-TTL:PT1H
BEGIN:VTIMEZONE
TZID:America/Chicago
BEGIN:DAYLIGHT
TZOFFSETFROM:-0600
TZOFFSETTO:-0500
TZNAME:CDT
DTSTART:20240310T080000
END:DAYLIGHT
BEGIN:STANDARD
TZOFFSETFROM:-0500
TZOFFSETTO:-0600
TZNAME:CST
DTSTART:20241103T070000
END:STANDARD
END:VTIMEZONE
BEGIN:VEVENT
DTSTART;TZID=America/Chicago:20240313T153000
DTEND;TZID=America/Chicago:20240313T163000
DTSTAMP:20260423T122313
CREATED:20240131T152719Z
LAST-MODIFIED:20240131T152719Z
UID:10001261-1710343800-1710347400@events.ccc.edu
SUMMARY:Wright: Satisfactory Academic Progress (SAP) Virtual Information Session
DESCRIPTION:
URL:https://events.ccc.edu/event/wright-satisfactory-academic-progress-sap-virtual-information-session/
CATEGORIES:Wilbur Wright
ATTACH;FMTTYPE=image/jpeg:https://events.ccc.edu/app/uploads/Financial-Aid_Calendar.jpg
END:VEVENT
BEGIN:VEVENT
DTSTART;TZID=America/Chicago:20240313T130000
DTEND;TZID=America/Chicago:20240313T160000
DTSTAMP:20260423T122313
CREATED:20240202T220156Z
LAST-MODIFIED:20240202T220156Z
UID:10001288-1710334800-1710345600@events.ccc.edu
SUMMARY:Wright: Concordia University Chicago Table Visit
DESCRIPTION:
URL:https://events.ccc.edu/event/wright-concordia-university-chicago-table-visit-4/
CATEGORIES:Wilbur Wright
ATTACH;FMTTYPE=image/png:https://events.ccc.edu/app/uploads/Transfer_Table_Per-College_WW.png
END:VEVENT
BEGIN:VEVENT
DTSTART;TZID=America/Chicago:20240313T130000
DTEND;TZID=America/Chicago:20240313T150000
DTSTAMP:20260423T122313
CREATED:20240301T223552Z
LAST-MODIFIED:20240301T223552Z
UID:10001422-1710334800-1710342000@events.ccc.edu
SUMMARY:Wright: Barbie Showing
DESCRIPTION:
URL:https://events.ccc.edu/event/wright-barbie-showing/
CATEGORIES:Wilbur Wright
ATTACH;FMTTYPE=image/png:https://events.ccc.edu/app/uploads/WHM_Calendar-Image_WW.png
END:VEVENT
BEGIN:VEVENT
DTSTART;TZID=America/Chicago:20240313T100000
DTEND;TZID=America/Chicago:20240313T130000
DTSTAMP:20260423T122313
CREATED:20240202T220249Z
LAST-MODIFIED:20240202T220249Z
UID:10001289-1710324000-1710334800@events.ccc.edu
SUMMARY:Wright: Marquette University Table Visit
DESCRIPTION:
URL:https://events.ccc.edu/event/wright-marquette-university-table-visit/
CATEGORIES:Wilbur Wright
ATTACH;FMTTYPE=image/png:https://events.ccc.edu/app/uploads/Transfer_Table_Per-College_WW.png
END:VEVENT
BEGIN:VEVENT
DTSTART;TZID=America/Chicago:20240312T153000
DTEND;TZID=America/Chicago:20240312T173000
DTSTAMP:20260423T122313
CREATED:20240103T173851Z
LAST-MODIFIED:20240103T173851Z
UID:10000786-1710257400-1710264600@events.ccc.edu
SUMMARY:Harold Washington: Becoming a Rockstar Grad Student
DESCRIPTION:
URL:https://events.ccc.edu/event/harold-washington-becoming-a-rockstar-grad-student-2/
CATEGORIES:District Office,District-wide,Harold Washington,Harry S Truman,Kennedy-King,Malcolm X,Olive-Harvey,Richard J. Daley,Wilbur Wright
ATTACH;FMTTYPE=image/png:https://events.ccc.edu/app/uploads/Transfer_Per-College_HW.png
END:VEVENT
BEGIN:VEVENT
DTSTART;TZID=America/Chicago:20240312T140000
DTEND;TZID=America/Chicago:20240312T150000
DTSTAMP:20260423T122313
CREATED:20240301T222358Z
LAST-MODIFIED:20240301T222358Z
UID:10001417-1710252000-1710255600@events.ccc.edu
SUMMARY:Wright: Taco Tuesday - HERstory Kahoot
DESCRIPTION:
URL:https://events.ccc.edu/event/wright-taco-tuesday-herstory-kahoot/
CATEGORIES:Wilbur Wright
ATTACH;FMTTYPE=image/png:https://events.ccc.edu/app/uploads/WHM_Calendar-Image_WW.png
END:VEVENT
BEGIN:VEVENT
DTSTART;TZID=America/Chicago:20240312T140000
DTEND;TZID=America/Chicago:20240312T150000
DTSTAMP:20260423T122313
CREATED:20240227T182817Z
LAST-MODIFIED:20240227T182817Z
UID:10001407-1710252000-1710255600@events.ccc.edu
SUMMARY:Wright: Criminal Justice Information Session
DESCRIPTION:
URL:https://events.ccc.edu/event/wright-criminal-justice-information-session/
CATEGORIES:District-wide,Wilbur Wright
ATTACH;FMTTYPE=image/jpeg:https://events.ccc.edu/app/uploads/DO_Calendar-Image_01-e1709153611957.jpg
END:VEVENT
BEGIN:VEVENT
DTSTART;TZID=America/Chicago:20240312T100000
DTEND;TZID=America/Chicago:20240312T130000
DTSTAMP:20260423T122313
CREATED:20240202T220342Z
LAST-MODIFIED:20240202T220342Z
UID:10001290-1710237600-1710248400@events.ccc.edu
SUMMARY:Wright: Illinois Institute of Technology (IIT) Table Visit
DESCRIPTION:
URL:https://events.ccc.edu/event/wright-illinois-institute-of-technology-iit-table-visit-4/
CATEGORIES:Wilbur Wright
ATTACH;FMTTYPE=image/png:https://events.ccc.edu/app/uploads/Transfer_Table_Per-College_WW.png
END:VEVENT
BEGIN:VEVENT
DTSTART;TZID=America/Chicago:20240311T130000
DTEND;TZID=America/Chicago:20240311T160000
DTSTAMP:20260423T122313
CREATED:20240202T220506Z
LAST-MODIFIED:20240202T220506Z
UID:10001291-1710162000-1710172800@events.ccc.edu
SUMMARY:Wright: Elmhurst University Table Visit
DESCRIPTION:
URL:https://events.ccc.edu/event/wright-elmhurst-university-table-visit-3/
CATEGORIES:Wilbur Wright
ATTACH;FMTTYPE=image/png:https://events.ccc.edu/app/uploads/Transfer_Table_Per-College_WW.png
END:VEVENT
BEGIN:VEVENT
DTSTART;TZID=America/Chicago:20240311T100000
DTEND;TZID=America/Chicago:20240311T130000
DTSTAMP:20260423T122313
CREATED:20240202T220558Z
LAST-MODIFIED:20240202T220558Z
UID:10001292-1710151200-1710162000@events.ccc.edu
SUMMARY:Wright: Saint Xavier University Table Visit
DESCRIPTION:
URL:https://events.ccc.edu/event/wright-saint-xavier-university-table-visit/
CATEGORIES:Wilbur Wright
ATTACH;FMTTYPE=image/png:https://events.ccc.edu/app/uploads/Transfer_Table_Per-College_WW.png
END:VEVENT
BEGIN:VEVENT
DTSTART;TZID=America/Chicago:20240308T153000
DTEND;TZID=America/Chicago:20240308T170000
DTSTAMP:20260423T122313
CREATED:20240103T180723Z
LAST-MODIFIED:20240103T180723Z
UID:10000792-1709911800-1709917200@events.ccc.edu
SUMMARY:Transfer 101 Workshop
DESCRIPTION:
URL:https://events.ccc.edu/event/transfer-101-workshop-3/
CATEGORIES:District Office,District-wide,Harold Washington,Harry S Truman,Kennedy-King,Malcolm X,Olive-Harvey,Richard J. Daley,Wilbur Wright
ATTACH;FMTTYPE=image/png:https://events.ccc.edu/app/uploads/Transfer_Per-College_DO.png
END:VEVENT
BEGIN:VEVENT
DTSTART;TZID=America/Chicago:20240307T170000
DTEND;TZID=America/Chicago:20240307T171000
DTSTAMP:20260423T122313
CREATED:20240212T215248Z
LAST-MODIFIED:20240212T215248Z
UID:10001366-1709830800-1709831400@events.ccc.edu
SUMMARY:Wright: Campus Tour
DESCRIPTION:
URL:https://events.ccc.edu/event/wright-campus-tour-7/
CATEGORIES:Wilbur Wright
ATTACH;FMTTYPE=image/jpeg:https://events.ccc.edu/app/uploads/College-Tour_Per-College_WW.jpg
END:VEVENT
BEGIN:VEVENT
DTSTART;TZID=America/Chicago:20240307T160000
DTEND;TZID=America/Chicago:20240307T161000
DTSTAMP:20260423T122313
CREATED:20240212T215344Z
LAST-MODIFIED:20240212T215344Z
UID:10001367-1709827200-1709827800@events.ccc.edu
SUMMARY:Wright: Campus Tour
DESCRIPTION:
URL:https://events.ccc.edu/event/wright-campus-tour-8/
CATEGORIES:Wilbur Wright
ATTACH;FMTTYPE=image/jpeg:https://events.ccc.edu/app/uploads/College-Tour_Per-College_WW.jpg
END:VEVENT
BEGIN:VEVENT
DTSTART;TZID=America/Chicago:20240307T100000
DTEND;TZID=America/Chicago:20240307T130000
DTSTAMP:20260423T122313
CREATED:20240202T220645Z
LAST-MODIFIED:20240202T220645Z
UID:10001293-1709805600-1709816400@events.ccc.edu
SUMMARY:Wright: Roosevelt University Table Visit
DESCRIPTION:
URL:https://events.ccc.edu/event/wright-roosevelt-university-table-visit-5/
CATEGORIES:Wilbur Wright
ATTACH;FMTTYPE=image/png:https://events.ccc.edu/app/uploads/Transfer_Table_Per-College_WW.png
END:VEVENT
BEGIN:VEVENT
DTSTART;TZID=America/Chicago:20240305T140000
DTEND;TZID=America/Chicago:20240305T150000
DTSTAMP:20260423T122313
CREATED:20240301T221908Z
LAST-MODIFIED:20240301T221909Z
UID:10001415-1709647200-1709650800@events.ccc.edu
SUMMARY:Wright: Taco Tuesday - International Women's Day
DESCRIPTION:
URL:https://events.ccc.edu/event/wright-taco-tuesday-international-womens-day/
CATEGORIES:Wilbur Wright
ATTACH;FMTTYPE=image/png:https://events.ccc.edu/app/uploads/WHM_Calendar-Image_WW.png
END:VEVENT
BEGIN:VEVENT
DTSTART;TZID=America/Chicago:20240305T130000
DTEND;TZID=America/Chicago:20240305T160000
DTSTAMP:20260423T122313
CREATED:20240202T220738Z
LAST-MODIFIED:20240202T220738Z
UID:10001294-1709643600-1709654400@events.ccc.edu
SUMMARY:Wright: Northeastern Illinois University Table Visit
DESCRIPTION:
URL:https://events.ccc.edu/event/wright-northeastern-illinois-university-table-visit-6/
CATEGORIES:Wilbur Wright
ATTACH;FMTTYPE=image/png:https://events.ccc.edu/app/uploads/Transfer_Table_Per-College_WW.png
END:VEVENT
BEGIN:VEVENT
DTSTART;TZID=America/Chicago:20240305T110000
DTEND;TZID=America/Chicago:20240305T140000
DTSTAMP:20260423T122313
CREATED:20240301T221504Z
LAST-MODIFIED:20240301T221504Z
UID:10001414-1709636400-1709647200@events.ccc.edu
SUMMARY:Wright: NEIU Day
DESCRIPTION:
URL:https://events.ccc.edu/event/wright-neiu-day/
CATEGORIES:Wilbur Wright
ATTACH;FMTTYPE=image/jpeg:https://events.ccc.edu/app/uploads/WW_Stdnt_Act_01.jpg
END:VEVENT
BEGIN:VEVENT
DTSTART;TZID=America/Chicago:20240305T100000
DTEND;TZID=America/Chicago:20240305T130000
DTSTAMP:20260423T122313
CREATED:20240202T224104Z
LAST-MODIFIED:20240202T224104Z
UID:10001319-1709632800-1709643600@events.ccc.edu
SUMMARY:Wright: Northeastern Illinois University - Nontraditional Degree Program Table Visit
DESCRIPTION:
URL:https://events.ccc.edu/event/wright-northeastern-illinois-university-nontraditional-degree-program-table-visit-4/
CATEGORIES:Wilbur Wright
ATTACH;FMTTYPE=image/png:https://events.ccc.edu/app/uploads/Transfer_Table_Per-College_WW.png
END:VEVENT
BEGIN:VEVENT
DTSTART;TZID=America/Chicago:20240304T100000
DTEND;TZID=America/Chicago:20240304T130000
DTSTAMP:20260423T122313
CREATED:20240202T220828Z
LAST-MODIFIED:20240202T220828Z
UID:10001295-1709546400-1709557200@events.ccc.edu
SUMMARY:Wright: Dominican University Table Visit
DESCRIPTION:
URL:https://events.ccc.edu/event/wright-dominican-university-table-visit-4/
CATEGORIES:Wilbur Wright
ATTACH;FMTTYPE=image/png:https://events.ccc.edu/app/uploads/Transfer_Table_Per-College_WW.png
END:VEVENT
BEGIN:VEVENT
DTSTART;TZID=America/Chicago:20240229T170000
DTEND;TZID=America/Chicago:20240229T171000
DTSTAMP:20260423T122313
CREATED:20240212T215431Z
LAST-MODIFIED:20240212T215431Z
UID:10001368-1709226000-1709226600@events.ccc.edu
SUMMARY:Wright: Campus Tour
DESCRIPTION:
URL:https://events.ccc.edu/event/wright-campus-tour-9/
CATEGORIES:Wilbur Wright
ATTACH;FMTTYPE=image/jpeg:https://events.ccc.edu/app/uploads/College-Tour_Per-College_WW.jpg
END:VEVENT
BEGIN:VEVENT
DTSTART;TZID=America/Chicago:20240229T160000
DTEND;TZID=America/Chicago:20240229T161000
DTSTAMP:20260423T122313
CREATED:20240212T215519Z
LAST-MODIFIED:20240212T215519Z
UID:10001369-1709222400-1709223000@events.ccc.edu
SUMMARY:Wright: Campus Tour
DESCRIPTION:
URL:https://events.ccc.edu/event/wright-campus-tour-10/
CATEGORIES:Wilbur Wright
ATTACH;FMTTYPE=image/jpeg:https://events.ccc.edu/app/uploads/College-Tour_Per-College_WW.jpg
END:VEVENT
BEGIN:VEVENT
DTSTART;TZID=America/Chicago:20240228T100000
DTEND;TZID=America/Chicago:20240228T130000
DTSTAMP:20260423T122313
CREATED:20240202T221025Z
LAST-MODIFIED:20240202T221025Z
UID:10001297-1709114400-1709125200@events.ccc.edu
SUMMARY:Wright: Northeastern Illinois University Table Visit
DESCRIPTION:
URL:https://events.ccc.edu/event/wright-northeastern-illinois-university-table-visit-7/
CATEGORIES:Wilbur Wright
ATTACH;FMTTYPE=image/png:https://events.ccc.edu/app/uploads/Transfer_Table_Per-College_WW.png
END:VEVENT
BEGIN:VEVENT
DTSTART;TZID=America/Chicago:20240227T140000
DTEND;TZID=America/Chicago:20240227T150000
DTSTAMP:20260423T122313
CREATED:20240212T215607Z
LAST-MODIFIED:20240212T215607Z
UID:10001370-1709042400-1709046000@events.ccc.edu
SUMMARY:Wright: Walking Museum Tour and Scavenger Hunt
DESCRIPTION:
URL:https://events.ccc.edu/event/wright-walking-museum-tour-and-scavenger-hunt/
CATEGORIES:Wilbur Wright
ATTACH;FMTTYPE=image/png:https://events.ccc.edu/app/uploads/BHM_Calendar-Images_WW.png
END:VEVENT
BEGIN:VEVENT
DTSTART;TZID=America/Chicago:20240227T140000
DTEND;TZID=America/Chicago:20240227T150000
DTSTAMP:20260423T122313
CREATED:20240125T223720Z
LAST-MODIFIED:20240125T223720Z
UID:10001001-1709042400-1709046000@events.ccc.edu
SUMMARY:Wright: Black History Month Taco Tuesday/Scavenger Hunt
DESCRIPTION:
URL:https://events.ccc.edu/event/wright-college-black-history-month-taco-tuesday-scavenger-hunt/
CATEGORIES:Wilbur Wright
ATTACH;FMTTYPE=image/png:https://events.ccc.edu/app/uploads/BHM_Calendar-Images_WW.png
END:VEVENT
BEGIN:VEVENT
DTSTART;TZID=America/Chicago:20240227T140000
DTEND;TZID=America/Chicago:20240227T150000
DTSTAMP:20260423T122313
CREATED:20240116T222106Z
LAST-MODIFIED:20240116T222106Z
UID:10000999-1709042400-1709046000@events.ccc.edu
SUMMARY:Wright: Civic & Taco Tuesday!
DESCRIPTION:
URL:https://events.ccc.edu/event/wright-college-civic-taco-tuesday/
CATEGORIES:Wilbur Wright
ATTACH;FMTTYPE=image/jpeg:https://events.ccc.edu/app/uploads/WW_Stdnt_Act_03.jpg
END:VEVENT
BEGIN:VEVENT
DTSTART;TZID=America/Chicago:20240227T120000
DTEND;TZID=America/Chicago:20240227T133000
DTSTAMP:20260423T122313
CREATED:20240212T215838Z
LAST-MODIFIED:20240212T215838Z
UID:10001371-1709035200-1709040600@events.ccc.edu
SUMMARY:Wright: Plan for and Secure your Legacy
DESCRIPTION:
URL:https://events.ccc.edu/event/wright-plan-for-and-secure-your-legacy/
CATEGORIES:Wilbur Wright
ATTACH;FMTTYPE=image/png:https://events.ccc.edu/app/uploads/BHM_Calendar-Images_WW.png
END:VEVENT
BEGIN:VEVENT
DTSTART;TZID=America/Chicago:20240227T100000
DTEND;TZID=America/Chicago:20240227T130000
DTSTAMP:20260423T122313
CREATED:20240202T220940Z
LAST-MODIFIED:20240202T220940Z
UID:10001296-1709028000-1709038800@events.ccc.edu
SUMMARY:Wright: Southern Illinois University Carbondale Table Visit
DESCRIPTION:
URL:https://events.ccc.edu/event/wright-southern-illinois-university-carbondale-table-visit-2/
CATEGORIES:Wilbur Wright
ATTACH;FMTTYPE=image/png:https://events.ccc.edu/app/uploads/Transfer_Table_Per-College_WW.png
END:VEVENT
BEGIN:VEVENT
DTSTART;TZID=America/Chicago:20240226T100000
DTEND;TZID=America/Chicago:20240226T130000
DTSTAMP:20260423T122313
CREATED:20240202T221127Z
LAST-MODIFIED:20240202T221127Z
UID:10001298-1708941600-1708952400@events.ccc.edu
SUMMARY:Wright: Columbia College Chicago Table Visit
DESCRIPTION:
URL:https://events.ccc.edu/event/wright-columbia-college-chicago-table-visit-4/
CATEGORIES:Wilbur Wright
ATTACH;FMTTYPE=image/png:https://events.ccc.edu/app/uploads/Transfer_Table_Per-College_WW.png
END:VEVENT
BEGIN:VEVENT
DTSTART;TZID=America/Chicago:20240223T100000
DTEND;TZID=America/Chicago:20240223T130000
DTSTAMP:20260423T122313
CREATED:20240212T215813Z
LAST-MODIFIED:20240212T215813Z
UID:10001241-1708682400-1708693200@events.ccc.edu
SUMMARY:Wright: Financial Aid Completion Workshop
DESCRIPTION:
URL:https://events.ccc.edu/event/wright-financial-aid-completion-workshop-17/
CATEGORIES:Wilbur Wright
ATTACH;FMTTYPE=image/jpeg:https://events.ccc.edu/app/uploads/Financial-Aid_Calendar.jpg
END:VEVENT
BEGIN:VEVENT
DTSTART;TZID=America/Chicago:20240222T160000
DTEND;TZID=America/Chicago:20240222T161000
DTSTAMP:20260423T122313
CREATED:20240212T220031Z
LAST-MODIFIED:20240212T220031Z
UID:10001372-1708617600-1708618200@events.ccc.edu
SUMMARY:Wright: Campus Tour
DESCRIPTION:
URL:https://events.ccc.edu/event/wright-campus-tour-11/
CATEGORIES:Wilbur Wright
ATTACH;FMTTYPE=image/jpeg:https://events.ccc.edu/app/uploads/College-Tour_Per-College_WW.jpg
END:VEVENT
END:VCALENDAR