BEGIN:VCALENDAR
VERSION:2.0
PRODID:-//CCC - ECPv6.11.2//NONSGML v1.0//EN
CALSCALE:GREGORIAN
METHOD:PUBLISH
X-WR-CALNAME:CCC
X-ORIGINAL-URL:https://events.ccc.edu
X-WR-CALDESC:Events for CCC
REFRESH-INTERVAL;VALUE=DURATION:PT1H
X-Robots-Tag:noindex
X-PUBLISHED-TTL:PT1H
BEGIN:VTIMEZONE
TZID:America/Chicago
BEGIN:DAYLIGHT
TZOFFSETFROM:-0600
TZOFFSETTO:-0500
TZNAME:CDT
DTSTART:20240310T080000
END:DAYLIGHT
BEGIN:STANDARD
TZOFFSETFROM:-0500
TZOFFSETTO:-0600
TZNAME:CST
DTSTART:20241103T070000
END:STANDARD
END:VTIMEZONE
BEGIN:VEVENT
DTSTART;TZID=America/Chicago:20240216T170000
DTEND;TZID=America/Chicago:20240216T171000
DTSTAMP:20260423T150827
CREATED:20240216T224344Z
LAST-MODIFIED:20240216T224344Z
UID:10001397-1708102800-1708103400@events.ccc.edu
SUMMARY:Wright: College Campus Tour
DESCRIPTION:
URL:https://events.ccc.edu/event/wright-college-campus-tour-3/
CATEGORIES:Wilbur Wright
ATTACH;FMTTYPE=image/jpeg:https://events.ccc.edu/app/uploads/College-Tour_Per-College_WW.jpg
END:VEVENT
BEGIN:VEVENT
DTSTART;TZID=America/Chicago:20240216T170000
DTEND;TZID=America/Chicago:20240216T171000
DTSTAMP:20260423T150827
CREATED:20240216T223830Z
LAST-MODIFIED:20240216T223830Z
UID:10001393-1708102800-1708103400@events.ccc.edu
SUMMARY:Wright: College Campus Tour
DESCRIPTION:
URL:https://events.ccc.edu/event/wright-college-campus-tour/
CATEGORIES:Wilbur Wright
ATTACH;FMTTYPE=image/jpeg:https://events.ccc.edu/app/uploads/College-Tour_Per-College_WW.jpg
END:VEVENT
BEGIN:VEVENT
DTSTART;TZID=America/Chicago:20240216T160000
DTEND;TZID=America/Chicago:20240216T170000
DTSTAMP:20260423T150827
CREATED:20240216T223915Z
LAST-MODIFIED:20240216T223916Z
UID:10001233-1708099200-1708102800@events.ccc.edu
SUMMARY:Wright: Financial Aid Completion Workshop
DESCRIPTION:
URL:https://events.ccc.edu/event/wright-financial-aid-completion-workshop-15/
CATEGORIES:Wilbur Wright
ATTACH;FMTTYPE=image/jpeg:https://events.ccc.edu/app/uploads/Financial-Aid_Calendar.jpg
END:VEVENT
BEGIN:VEVENT
DTSTART;TZID=America/Chicago:20240216T160000
DTEND;TZID=America/Chicago:20240216T161000
DTSTAMP:20260423T150827
CREATED:20240216T224457Z
LAST-MODIFIED:20240216T224457Z
UID:10001399-1708099200-1708099800@events.ccc.edu
SUMMARY:Wright: College Campus Tour
DESCRIPTION:
URL:https://events.ccc.edu/event/wright-college-campus-tour-5/
CATEGORIES:Wilbur Wright
ATTACH;FMTTYPE=image/jpeg:https://events.ccc.edu/app/uploads/College-Tour_Per-College_WW.jpg
END:VEVENT
BEGIN:VEVENT
DTSTART;TZID=America/Chicago:20240216T160000
DTEND;TZID=America/Chicago:20240216T161000
DTSTAMP:20260423T150827
CREATED:20240216T224441Z
LAST-MODIFIED:20240216T224441Z
UID:10001398-1708099200-1708099800@events.ccc.edu
SUMMARY:Wright: College Campus Tour
DESCRIPTION:
URL:https://events.ccc.edu/event/wright-college-campus-tour-4/
CATEGORIES:Wilbur Wright
ATTACH;FMTTYPE=image/jpeg:https://events.ccc.edu/app/uploads/College-Tour_Per-College_WW.jpg
END:VEVENT
BEGIN:VEVENT
DTSTART;TZID=America/Chicago:20240216T160000
DTEND;TZID=America/Chicago:20240216T161000
DTSTAMP:20260423T150827
CREATED:20240216T224013Z
LAST-MODIFIED:20240216T224013Z
UID:10001394-1708099200-1708099800@events.ccc.edu
SUMMARY:Wright: College Campus Tour
DESCRIPTION:
URL:https://events.ccc.edu/event/wright-college-campus-tour-2/
CATEGORIES:Wilbur Wright
ATTACH;FMTTYPE=image/jpeg:https://events.ccc.edu/app/uploads/College-Tour_Per-College_WW.jpg
END:VEVENT
BEGIN:VEVENT
DTSTART;TZID=America/Chicago:20240216T150000
DTEND;TZID=America/Chicago:20240216T170000
DTSTAMP:20260423T150827
CREATED:20240216T224157Z
LAST-MODIFIED:20240216T224157Z
UID:10001396-1708095600-1708102800@events.ccc.edu
SUMMARY:Wright: BHM Film Screening - Moonlight
DESCRIPTION:
URL:https://events.ccc.edu/event/wright-bhm-film-screening-moonlight/
CATEGORIES:Wilbur Wright
ATTACH;FMTTYPE=image/png:https://events.ccc.edu/app/uploads/BHM_Calendar-Images_WW.png
END:VEVENT
BEGIN:VEVENT
DTSTART;TZID=America/Chicago:20240216T130000
DTEND;TZID=America/Chicago:20240216T150000
DTSTAMP:20260423T150827
CREATED:20240216T224247Z
LAST-MODIFIED:20240216T224247Z
UID:10001231-1708088400-1708095600@events.ccc.edu
SUMMARY:Wright: Financial Aid Completion Workshop
DESCRIPTION:
URL:https://events.ccc.edu/event/wright-financial-aid-completion-workshop-14/
CATEGORIES:Wilbur Wright
ATTACH;FMTTYPE=image/jpeg:https://events.ccc.edu/app/uploads/Financial-Aid_Calendar.jpg
END:VEVENT
BEGIN:VEVENT
DTSTART;TZID=America/Chicago:20240216T003000
DTEND;TZID=America/Chicago:20240216T131500
DTSTAMP:20260423T150827
CREATED:20240216T224052Z
LAST-MODIFIED:20240216T224052Z
UID:10001395-1708043400-1708089300@events.ccc.edu
SUMMARY:Wright: World Anthropology Day
DESCRIPTION:
URL:https://events.ccc.edu/event/wright-world-anthropology-day/
CATEGORIES:Wilbur Wright
ATTACH;FMTTYPE=image/png:https://events.ccc.edu/app/uploads/BHM_Calendar-Images_WW.png
END:VEVENT
BEGIN:VEVENT
DTSTART;TZID=America/Chicago:20240215T180000
DTEND;TZID=America/Chicago:20240215T200000
DTSTAMP:20260423T150827
CREATED:20231201T192501Z
LAST-MODIFIED:20231201T192501Z
UID:10000395-1708020000-1708027200@events.ccc.edu
SUMMARY:Wright Engineering Information Session
DESCRIPTION:
URL:https://events.ccc.edu/event/wright-engineering-information-session-3/
CATEGORIES:Wilbur Wright
ATTACH;FMTTYPE=image/jpeg:https://events.ccc.edu/app/uploads/WW_Calendar-Image_01-e1715880201328.jpg
END:VEVENT
BEGIN:VEVENT
DTSTART;TZID=America/Chicago:20240215T170000
DTEND;TZID=America/Chicago:20240215T180000
DTSTAMP:20260423T150827
CREATED:20240103T174410Z
LAST-MODIFIED:20240103T174410Z
UID:10000787-1708016400-1708020000@events.ccc.edu
SUMMARY:Golden Apple Scholarship Workshop for Future Teachers
DESCRIPTION:
URL:https://events.ccc.edu/event/golden-apple-scholarship-workshop-for-future-teachers/
CATEGORIES:District Office,District-wide,Harold Washington,Harry S Truman,Kennedy-King,Malcolm X,Olive-Harvey,Richard J. Daley,Wilbur Wright
ATTACH;FMTTYPE=image/png:https://events.ccc.edu/app/uploads/Transfer_Per-College_DO.png
END:VEVENT
BEGIN:VEVENT
DTSTART;TZID=America/Chicago:20240215T130000
DTEND;TZID=America/Chicago:20240215T160000
DTSTAMP:20260423T150827
CREATED:20240202T221548Z
LAST-MODIFIED:20240202T221548Z
UID:10001302-1708002000-1708012800@events.ccc.edu
SUMMARY:Wright: Northeastern Illinois University Table Visit
DESCRIPTION:
URL:https://events.ccc.edu/event/wright-northeastern-illinois-university-table-visit-8/
CATEGORIES:Wilbur Wright
ATTACH;FMTTYPE=image/png:https://events.ccc.edu/app/uploads/Transfer_Table_Per-College_WW.png
END:VEVENT
BEGIN:VEVENT
DTSTART;TZID=America/Chicago:20240215T100000
DTEND;TZID=America/Chicago:20240215T130000
DTSTAMP:20260423T150827
CREATED:20240202T221714Z
LAST-MODIFIED:20240202T221714Z
UID:10001303-1707991200-1708002000@events.ccc.edu
SUMMARY:Wright: University of Illinois Chicago Table Visit
DESCRIPTION:
URL:https://events.ccc.edu/event/wright-university-of-illinois-chicago-table-visit/
CATEGORIES:Wilbur Wright
ATTACH;FMTTYPE=image/png:https://events.ccc.edu/app/uploads/Transfer_Table_Per-College_WW.png
END:VEVENT
BEGIN:VEVENT
DTSTART;TZID=America/Chicago:20240215T100000
DTEND;TZID=America/Chicago:20240215T130000
DTSTAMP:20260423T150827
CREATED:20240119T215025Z
LAST-MODIFIED:20240119T215025Z
UID:10001109-1707991200-1708002000@events.ccc.edu
SUMMARY:Wright: UIC Table Visit
DESCRIPTION:
URL:https://events.ccc.edu/event/wright-uic-table-visit-4/
CATEGORIES:Wilbur Wright
ATTACH;FMTTYPE=image/png:https://events.ccc.edu/app/uploads/Transfer_Table_Per-College_WW.png
END:VEVENT
BEGIN:VEVENT
DTSTART;TZID=America/Chicago:20240214T153000
DTEND;TZID=America/Chicago:20240214T163000
DTSTAMP:20260423T150827
CREATED:20240131T154359Z
LAST-MODIFIED:20240131T154359Z
UID:10001270-1707924600-1707928200@events.ccc.edu
SUMMARY:Wright: Satisfactory Academic Progress (SAP) Virtual Information Session
DESCRIPTION:
URL:https://events.ccc.edu/event/wright-satisfactory-academic-progress-sap-virtual-information-session-2/
CATEGORIES:Wilbur Wright
ATTACH;FMTTYPE=image/jpeg:https://events.ccc.edu/app/uploads/Financial-Aid_Calendar.jpg
END:VEVENT
BEGIN:VEVENT
DTSTART;TZID=America/Chicago:20240214T110000
DTEND;TZID=America/Chicago:20240214T130000
DTSTAMP:20260423T150827
CREATED:20240116T222010Z
LAST-MODIFIED:20240116T222010Z
UID:10001003-1707908400-1707915600@events.ccc.edu
SUMMARY:Wright: SGA - Fall in Love with a Club Day!
DESCRIPTION:
URL:https://events.ccc.edu/event/wright-college-sga-fall-in-love-with-a-club-day/
CATEGORIES:Wilbur Wright
ATTACH;FMTTYPE=image/jpeg:https://events.ccc.edu/app/uploads/WW_Stdnt_Act_01.jpg
END:VEVENT
BEGIN:VEVENT
DTSTART;TZID=America/Chicago:20240214T100000
DTEND;TZID=America/Chicago:20240214T130000
DTSTAMP:20260423T150827
CREATED:20240202T221808Z
LAST-MODIFIED:20240202T221808Z
UID:10001304-1707904800-1707915600@events.ccc.edu
SUMMARY:Wright: North Park University Table Visit
DESCRIPTION:
URL:https://events.ccc.edu/event/wright-north-park-university-table-visit-2/
CATEGORIES:Wilbur Wright
ATTACH;FMTTYPE=image/png:https://events.ccc.edu/app/uploads/Transfer_Table_Per-College_WW.png
END:VEVENT
BEGIN:VEVENT
DTSTART;TZID=America/Chicago:20240213T140000
DTEND;TZID=America/Chicago:20240213T150000
DTSTAMP:20260423T150827
CREATED:20240116T221936Z
LAST-MODIFIED:20240116T221936Z
UID:10001004-1707832800-1707836400@events.ccc.edu
SUMMARY:Wright: Taco Tuesday - Paczki Day!
DESCRIPTION:
URL:https://events.ccc.edu/event/wright-college-taco-tuesday-paczki-day/
CATEGORIES:Wilbur Wright
ATTACH;FMTTYPE=image/jpeg:https://events.ccc.edu/app/uploads/WW_Stdnt_Act_01.jpg
END:VEVENT
BEGIN:VEVENT
DTSTART;TZID=America/Chicago:20240213T100000
DTEND;TZID=America/Chicago:20240213T130000
DTSTAMP:20260423T150827
CREATED:20240202T222001Z
LAST-MODIFIED:20240202T222001Z
UID:10001305-1707818400-1707829200@events.ccc.edu
SUMMARY:Wright: Northeastern Illinois University - Nontraditional Degree Program Table Visit
DESCRIPTION:
URL:https://events.ccc.edu/event/wright-northeastern-illinois-university-nontraditional-degree-program-table-visit-2/
CATEGORIES:Wilbur Wright
ATTACH;FMTTYPE=image/png:https://events.ccc.edu/app/uploads/Transfer_Table_Per-College_WW.png
END:VEVENT
BEGIN:VEVENT
DTSTART;TZID=America/Chicago:20240212T140000
DTEND;TZID=America/Chicago:20240212T150000
DTSTAMP:20260423T150827
CREATED:20240209T190337Z
LAST-MODIFIED:20240209T190337Z
UID:10001358-1707746400-1707750000@events.ccc.edu
SUMMARY:Wright: Conversations with the Martin Sisters
DESCRIPTION:
URL:https://events.ccc.edu/event/wright-conversations-with-the-martin-sisters/
CATEGORIES:Wilbur Wright
ATTACH;FMTTYPE=image/png:https://events.ccc.edu/app/uploads/BHM_Calendar-Images_WW.png
END:VEVENT
BEGIN:VEVENT
DTSTART;TZID=America/Chicago:20240209T153000
DTEND;TZID=America/Chicago:20240209T170000
DTSTAMP:20260423T150827
CREATED:20240103T181150Z
LAST-MODIFIED:20240103T181150Z
UID:10000794-1707492600-1707498000@events.ccc.edu
SUMMARY:Transfer 101 Workshop
DESCRIPTION:
URL:https://events.ccc.edu/event/transfer-101-workshop-5/
CATEGORIES:District Office,District-wide,Harold Washington,Harry S Truman,Kennedy-King,Malcolm X,Olive-Harvey,Richard J. Daley,Wilbur Wright
ATTACH;FMTTYPE=image/png:https://events.ccc.edu/app/uploads/Transfer_Per-College_DO.png
END:VEVENT
BEGIN:VEVENT
DTSTART;TZID=America/Chicago:20240209T153000
DTEND;TZID=America/Chicago:20240209T170000
DTSTAMP:20260423T150827
CREATED:20240103T181122Z
LAST-MODIFIED:20240103T181122Z
UID:10000793-1707492600-1707498000@events.ccc.edu
SUMMARY:Transfer 101 Workshop
DESCRIPTION:
URL:https://events.ccc.edu/event/transfer-101-workshop-4/
CATEGORIES:District Office,District-wide,Harold Washington,Harry S Truman,Kennedy-King,Malcolm X,Olive-Harvey,Richard J. Daley,Wilbur Wright
ATTACH;FMTTYPE=image/png:https://events.ccc.edu/app/uploads/Transfer_Per-College_DO.png
END:VEVENT
BEGIN:VEVENT
DTSTART;TZID=America/Chicago:20240209T140000
DTEND;TZID=America/Chicago:20240209T150000
DTSTAMP:20260423T150827
CREATED:20240209T190212Z
LAST-MODIFIED:20240209T190212Z
UID:10001357-1707487200-1707490800@events.ccc.edu
SUMMARY:Wright: Interested in Plant Science?
DESCRIPTION:
URL:https://events.ccc.edu/event/wright-interested-in-plant-science/
CATEGORIES:Wilbur Wright
ATTACH;FMTTYPE=image/png:https://events.ccc.edu/app/uploads/BHM_Calendar-Images_WW.png
END:VEVENT
BEGIN:VEVENT
DTSTART;TZID=America/Chicago:20240209T123000
DTEND;TZID=America/Chicago:20240209T143000
DTSTAMP:20260423T150827
CREATED:20240209T184418Z
LAST-MODIFIED:20240209T184418Z
UID:10001345-1707481800-1707489000@events.ccc.edu
SUMMARY:Wright: Black History Month Mixer
DESCRIPTION:
URL:https://events.ccc.edu/event/wright-black-history-month-mixer/
CATEGORIES:Wilbur Wright
ATTACH;FMTTYPE=image/png:https://events.ccc.edu/app/uploads/BHM_Calendar-Images_WW.png
END:VEVENT
BEGIN:VEVENT
DTSTART;TZID=America/Chicago:20240209T100000
DTEND;TZID=America/Chicago:20240209T130000
DTSTAMP:20260423T150827
CREATED:20240216T224253Z
LAST-MODIFIED:20240216T224253Z
UID:10001228-1707472800-1707483600@events.ccc.edu
SUMMARY:Wright: Financial Aid Completion Workshop
DESCRIPTION:
URL:https://events.ccc.edu/event/wright-financial-aid-completion-workshop-13/
CATEGORIES:Wilbur Wright
ATTACH;FMTTYPE=image/jpeg:https://events.ccc.edu/app/uploads/Financial-Aid_Calendar.jpg
END:VEVENT
BEGIN:VEVENT
DTSTART;TZID=America/Chicago:20240209T090000
DTEND;TZID=America/Chicago:20240209T180000
DTSTAMP:20260423T150827
CREATED:20240116T222145Z
LAST-MODIFIED:20240116T222145Z
UID:10000982-1707469200-1707501600@events.ccc.edu
SUMMARY:Wright: SGA Illinois Holocaust Museum Leadership Summit
DESCRIPTION:
URL:https://events.ccc.edu/event/wright-college-sga-illinois-holocaust-museum-leadership-summit/
CATEGORIES:Wilbur Wright
ATTACH;FMTTYPE=image/jpeg:https://events.ccc.edu/app/uploads/WW_Stdnt_Act_03.jpg
END:VEVENT
BEGIN:VEVENT
DTSTART;TZID=America/Chicago:20240208T140000
DTEND;TZID=America/Chicago:20240208T160000
DTSTAMP:20260423T150827
CREATED:20240125T221208Z
LAST-MODIFIED:20240125T221208Z
UID:10001234-1707400800-1707408000@events.ccc.edu
SUMMARY:Wright: SGA Round Table
DESCRIPTION:
URL:https://events.ccc.edu/event/wright-sga-round-table/
CATEGORIES:Wilbur Wright
ATTACH;FMTTYPE=image/jpeg:https://events.ccc.edu/app/uploads/WW_Stdnt_Act_02.jpg
END:VEVENT
BEGIN:VEVENT
DTSTART;TZID=America/Chicago:20240208T130000
DTEND;TZID=America/Chicago:20240208T160000
DTSTAMP:20260423T150827
CREATED:20240202T222115Z
LAST-MODIFIED:20240202T222115Z
UID:10001306-1707397200-1707408000@events.ccc.edu
SUMMARY:Wright: Elmhurst University Table Visit
DESCRIPTION:
URL:https://events.ccc.edu/event/wright-elmhurst-university-table-visit-4/
CATEGORIES:Wilbur Wright
ATTACH;FMTTYPE=image/png:https://events.ccc.edu/app/uploads/Transfer_Table_Per-College_WW.png
END:VEVENT
BEGIN:VEVENT
DTSTART;TZID=America/Chicago:20240208T100000
DTEND;TZID=America/Chicago:20240208T130000
DTSTAMP:20260423T150827
CREATED:20240202T222219Z
LAST-MODIFIED:20240202T222219Z
UID:10001307-1707386400-1707397200@events.ccc.edu
SUMMARY:Wright: Governors State University Table Visit
DESCRIPTION:
URL:https://events.ccc.edu/event/wright-governors-state-university-table-visit-5/
CATEGORIES:Wilbur Wright
ATTACH;FMTTYPE=image/png:https://events.ccc.edu/app/uploads/Transfer_Table_Per-College_WW.png
END:VEVENT
BEGIN:VEVENT
DTSTART;TZID=America/Chicago:20240208T100000
DTEND;TZID=America/Chicago:20240208T130000
DTSTAMP:20260423T150827
CREATED:20240119T215826Z
LAST-MODIFIED:20240119T215826Z
UID:10001113-1707386400-1707397200@events.ccc.edu
SUMMARY:Wright: Governors State University Table Visit
DESCRIPTION:
URL:https://events.ccc.edu/event/wright-governors-state-university-table-visit-3/
CATEGORIES:Wilbur Wright
ATTACH;FMTTYPE=image/png:https://events.ccc.edu/app/uploads/Transfer_Table_Per-College_WW.png
END:VEVENT
END:VCALENDAR