BEGIN:VCALENDAR
VERSION:2.0
PRODID:-//CCC - ECPv6.11.2//NONSGML v1.0//EN
CALSCALE:GREGORIAN
METHOD:PUBLISH
X-WR-CALNAME:CCC
X-ORIGINAL-URL:https://events.ccc.edu
X-WR-CALDESC:Events for CCC
REFRESH-INTERVAL;VALUE=DURATION:PT1H
X-Robots-Tag:noindex
X-PUBLISHED-TTL:PT1H
BEGIN:VTIMEZONE
TZID:America/Chicago
BEGIN:DAYLIGHT
TZOFFSETFROM:-0600
TZOFFSETTO:-0500
TZNAME:CDT
DTSTART:20240310T080000
END:DAYLIGHT
BEGIN:STANDARD
TZOFFSETFROM:-0500
TZOFFSETTO:-0600
TZNAME:CST
DTSTART:20241103T070000
END:STANDARD
END:VTIMEZONE
BEGIN:VEVENT
DTSTART;TZID=America/Chicago:20240209T153000
DTEND;TZID=America/Chicago:20240209T170000
DTSTAMP:20260423T163717
CREATED:20240103T181150Z
LAST-MODIFIED:20240103T181150Z
UID:10000794-1707492600-1707498000@events.ccc.edu
SUMMARY:Transfer 101 Workshop
DESCRIPTION:
URL:https://events.ccc.edu/event/transfer-101-workshop-5/
CATEGORIES:District Office,District-wide,Harold Washington,Harry S Truman,Kennedy-King,Malcolm X,Olive-Harvey,Richard J. Daley,Wilbur Wright
ATTACH;FMTTYPE=image/png:https://events.ccc.edu/app/uploads/Transfer_Per-College_DO.png
END:VEVENT
BEGIN:VEVENT
DTSTART;TZID=America/Chicago:20240209T153000
DTEND;TZID=America/Chicago:20240209T170000
DTSTAMP:20260423T163717
CREATED:20240103T181122Z
LAST-MODIFIED:20240103T181122Z
UID:10000793-1707492600-1707498000@events.ccc.edu
SUMMARY:Transfer 101 Workshop
DESCRIPTION:
URL:https://events.ccc.edu/event/transfer-101-workshop-4/
CATEGORIES:District Office,District-wide,Harold Washington,Harry S Truman,Kennedy-King,Malcolm X,Olive-Harvey,Richard J. Daley,Wilbur Wright
ATTACH;FMTTYPE=image/png:https://events.ccc.edu/app/uploads/Transfer_Per-College_DO.png
END:VEVENT
BEGIN:VEVENT
DTSTART;TZID=America/Chicago:20240209T140000
DTEND;TZID=America/Chicago:20240209T150000
DTSTAMP:20260423T163717
CREATED:20240209T190212Z
LAST-MODIFIED:20240209T190212Z
UID:10001357-1707487200-1707490800@events.ccc.edu
SUMMARY:Wright: Interested in Plant Science?
DESCRIPTION:
URL:https://events.ccc.edu/event/wright-interested-in-plant-science/
CATEGORIES:Wilbur Wright
ATTACH;FMTTYPE=image/png:https://events.ccc.edu/app/uploads/BHM_Calendar-Images_WW.png
END:VEVENT
BEGIN:VEVENT
DTSTART;TZID=America/Chicago:20240209T123000
DTEND;TZID=America/Chicago:20240209T143000
DTSTAMP:20260423T163717
CREATED:20240209T184418Z
LAST-MODIFIED:20240209T184418Z
UID:10001345-1707481800-1707489000@events.ccc.edu
SUMMARY:Wright: Black History Month Mixer
DESCRIPTION:
URL:https://events.ccc.edu/event/wright-black-history-month-mixer/
CATEGORIES:Wilbur Wright
ATTACH;FMTTYPE=image/png:https://events.ccc.edu/app/uploads/BHM_Calendar-Images_WW.png
END:VEVENT
BEGIN:VEVENT
DTSTART;TZID=America/Chicago:20240209T100000
DTEND;TZID=America/Chicago:20240209T130000
DTSTAMP:20260423T163717
CREATED:20240216T224253Z
LAST-MODIFIED:20240216T224253Z
UID:10001228-1707472800-1707483600@events.ccc.edu
SUMMARY:Wright: Financial Aid Completion Workshop
DESCRIPTION:
URL:https://events.ccc.edu/event/wright-financial-aid-completion-workshop-13/
CATEGORIES:Wilbur Wright
ATTACH;FMTTYPE=image/jpeg:https://events.ccc.edu/app/uploads/Financial-Aid_Calendar.jpg
END:VEVENT
BEGIN:VEVENT
DTSTART;TZID=America/Chicago:20240209T090000
DTEND;TZID=America/Chicago:20240209T180000
DTSTAMP:20260423T163717
CREATED:20240116T222145Z
LAST-MODIFIED:20240116T222145Z
UID:10000982-1707469200-1707501600@events.ccc.edu
SUMMARY:Wright: SGA Illinois Holocaust Museum Leadership Summit
DESCRIPTION:
URL:https://events.ccc.edu/event/wright-college-sga-illinois-holocaust-museum-leadership-summit/
CATEGORIES:Wilbur Wright
ATTACH;FMTTYPE=image/jpeg:https://events.ccc.edu/app/uploads/WW_Stdnt_Act_03.jpg
END:VEVENT
BEGIN:VEVENT
DTSTART;TZID=America/Chicago:20240208T140000
DTEND;TZID=America/Chicago:20240208T160000
DTSTAMP:20260423T163717
CREATED:20240125T221208Z
LAST-MODIFIED:20240125T221208Z
UID:10001234-1707400800-1707408000@events.ccc.edu
SUMMARY:Wright: SGA Round Table
DESCRIPTION:
URL:https://events.ccc.edu/event/wright-sga-round-table/
CATEGORIES:Wilbur Wright
ATTACH;FMTTYPE=image/jpeg:https://events.ccc.edu/app/uploads/WW_Stdnt_Act_02.jpg
END:VEVENT
BEGIN:VEVENT
DTSTART;TZID=America/Chicago:20240208T130000
DTEND;TZID=America/Chicago:20240208T160000
DTSTAMP:20260423T163717
CREATED:20240202T222115Z
LAST-MODIFIED:20240202T222115Z
UID:10001306-1707397200-1707408000@events.ccc.edu
SUMMARY:Wright: Elmhurst University Table Visit
DESCRIPTION:
URL:https://events.ccc.edu/event/wright-elmhurst-university-table-visit-4/
CATEGORIES:Wilbur Wright
ATTACH;FMTTYPE=image/png:https://events.ccc.edu/app/uploads/Transfer_Table_Per-College_WW.png
END:VEVENT
BEGIN:VEVENT
DTSTART;TZID=America/Chicago:20240208T100000
DTEND;TZID=America/Chicago:20240208T130000
DTSTAMP:20260423T163717
CREATED:20240202T222219Z
LAST-MODIFIED:20240202T222219Z
UID:10001307-1707386400-1707397200@events.ccc.edu
SUMMARY:Wright: Governors State University Table Visit
DESCRIPTION:
URL:https://events.ccc.edu/event/wright-governors-state-university-table-visit-5/
CATEGORIES:Wilbur Wright
ATTACH;FMTTYPE=image/png:https://events.ccc.edu/app/uploads/Transfer_Table_Per-College_WW.png
END:VEVENT
BEGIN:VEVENT
DTSTART;TZID=America/Chicago:20240208T100000
DTEND;TZID=America/Chicago:20240208T130000
DTSTAMP:20260423T163717
CREATED:20240119T215826Z
LAST-MODIFIED:20240119T215826Z
UID:10001113-1707386400-1707397200@events.ccc.edu
SUMMARY:Wright: Governors State University Table Visit
DESCRIPTION:
URL:https://events.ccc.edu/event/wright-governors-state-university-table-visit-3/
CATEGORIES:Wilbur Wright
ATTACH;FMTTYPE=image/png:https://events.ccc.edu/app/uploads/Transfer_Table_Per-College_WW.png
END:VEVENT
BEGIN:VEVENT
DTSTART;TZID=America/Chicago:20240207T140000
DTEND;TZID=America/Chicago:20240207T160000
DTSTAMP:20260423T163717
CREATED:20240125T220519Z
LAST-MODIFIED:20240125T220519Z
UID:10001227-1707314400-1707321600@events.ccc.edu
SUMMARY:Wright: Financial Aid Completion Workshop
DESCRIPTION:
URL:https://events.ccc.edu/event/wright-financial-aid-completion-workshop-12/
CATEGORIES:Wilbur Wright
ATTACH;FMTTYPE=image/jpeg:https://events.ccc.edu/app/uploads/Financial-Aid_Calendar.jpg
END:VEVENT
BEGIN:VEVENT
DTSTART;TZID=America/Chicago:20240207T100000
DTEND;TZID=America/Chicago:20240207T130000
DTSTAMP:20260423T163717
CREATED:20240202T222335Z
LAST-MODIFIED:20240202T222335Z
UID:10001308-1707300000-1707310800@events.ccc.edu
SUMMARY:Wright: Illinois Institute of Technology (IIT) Table Visit
DESCRIPTION:
URL:https://events.ccc.edu/event/wright-illinois-institute-of-technology-iit-table-visit-6/
CATEGORIES:Wilbur Wright
ATTACH;FMTTYPE=image/png:https://events.ccc.edu/app/uploads/Transfer_Table_Per-College_WW.png
END:VEVENT
BEGIN:VEVENT
DTSTART;TZID=America/Chicago:20240206T140000
DTEND;TZID=America/Chicago:20240206T160000
DTSTAMP:20260423T163717
CREATED:20240125T222529Z
LAST-MODIFIED:20240125T222529Z
UID:10001239-1707228000-1707235200@events.ccc.edu
SUMMARY:Wright: Lunar New Year Taco Tuesday
DESCRIPTION:
URL:https://events.ccc.edu/event/wright-lunar-new-year-taco-tuesday/
CATEGORIES:Wilbur Wright
ATTACH;FMTTYPE=image/jpeg:https://events.ccc.edu/app/uploads/WW_Stdnt_Act_01.jpg
END:VEVENT
BEGIN:VEVENT
DTSTART;TZID=America/Chicago:20240206T130000
DTEND;TZID=America/Chicago:20240206T160000
DTSTAMP:20260423T163717
CREATED:20240202T222429Z
LAST-MODIFIED:20240202T222429Z
UID:10001309-1707224400-1707235200@events.ccc.edu
SUMMARY:Wright: Roosevelt University Table Visit
DESCRIPTION:
URL:https://events.ccc.edu/event/wright-roosevelt-university-table-visit-6/
CATEGORIES:Wilbur Wright
ATTACH;FMTTYPE=image/png:https://events.ccc.edu/app/uploads/Transfer_Table_Per-College_WW.png
END:VEVENT
BEGIN:VEVENT
DTSTART;TZID=America/Chicago:20240206T130000
DTEND;TZID=America/Chicago:20240206T160000
DTSTAMP:20260423T163717
CREATED:20240119T215939Z
LAST-MODIFIED:20240119T215939Z
UID:10001114-1707224400-1707235200@events.ccc.edu
SUMMARY:Wright: Roosevelt University Table Visit
DESCRIPTION:
URL:https://events.ccc.edu/event/wright-roosevelt-university-table-visit-4/
CATEGORIES:Wilbur Wright
ATTACH;FMTTYPE=image/png:https://events.ccc.edu/app/uploads/Transfer_Table_Per-College_WW.png
END:VEVENT
BEGIN:VEVENT
DTSTART;TZID=America/Chicago:20240205T110000
DTEND;TZID=America/Chicago:20240205T130000
DTSTAMP:20260423T163717
CREATED:20240125T220358Z
LAST-MODIFIED:20240125T220358Z
UID:10001226-1707130800-1707138000@events.ccc.edu
SUMMARY:Wright: Financial Aid Completion Workshop
DESCRIPTION:
URL:https://events.ccc.edu/event/wright-financial-aid-completion-workshop-11/
CATEGORIES:Wilbur Wright
ATTACH;FMTTYPE=image/jpeg:https://events.ccc.edu/app/uploads/Financial-Aid_Calendar.jpg
END:VEVENT
BEGIN:VEVENT
DTSTART;TZID=America/Chicago:20240202T100000
DTEND;TZID=America/Chicago:20240202T130000
DTSTAMP:20260423T163717
CREATED:20240125T220228Z
LAST-MODIFIED:20240125T220228Z
UID:10001224-1706868000-1706878800@events.ccc.edu
SUMMARY:Wright: Financial Aid Completion Workshop
DESCRIPTION:
URL:https://events.ccc.edu/event/wright-financial-aid-completion-workshop-7/
CATEGORIES:Wilbur Wright
ATTACH;FMTTYPE=image/jpeg:https://events.ccc.edu/app/uploads/Financial-Aid_Calendar.jpg
END:VEVENT
BEGIN:VEVENT
DTSTART;TZID=America/Chicago:20240201T170000
DTEND;TZID=America/Chicago:20240201T171000
DTSTAMP:20260423T163717
CREATED:20240131T155709Z
LAST-MODIFIED:20240131T155709Z
UID:10001274-1706806800-1706807400@events.ccc.edu
SUMMARY:Wright: Wright College Campus Tour
DESCRIPTION:
URL:https://events.ccc.edu/event/wright-wright-college-campus-tour/
CATEGORIES:Wilbur Wright
ATTACH;FMTTYPE=image/jpeg:https://events.ccc.edu/app/uploads/WW_Calendar-Image_01-e1715880201328.jpg
END:VEVENT
BEGIN:VEVENT
DTSTART;TZID=America/Chicago:20240201T160000
DTEND;TZID=America/Chicago:20240201T161000
DTSTAMP:20260423T163717
CREATED:20240131T160056Z
LAST-MODIFIED:20240131T160056Z
UID:10001275-1706803200-1706803800@events.ccc.edu
SUMMARY:Wright: Wright College Campus Tour
DESCRIPTION:
URL:https://events.ccc.edu/event/wright-wright-college-campus-tour-2/
CATEGORIES:Wilbur Wright
ATTACH;FMTTYPE=image/jpeg:https://events.ccc.edu/app/uploads/WW_Stdnt_Act_01.jpg
END:VEVENT
BEGIN:VEVENT
DTSTART;TZID=America/Chicago:20240201T140000
DTEND;TZID=America/Chicago:20240201T153000
DTSTAMP:20260423T163717
CREATED:20240125T044709Z
LAST-MODIFIED:20240125T044709Z
UID:10001180-1706796000-1706801400@events.ccc.edu
SUMMARY:Wright: Yoga
DESCRIPTION:
URL:https://events.ccc.edu/event/wright-yoga-2/
CATEGORIES:Wilbur Wright
ATTACH;FMTTYPE=image/jpeg:https://events.ccc.edu/app/uploads/Project-SAFE-calendar-image.jpg
END:VEVENT
BEGIN:VEVENT
DTSTART;TZID=America/Chicago:20240201T100000
DTEND;TZID=America/Chicago:20240201T130000
DTSTAMP:20260423T163717
CREATED:20240130T224434Z
LAST-MODIFIED:20240130T224434Z
UID:10000788-1706781600-1706792400@events.ccc.edu
SUMMARY:Harold Washington: Spring 2024 Transfer Fair & Rockstar Cafe
DESCRIPTION:
URL:https://events.ccc.edu/event/harold-washington-spring-2024-transfer-fair-rockstar-cafe/
CATEGORIES:District Office,District-wide,Harold Washington,Harry S Truman,Kennedy-King,Malcolm X,Olive-Harvey,Richard J. Daley,Wilbur Wright
ATTACH;FMTTYPE=image/png:https://events.ccc.edu/app/uploads/Transfer_Per-College_HW.png
END:VEVENT
BEGIN:VEVENT
DTSTART;TZID=America/Chicago:20240130T140000
DTEND;TZID=America/Chicago:20240130T150000
DTSTAMP:20260423T163717
CREATED:20240116T222315Z
LAST-MODIFIED:20240116T222315Z
UID:10000980-1706623200-1706626800@events.ccc.edu
SUMMARY:Wright: Taco Tuesday - Game Day!
DESCRIPTION:
URL:https://events.ccc.edu/event/wright-college-taco-tuesday-game-day/
CATEGORIES:Wilbur Wright
ATTACH;FMTTYPE=image/jpeg:https://events.ccc.edu/app/uploads/WW_Stdnt_Act_03.jpg
END:VEVENT
BEGIN:VEVENT
DTSTART;TZID=America/Chicago:20240129T110000
DTEND;TZID=America/Chicago:20240129T130000
DTSTAMP:20260423T163717
CREATED:20240117T192051Z
LAST-MODIFIED:20240117T192051Z
UID:10001093-1706526000-1706533200@events.ccc.edu
SUMMARY:Wright: Financial Aid Completion Workshop
DESCRIPTION:
URL:https://events.ccc.edu/event/wright-financial-aid-completion-workshop-6/
CATEGORIES:Wilbur Wright
ATTACH;FMTTYPE=image/jpeg:https://events.ccc.edu/app/uploads/Financial-Aid_Calendar.jpg
END:VEVENT
BEGIN:VEVENT
DTSTART;TZID=America/Chicago:20240126T100000
DTEND;TZID=America/Chicago:20240126T130000
DTSTAMP:20260423T163717
CREATED:20240117T174617Z
LAST-MODIFIED:20240117T174617Z
UID:10001066-1706263200-1706274000@events.ccc.edu
SUMMARY:Wright: Financial Aid Completion Workshop
DESCRIPTION:
URL:https://events.ccc.edu/event/wright-financial-aid-completion-workshop-5/
CATEGORIES:Wilbur Wright
ATTACH;FMTTYPE=image/jpeg:https://events.ccc.edu/app/uploads/Financial-Aid_Calendar.jpg
END:VEVENT
BEGIN:VEVENT
DTSTART;TZID=America/Chicago:20240125T180000
DTEND;TZID=America/Chicago:20240125T200000
DTSTAMP:20260423T163717
CREATED:20231201T210844Z
LAST-MODIFIED:20231201T210844Z
UID:10000394-1706205600-1706212800@events.ccc.edu
SUMMARY:Wright Engineering Information Session
DESCRIPTION:
URL:https://events.ccc.edu/event/wright-engineering-information-session-2/
CATEGORIES:Wilbur Wright
ATTACH;FMTTYPE=image/jpeg:https://events.ccc.edu/app/uploads/WW_Calendar-Image_01-e1715880201328.jpg
END:VEVENT
BEGIN:VEVENT
DTSTART;TZID=America/Chicago:20240125T163000
DTEND;TZID=America/Chicago:20240125T170000
DTSTAMP:20260423T163717
CREATED:20240103T175755Z
LAST-MODIFIED:20240103T175755Z
UID:10000789-1706200200-1706202000@events.ccc.edu
SUMMARY:Spring 2024 Transfer Leadership Class
DESCRIPTION:
URL:https://events.ccc.edu/event/spring-2024-transfer-leadership-class/
CATEGORIES:District Office,District-wide,Harold Washington,Harry S Truman,Kennedy-King,Malcolm X,Olive-Harvey,Richard J. Daley,Wilbur Wright
ATTACH;FMTTYPE=image/jpeg:https://events.ccc.edu/app/uploads/Transfer_03.jpg
END:VEVENT
BEGIN:VEVENT
DTSTART;TZID=America/Chicago:20240125T160000
DTEND;TZID=America/Chicago:20240125T180000
DTSTAMP:20260423T163717
CREATED:20240117T174258Z
LAST-MODIFIED:20240117T174258Z
UID:10001063-1706198400-1706205600@events.ccc.edu
SUMMARY:Wright: Financial Aid Completion Workshop
DESCRIPTION:
URL:https://events.ccc.edu/event/wright-financial-aid-completion-workshop-4/
CATEGORIES:Wilbur Wright
ATTACH;FMTTYPE=image/jpeg:https://events.ccc.edu/app/uploads/Financial-Aid_Calendar.jpg
END:VEVENT
BEGIN:VEVENT
DTSTART;TZID=America/Chicago:20240125T123000
DTEND;TZID=America/Chicago:20240125T140000
DTSTAMP:20260423T163717
CREATED:20240110T211633Z
LAST-MODIFIED:20240110T211633Z
UID:10000947-1706185800-1706191200@events.ccc.edu
SUMMARY:Wright: Survivor's Manifesto
DESCRIPTION:
URL:https://events.ccc.edu/event/wright-survivors-manifesto/
CATEGORIES:Wilbur Wright
ATTACH;FMTTYPE=image/jpeg:https://events.ccc.edu/app/uploads/Project-SAFE-calendar-image.jpg
END:VEVENT
BEGIN:VEVENT
DTSTART;TZID=America/Chicago:20240124T100000
DTEND;TZID=America/Chicago:20240124T130000
DTSTAMP:20260423T163717
CREATED:20240119T220524Z
LAST-MODIFIED:20240119T220524Z
UID:10001118-1706090400-1706101200@events.ccc.edu
SUMMARY:Wright: UIC Table Visit
DESCRIPTION:
URL:https://events.ccc.edu/event/wright-uic-table-visit-5/
CATEGORIES:Wilbur Wright
ATTACH;FMTTYPE=image/png:https://events.ccc.edu/app/uploads/Transfer_Table_Per-College_WW.png
END:VEVENT
BEGIN:VEVENT
DTSTART;TZID=America/Chicago:20240123T140000
DTEND;TZID=America/Chicago:20240123T160000
DTSTAMP:20260423T163717
CREATED:20240117T173820Z
LAST-MODIFIED:20240117T173820Z
UID:10001060-1706018400-1706025600@events.ccc.edu
SUMMARY:Wright: Financial Aid Completion Workshop
DESCRIPTION:
URL:https://events.ccc.edu/event/wright-financial-aid-completion-workshop-3/
CATEGORIES:Wilbur Wright
ATTACH;FMTTYPE=image/jpeg:https://events.ccc.edu/app/uploads/Financial-Aid_Calendar.jpg
END:VEVENT
END:VCALENDAR