BEGIN:VCALENDAR
VERSION:2.0
PRODID:-//CCC - ECPv6.11.2//NONSGML v1.0//EN
CALSCALE:GREGORIAN
METHOD:PUBLISH
X-WR-CALNAME:CCC
X-ORIGINAL-URL:https://events.ccc.edu
X-WR-CALDESC:Events for CCC
REFRESH-INTERVAL;VALUE=DURATION:PT1H
X-Robots-Tag:noindex
X-PUBLISHED-TTL:PT1H
BEGIN:VTIMEZONE
TZID:America/Chicago
BEGIN:DAYLIGHT
TZOFFSETFROM:-0600
TZOFFSETTO:-0500
TZNAME:CDT
DTSTART:20230312T080000
END:DAYLIGHT
BEGIN:STANDARD
TZOFFSETFROM:-0500
TZOFFSETTO:-0600
TZNAME:CST
DTSTART:20231105T070000
END:STANDARD
END:VTIMEZONE
BEGIN:VEVENT
DTSTART;TZID=America/Chicago:20231214T160000
DTEND;TZID=America/Chicago:20231214T161000
DTSTAMP:20260423T191359
CREATED:20231201T192027Z
LAST-MODIFIED:20231201T192028Z
UID:10000052-1702569600-1702570200@events.ccc.edu
SUMMARY:Wright: In-Person Campus Tour
DESCRIPTION:
URL:https://events.ccc.edu/event/wright-in-person-campus-tour-11/
CATEGORIES:Wilbur Wright
ATTACH;FMTTYPE=image/jpeg:https://events.ccc.edu/app/uploads/WW_Calendar-Image_02.jpg
END:VEVENT
BEGIN:VEVENT
DTSTART;TZID=America/Chicago:20231214T160000
DTEND;TZID=America/Chicago:20231214T161000
DTSTAMP:20260423T191359
CREATED:20231011T173252Z
LAST-MODIFIED:20231011T173252Z
UID:10000550-1702569600-1702570200@events.ccc.edu
SUMMARY:Wright: In-Person Campus Tour
DESCRIPTION:
URL:https://events.ccc.edu/event/wright-in-person-campus-tour-12/
CATEGORIES:Wilbur Wright
ATTACH;FMTTYPE=image/jpeg:https://events.ccc.edu/app/uploads/WW_Calendar-Image_02.jpg
END:VEVENT
BEGIN:VEVENT
DTSTART;TZID=America/Chicago:20231214T100000
DTEND;TZID=America/Chicago:20231214T120000
DTSTAMP:20260423T191359
CREATED:20231128T171930Z
LAST-MODIFIED:20231128T171930Z
UID:10000713-1702548000-1702555200@events.ccc.edu
SUMMARY:Wright: Open House
DESCRIPTION:
URL:https://events.ccc.edu/event/wright-open-house-2/
CATEGORIES:Wilbur Wright
ATTACH;FMTTYPE=image/jpeg:https://events.ccc.edu/app/uploads/WW_Calendar-Image_01-e1715880201328.jpg
END:VEVENT
BEGIN:VEVENT
DTSTART;TZID=America/Chicago:20231208T100000
DTEND;TZID=America/Chicago:20231208T130000
DTSTAMP:20260423T191359
CREATED:20231201T211851Z
LAST-MODIFIED:20231201T211851Z
UID:10000620-1702029600-1702040400@events.ccc.edu
SUMMARY:Wright: Financial Aid Completion Workshop
DESCRIPTION:
URL:https://events.ccc.edu/event/wright-financial-aid-completion-workshop-8/
CATEGORIES:Wilbur Wright
ATTACH;FMTTYPE=image/jpeg:https://events.ccc.edu/app/uploads/Financial-Aid_Calendar-FAFSA_23.jpg
END:VEVENT
BEGIN:VEVENT
DTSTART;TZID=America/Chicago:20231207T000000
DTEND;TZID=America/Chicago:20231207T000000
DTSTAMP:20260423T191359
CREATED:20231207T213956Z
LAST-MODIFIED:20231207T213956Z
UID:10000739-1701907200-1701907200@events.ccc.edu
SUMMARY:Wright: Civic Tuesday - Voter Registration
DESCRIPTION:
URL:https://events.ccc.edu/event/wright-civic-tuesday-voter-registration/
CATEGORIES:Wilbur Wright
ATTACH;FMTTYPE=image/jpeg:https://events.ccc.edu/app/uploads/WW_Calendar-Image_02.jpg
END:VEVENT
BEGIN:VEVENT
DTSTART;TZID=America/Chicago:20231205T180000
DTEND;TZID=America/Chicago:20231205T193000
DTSTAMP:20260423T191359
CREATED:20231204T220635Z
LAST-MODIFIED:20231204T220635Z
UID:10000734-1701799200-1701804600@events.ccc.edu
SUMMARY:Wright: Engineering Ideas
DESCRIPTION:
URL:https://events.ccc.edu/event/wright-engineering-ideas/
CATEGORIES:Wilbur Wright
ATTACH;FMTTYPE=image/jpeg:https://events.ccc.edu/app/uploads/WW_Calendar-Image_03.jpg
END:VEVENT
BEGIN:VEVENT
DTSTART;TZID=America/Chicago:20231205T140000
DTEND;TZID=America/Chicago:20231205T160000
DTSTAMP:20260423T191359
CREATED:20231114T211255Z
LAST-MODIFIED:20231114T211255Z
UID:10000694-1701784800-1701792000@events.ccc.edu
SUMMARY:Wright: Taco Tuesday Destress for Finals!
DESCRIPTION:
URL:https://events.ccc.edu/event/wright-taco-tuesday-destress-for-finals/
CATEGORIES:Wilbur Wright
ATTACH;FMTTYPE=image/jpeg:https://events.ccc.edu/app/uploads/WW_Stdnt_Act_02.jpg
END:VEVENT
BEGIN:VEVENT
DTSTART;TZID=America/Chicago:20231204T100000
DTEND;TZID=America/Chicago:20231204T140000
DTSTAMP:20260423T191359
CREATED:20231204T214106Z
LAST-MODIFIED:20231204T214106Z
UID:10000720-1701684000-1701698400@events.ccc.edu
SUMMARY:Wright: EmpowerMENt Male Summit
DESCRIPTION:
URL:https://events.ccc.edu/event/wright-empowerment-male-summit/
CATEGORIES:Wilbur Wright
ATTACH;FMTTYPE=image/jpeg:https://events.ccc.edu/app/uploads/WW_Calendar-Image_01-e1715880201328.jpg
END:VEVENT
BEGIN:VEVENT
DTSTART;TZID=America/Chicago:20231201T133000
DTEND;TZID=America/Chicago:20231201T143000
DTSTAMP:20260423T191359
CREATED:20231201T183717Z
LAST-MODIFIED:20231201T183717Z
UID:10000621-1701437400-1701441000@events.ccc.edu
SUMMARY:Wright: Financial Empowerment Week- Info Session on 2024-2025 FAFSA and Creating an FSA ID
DESCRIPTION:
URL:https://events.ccc.edu/event/wright-2024-2025-fafsa-and-creating-an-fsa-id/
CATEGORIES:Wilbur Wright
ATTACH;FMTTYPE=image/jpeg:https://events.ccc.edu/app/uploads/Financial-Aid_Calendar-FAFSA_23.jpg
END:VEVENT
BEGIN:VEVENT
DTSTART;TZID=America/Chicago:20231130T160000
DTEND;TZID=America/Chicago:20231130T161000
DTSTAMP:20260423T191359
CREATED:20231018T155834Z
LAST-MODIFIED:20231018T155834Z
UID:10000051-1701360000-1701360600@events.ccc.edu
SUMMARY:Wright: In-Person Campus Tour
DESCRIPTION:
URL:https://events.ccc.edu/event/wright-in-person-campus-tour-10/
CATEGORIES:Wilbur Wright
ATTACH;FMTTYPE=image/jpeg:https://events.ccc.edu/app/uploads/WW_Calendar-Image_02.jpg
END:VEVENT
BEGIN:VEVENT
DTSTART;TZID=America/Chicago:20231130T153000
DTEND;TZID=America/Chicago:20231130T163000
DTSTAMP:20260423T191359
CREATED:20231102T195417Z
LAST-MODIFIED:20231102T195417Z
UID:10000631-1701358200-1701361800@events.ccc.edu
SUMMARY:Wright: Financial Empowerment Week - Creating Financial Health After College
DESCRIPTION:
URL:https://events.ccc.edu/event/wright-financial-empowerment-week-creating-financial-health-after-college/
CATEGORIES:Wilbur Wright
ATTACH;FMTTYPE=image/jpeg:https://events.ccc.edu/app/uploads/Financial-Aid_Calendar-FAFSA_23.jpg
END:VEVENT
BEGIN:VEVENT
DTSTART;TZID=America/Chicago:20231128T140000
DTEND;TZID=America/Chicago:20231128T160000
DTSTAMP:20260423T191359
CREATED:20231114T211510Z
LAST-MODIFIED:20231114T211510Z
UID:10000695-1701180000-1701187200@events.ccc.edu
SUMMARY:Wright: Taco Tuesday GAME DAY!
DESCRIPTION:
URL:https://events.ccc.edu/event/wright-taco-tuesday-game-day/
CATEGORIES:Wilbur Wright
ATTACH;FMTTYPE=image/jpeg:https://events.ccc.edu/app/uploads/WW_Stdnt_Act_02.jpg
END:VEVENT
BEGIN:VEVENT
DTSTART;TZID=America/Chicago:20231127T153000
DTEND;TZID=America/Chicago:20231127T163000
DTSTAMP:20260423T191359
CREATED:20231102T204945Z
LAST-MODIFIED:20231102T204945Z
UID:10000612-1701099000-1701102600@events.ccc.edu
SUMMARY:Wright: Financial Empowerment Week- Budgeting For Your First Year of College
DESCRIPTION:
URL:https://events.ccc.edu/event/wright-financial-empowerment-week-budgeting-for-your-first-year-of-college/
CATEGORIES:Wilbur Wright
ATTACH;FMTTYPE=image/jpeg:https://events.ccc.edu/app/uploads/Financial-Aid_Calendar_23.jpg
END:VEVENT
BEGIN:VEVENT
DTSTART;TZID=America/Chicago:20231122T120000
DTEND;TZID=America/Chicago:20231122T130000
DTSTAMP:20260423T191359
CREATED:20231114T211722Z
LAST-MODIFIED:20231114T211722Z
UID:10000696-1700654400-1700658000@events.ccc.edu
SUMMARY:Wright: Turkey Bowl Dodgeball Game!
DESCRIPTION:
URL:https://events.ccc.edu/event/wright-turkey-bowl-dodgeball-game/
CATEGORIES:Wilbur Wright
ATTACH;FMTTYPE=image/jpeg:https://events.ccc.edu/app/uploads/WW_Stdnt_Act_02.jpg
END:VEVENT
BEGIN:VEVENT
DTSTART;TZID=America/Chicago:20231121T140000
DTEND;TZID=America/Chicago:20231121T160000
DTSTAMP:20260423T191359
CREATED:20231025T195310Z
LAST-MODIFIED:20231025T195310Z
UID:10000586-1700575200-1700582400@events.ccc.edu
SUMMARY:Wright College: Taco Tuesday - Club Day & Friendsgiving!
DESCRIPTION:
URL:https://events.ccc.edu/event/wright-college-taco-tuesday-club-day-friendsgiving/
CATEGORIES:Wilbur Wright
ATTACH;FMTTYPE=image/jpeg:https://events.ccc.edu/app/uploads/WW_Stdnt_Act_03.jpg
END:VEVENT
BEGIN:VEVENT
DTSTART;TZID=America/Chicago:20231121T130000
DTEND;TZID=America/Chicago:20231121T160000
DTSTAMP:20260423T191359
CREATED:20231102T195943Z
LAST-MODIFIED:20231102T195943Z
UID:10000632-1700571600-1700582400@events.ccc.edu
SUMMARY:Wright: Northeastern Illinois University (NEIU) Table Visit
DESCRIPTION:
URL:https://events.ccc.edu/event/wright-northeastern-illinois-university-neiu-table-visit/
CATEGORIES:Wilbur Wright
ATTACH;FMTTYPE=image/png:https://events.ccc.edu/app/uploads/Transfer_Table_Per-College_WW.png
END:VEVENT
BEGIN:VEVENT
DTSTART;TZID=America/Chicago:20231120T100000
DTEND;TZID=America/Chicago:20231120T130000
DTSTAMP:20260423T191359
CREATED:20231102T200130Z
LAST-MODIFIED:20231102T200130Z
UID:10000633-1700474400-1700485200@events.ccc.edu
SUMMARY:Wright: Northeastern Illinois University Table Visit - Nontraditional Degree Programs
DESCRIPTION:
URL:https://events.ccc.edu/event/wright-northeastern-illinois-university-table-visit-nontraditional-degree-programs/
CATEGORIES:Wilbur Wright
ATTACH;FMTTYPE=image/png:https://events.ccc.edu/app/uploads/Transfer_Table_Per-College_WW.png
END:VEVENT
BEGIN:VEVENT
DTSTART;TZID=America/Chicago:20231116T180000
DTEND;TZID=America/Chicago:20231116T180000
DTSTAMP:20260423T191359
CREATED:20231018T170508Z
LAST-MODIFIED:20231025T201841Z
UID:10000398-1700157600-1700157600@events.ccc.edu
SUMMARY:Wright Engineering Information Session
DESCRIPTION:
URL:https://events.ccc.edu/event/wright-engineering-information-session-6/
CATEGORIES:Wilbur Wright
ATTACH;FMTTYPE=image/jpeg:https://events.ccc.edu/app/uploads/WW_Calendar-Image_01-e1715880201328.jpg
END:VEVENT
BEGIN:VEVENT
DTSTART;TZID=America/Chicago:20231116T160000
DTEND;TZID=America/Chicago:20231116T173000
DTSTAMP:20260423T191359
CREATED:20231109T224417Z
LAST-MODIFIED:20231109T224417Z
UID:10000677-1700150400-1700155800@events.ccc.edu
SUMMARY:How to Get Paid Research in STEM
DESCRIPTION:
URL:https://events.ccc.edu/event/how-to-get-paid-research-in-stem/
CATEGORIES:District Office,District-wide,Harold Washington,Harry S Truman,Kennedy-King,Malcolm X,Olive-Harvey,Richard J. Daley,Wilbur Wright
ATTACH;FMTTYPE=image/jpeg:https://events.ccc.edu/app/uploads/Transfer_01.jpg
END:VEVENT
BEGIN:VEVENT
DTSTART;TZID=America/Chicago:20231115T130000
DTEND;TZID=America/Chicago:20231115T160000
DTSTAMP:20260423T191359
CREATED:20231102T200246Z
LAST-MODIFIED:20231102T200246Z
UID:10000634-1700053200-1700064000@events.ccc.edu
SUMMARY:Wright: North Park University Table Visit
DESCRIPTION:
URL:https://events.ccc.edu/event/wright-north-park-university-table-visit/
CATEGORIES:Wilbur Wright
ATTACH;FMTTYPE=image/png:https://events.ccc.edu/app/uploads/Transfer_Table_Per-College_WW.png
END:VEVENT
BEGIN:VEVENT
DTSTART;TZID=America/Chicago:20231115T100000
DTEND;TZID=America/Chicago:20231115T130000
DTSTAMP:20260423T191359
CREATED:20231102T200416Z
LAST-MODIFIED:20231102T200416Z
UID:10000635-1700042400-1700053200@events.ccc.edu
SUMMARY:Wright: Illinois Institute Of Technology Table Visit
DESCRIPTION:
URL:https://events.ccc.edu/event/wright-illinois-institute-of-technology-table-visit-3/
CATEGORIES:Wilbur Wright
ATTACH;FMTTYPE=image/png:https://events.ccc.edu/app/uploads/Transfer_Table_Per-College_WW.png
END:VEVENT
BEGIN:VEVENT
DTSTART;TZID=America/Chicago:20231114T170000
DTEND;TZID=America/Chicago:20231114T203000
DTSTAMP:20260423T191359
CREATED:20231025T201512Z
LAST-MODIFIED:20231025T201512Z
UID:10000591-1699981200-1699993800@events.ccc.edu
SUMMARY:Wright College: Pack the Gym!
DESCRIPTION:
URL:https://events.ccc.edu/event/wright-college-pack-the-gym/
CATEGORIES:Wilbur Wright
ATTACH;FMTTYPE=image/jpeg:https://events.ccc.edu/app/uploads/WW_Stdnt_Act_03.jpg
END:VEVENT
BEGIN:VEVENT
DTSTART;TZID=America/Chicago:20231114T140000
DTEND;TZID=America/Chicago:20231114T160000
DTSTAMP:20260423T191359
CREATED:20231025T202258Z
LAST-MODIFIED:20231025T202258Z
UID:10000592-1699970400-1699977600@events.ccc.edu
SUMMARY:Wright College: Taco Tuesday - Pregame Party for Pack the Gym!
DESCRIPTION:
URL:https://events.ccc.edu/event/wright-college-taco-tuesday-pregame-party-for-pack-the-gym/
CATEGORIES:Wilbur Wright
ATTACH;FMTTYPE=image/jpeg:https://events.ccc.edu/app/uploads/WW_Stdnt_Act_01.jpg
END:VEVENT
BEGIN:VEVENT
DTSTART;TZID=America/Chicago:20231114T100000
DTEND;TZID=America/Chicago:20231114T130000
DTSTAMP:20260423T191359
CREATED:20231102T200541Z
LAST-MODIFIED:20231102T200541Z
UID:10000636-1699956000-1699966800@events.ccc.edu
SUMMARY:Wright: Concordia University Table Visit
DESCRIPTION:
URL:https://events.ccc.edu/event/wright-concordia-university-table-visit/
CATEGORIES:Wilbur Wright
ATTACH;FMTTYPE=image/png:https://events.ccc.edu/app/uploads/Transfer_Table_Per-College_WW.png
END:VEVENT
BEGIN:VEVENT
DTSTART;TZID=America/Chicago:20231113T130000
DTEND;TZID=America/Chicago:20231113T160000
DTSTAMP:20260423T191359
CREATED:20231102T200653Z
LAST-MODIFIED:20231102T200653Z
UID:10000637-1699880400-1699891200@events.ccc.edu
SUMMARY:Wright: Roosevelt University Table Visit
DESCRIPTION:
URL:https://events.ccc.edu/event/wright-roosevelt-university-table-visit-3/
CATEGORIES:Wilbur Wright
ATTACH;FMTTYPE=image/png:https://events.ccc.edu/app/uploads/Transfer_Table_Per-College_WW.png
END:VEVENT
BEGIN:VEVENT
DTSTART;TZID=America/Chicago:20231113T110000
DTEND;TZID=America/Chicago:20231113T130000
DTSTAMP:20260423T191359
CREATED:20231025T202501Z
LAST-MODIFIED:20231025T202501Z
UID:10000593-1699873200-1699880400@events.ccc.edu
SUMMARY:Wright College: World Kindness Day!
DESCRIPTION:
URL:https://events.ccc.edu/event/wright-college-world-kindness-day/
CATEGORIES:Wilbur Wright
ATTACH;FMTTYPE=image/jpeg:https://events.ccc.edu/app/uploads/WW_Calendar-Image_01-e1715880201328.jpg
END:VEVENT
BEGIN:VEVENT
DTSTART;TZID=America/Chicago:20231113T100000
DTEND;TZID=America/Chicago:20231113T130000
DTSTAMP:20260423T191359
CREATED:20231102T200815Z
LAST-MODIFIED:20231102T200815Z
UID:10000638-1699869600-1699880400@events.ccc.edu
SUMMARY:Wright: UIC Table Visit
DESCRIPTION:
URL:https://events.ccc.edu/event/wright-uic-table-visit-2/
CATEGORIES:Wilbur Wright
ATTACH;FMTTYPE=image/png:https://events.ccc.edu/app/uploads/Transfer_Table_Per-College_WW.png
END:VEVENT
BEGIN:VEVENT
DTSTART;TZID=America/Chicago:20231109T160000
DTEND;TZID=America/Chicago:20231109T161000
DTSTAMP:20260423T191359
CREATED:20231018T155825Z
LAST-MODIFIED:20231018T155825Z
UID:10000050-1699545600-1699546200@events.ccc.edu
SUMMARY:Wright: In-Person Campus Tour
DESCRIPTION:
URL:https://events.ccc.edu/event/wright-in-person-campus-tour-9/
CATEGORIES:Wilbur Wright
ATTACH;FMTTYPE=image/jpeg:https://events.ccc.edu/app/uploads/WW_Calendar-Image_02.jpg
END:VEVENT
BEGIN:VEVENT
DTSTART;TZID=America/Chicago:20231109T130000
DTEND;TZID=America/Chicago:20231109T160000
DTSTAMP:20260423T191359
CREATED:20231102T200940Z
LAST-MODIFIED:20231102T200940Z
UID:10000639-1699534800-1699545600@events.ccc.edu
SUMMARY:Wright: Dominican University Table Visit
DESCRIPTION:
URL:https://events.ccc.edu/event/wright-dominican-university-table-visit-2/
CATEGORIES:Wilbur Wright
ATTACH;FMTTYPE=image/png:https://events.ccc.edu/app/uploads/Transfer_Table_Per-College_WW.png
END:VEVENT
BEGIN:VEVENT
DTSTART;TZID=America/Chicago:20231109T100000
DTEND;TZID=America/Chicago:20231109T130000
DTSTAMP:20260423T191359
CREATED:20231102T201104Z
LAST-MODIFIED:20231102T201104Z
UID:10000640-1699524000-1699534800@events.ccc.edu
SUMMARY:Wright: Columbia College Chicago Table Visit
DESCRIPTION:
URL:https://events.ccc.edu/event/wright-columbia-college-chicago-table-visit-2/
CATEGORIES:Wilbur Wright
ATTACH;FMTTYPE=image/png:https://events.ccc.edu/app/uploads/Transfer_Table_Per-College_WW.png
END:VEVENT
END:VCALENDAR