BEGIN:VCALENDAR
VERSION:2.0
PRODID:-//CCC - ECPv6.11.2//NONSGML v1.0//EN
CALSCALE:GREGORIAN
METHOD:PUBLISH
X-ORIGINAL-URL:https://events.ccc.edu
X-WR-CALDESC:Events for CCC
REFRESH-INTERVAL;VALUE=DURATION:PT1H
X-Robots-Tag:noindex
X-PUBLISHED-TTL:PT1H
BEGIN:VTIMEZONE
TZID:America/Chicago
BEGIN:DAYLIGHT
TZOFFSETFROM:-0600
TZOFFSETTO:-0500
TZNAME:CDT
DTSTART:20230312T080000
END:DAYLIGHT
BEGIN:STANDARD
TZOFFSETFROM:-0500
TZOFFSETTO:-0600
TZNAME:CST
DTSTART:20231105T070000
END:STANDARD
END:VTIMEZONE
BEGIN:VEVENT
DTSTART;TZID=America/Chicago:20231115T100000
DTEND;TZID=America/Chicago:20231115T130000
DTSTAMP:20260423T203103
CREATED:20231102T200416Z
LAST-MODIFIED:20231102T200416Z
UID:10000635-1700042400-1700053200@events.ccc.edu
SUMMARY:Wright: Illinois Institute Of Technology Table Visit
DESCRIPTION:
URL:https://events.ccc.edu/event/wright-illinois-institute-of-technology-table-visit-3/
CATEGORIES:Wilbur Wright
ATTACH;FMTTYPE=image/png:https://events.ccc.edu/app/uploads/Transfer_Table_Per-College_WW.png
END:VEVENT
BEGIN:VEVENT
DTSTART;TZID=America/Chicago:20231114T170000
DTEND;TZID=America/Chicago:20231114T203000
DTSTAMP:20260423T203103
CREATED:20231025T201512Z
LAST-MODIFIED:20231025T201512Z
UID:10000591-1699981200-1699993800@events.ccc.edu
SUMMARY:Wright College: Pack the Gym!
DESCRIPTION:
URL:https://events.ccc.edu/event/wright-college-pack-the-gym/
CATEGORIES:Wilbur Wright
ATTACH;FMTTYPE=image/jpeg:https://events.ccc.edu/app/uploads/WW_Stdnt_Act_03.jpg
END:VEVENT
BEGIN:VEVENT
DTSTART;TZID=America/Chicago:20231114T140000
DTEND;TZID=America/Chicago:20231114T160000
DTSTAMP:20260423T203103
CREATED:20231025T202258Z
LAST-MODIFIED:20231025T202258Z
UID:10000592-1699970400-1699977600@events.ccc.edu
SUMMARY:Wright College: Taco Tuesday - Pregame Party for Pack the Gym!
DESCRIPTION:
URL:https://events.ccc.edu/event/wright-college-taco-tuesday-pregame-party-for-pack-the-gym/
CATEGORIES:Wilbur Wright
ATTACH;FMTTYPE=image/jpeg:https://events.ccc.edu/app/uploads/WW_Stdnt_Act_01.jpg
END:VEVENT
BEGIN:VEVENT
DTSTART;TZID=America/Chicago:20231114T100000
DTEND;TZID=America/Chicago:20231114T130000
DTSTAMP:20260423T203103
CREATED:20231102T200541Z
LAST-MODIFIED:20231102T200541Z
UID:10000636-1699956000-1699966800@events.ccc.edu
SUMMARY:Wright: Concordia University Table Visit
DESCRIPTION:
URL:https://events.ccc.edu/event/wright-concordia-university-table-visit/
CATEGORIES:Wilbur Wright
ATTACH;FMTTYPE=image/png:https://events.ccc.edu/app/uploads/Transfer_Table_Per-College_WW.png
END:VEVENT
BEGIN:VEVENT
DTSTART;TZID=America/Chicago:20231113T130000
DTEND;TZID=America/Chicago:20231113T160000
DTSTAMP:20260423T203103
CREATED:20231102T200653Z
LAST-MODIFIED:20231102T200653Z
UID:10000637-1699880400-1699891200@events.ccc.edu
SUMMARY:Wright: Roosevelt University Table Visit
DESCRIPTION:
URL:https://events.ccc.edu/event/wright-roosevelt-university-table-visit-3/
CATEGORIES:Wilbur Wright
ATTACH;FMTTYPE=image/png:https://events.ccc.edu/app/uploads/Transfer_Table_Per-College_WW.png
END:VEVENT
BEGIN:VEVENT
DTSTART;TZID=America/Chicago:20231113T110000
DTEND;TZID=America/Chicago:20231113T130000
DTSTAMP:20260423T203103
CREATED:20231025T202501Z
LAST-MODIFIED:20231025T202501Z
UID:10000593-1699873200-1699880400@events.ccc.edu
SUMMARY:Wright College: World Kindness Day!
DESCRIPTION:
URL:https://events.ccc.edu/event/wright-college-world-kindness-day/
CATEGORIES:Wilbur Wright
ATTACH;FMTTYPE=image/jpeg:https://events.ccc.edu/app/uploads/WW_Calendar-Image_01-e1715880201328.jpg
END:VEVENT
BEGIN:VEVENT
DTSTART;TZID=America/Chicago:20231113T100000
DTEND;TZID=America/Chicago:20231113T130000
DTSTAMP:20260423T203103
CREATED:20231102T200815Z
LAST-MODIFIED:20231102T200815Z
UID:10000638-1699869600-1699880400@events.ccc.edu
SUMMARY:Wright: UIC Table Visit
DESCRIPTION:
URL:https://events.ccc.edu/event/wright-uic-table-visit-2/
CATEGORIES:Wilbur Wright
ATTACH;FMTTYPE=image/png:https://events.ccc.edu/app/uploads/Transfer_Table_Per-College_WW.png
END:VEVENT
BEGIN:VEVENT
DTSTART;TZID=America/Chicago:20231109T160000
DTEND;TZID=America/Chicago:20231109T161000
DTSTAMP:20260423T203103
CREATED:20231018T155825Z
LAST-MODIFIED:20231018T155825Z
UID:10000050-1699545600-1699546200@events.ccc.edu
SUMMARY:Wright: In-Person Campus Tour
DESCRIPTION:
URL:https://events.ccc.edu/event/wright-in-person-campus-tour-9/
CATEGORIES:Wilbur Wright
ATTACH;FMTTYPE=image/jpeg:https://events.ccc.edu/app/uploads/WW_Calendar-Image_02.jpg
END:VEVENT
BEGIN:VEVENT
DTSTART;TZID=America/Chicago:20231109T130000
DTEND;TZID=America/Chicago:20231109T160000
DTSTAMP:20260423T203103
CREATED:20231102T200940Z
LAST-MODIFIED:20231102T200940Z
UID:10000639-1699534800-1699545600@events.ccc.edu
SUMMARY:Wright: Dominican University Table Visit
DESCRIPTION:
URL:https://events.ccc.edu/event/wright-dominican-university-table-visit-2/
CATEGORIES:Wilbur Wright
ATTACH;FMTTYPE=image/png:https://events.ccc.edu/app/uploads/Transfer_Table_Per-College_WW.png
END:VEVENT
BEGIN:VEVENT
DTSTART;TZID=America/Chicago:20231109T100000
DTEND;TZID=America/Chicago:20231109T130000
DTSTAMP:20260423T203103
CREATED:20231102T201104Z
LAST-MODIFIED:20231102T201104Z
UID:10000640-1699524000-1699534800@events.ccc.edu
SUMMARY:Wright: Columbia College Chicago Table Visit
DESCRIPTION:
URL:https://events.ccc.edu/event/wright-columbia-college-chicago-table-visit-2/
CATEGORIES:Wilbur Wright
ATTACH;FMTTYPE=image/png:https://events.ccc.edu/app/uploads/Transfer_Table_Per-College_WW.png
END:VEVENT
BEGIN:VEVENT
DTSTART;TZID=America/Chicago:20231108T100000
DTEND;TZID=America/Chicago:20231108T130000
DTSTAMP:20260423T203103
CREATED:20231102T201221Z
LAST-MODIFIED:20231102T201221Z
UID:10000641-1699437600-1699448400@events.ccc.edu
SUMMARY:Wright: Illinois Institute Of Technology Table Visit
DESCRIPTION:
URL:https://events.ccc.edu/event/wright-illinois-institute-of-technology-table-visit-4/
CATEGORIES:Wilbur Wright
ATTACH;FMTTYPE=image/png:https://events.ccc.edu/app/uploads/Transfer_Table_Per-College_WW.png
END:VEVENT
BEGIN:VEVENT
DTSTART;TZID=America/Chicago:20231107T140000
DTEND;TZID=America/Chicago:20231107T160000
DTSTAMP:20260423T203103
CREATED:20231025T204441Z
LAST-MODIFIED:20231025T204441Z
UID:10000599-1699365600-1699372800@events.ccc.edu
SUMMARY:Wright College: Taco Tuesday - National 1st Gen Day!
DESCRIPTION:
URL:https://events.ccc.edu/event/wright-college-taco-tuesday-national-1st-gen-day/
CATEGORIES:Wilbur Wright
ATTACH;FMTTYPE=image/jpeg:https://events.ccc.edu/app/uploads/WW_Stdnt_Act_01.jpg
END:VEVENT
BEGIN:VEVENT
DTSTART;TZID=America/Chicago:20231107T130000
DTEND;TZID=America/Chicago:20231107T160000
DTSTAMP:20260423T203103
CREATED:20231102T202307Z
LAST-MODIFIED:20231102T202307Z
UID:10000642-1699362000-1699372800@events.ccc.edu
SUMMARY:Wright: DePaul University Table Visit
DESCRIPTION:
URL:https://events.ccc.edu/event/wright-depaul-university-table-visit-2/
CATEGORIES:Wilbur Wright
ATTACH;FMTTYPE=image/png:https://events.ccc.edu/app/uploads/Transfer_Table_Per-College_WW.png
END:VEVENT
BEGIN:VEVENT
DTSTART;TZID=America/Chicago:20231107T100000
DTEND;TZID=America/Chicago:20231107T130000
DTSTAMP:20260423T203103
CREATED:20231102T203006Z
LAST-MODIFIED:20231102T203006Z
UID:10000645-1699351200-1699362000@events.ccc.edu
SUMMARY:Wright: Eastern Illinois University Table Visit  - Interdisciplinary Studies (IDS) Program
DESCRIPTION:
URL:https://events.ccc.edu/event/wright-eastern-illinois-university-table-visit-interdisciplinary-studies-ids-program/
CATEGORIES:Wilbur Wright
ATTACH;FMTTYPE=image/png:https://events.ccc.edu/app/uploads/Transfer_Table_Per-College_WW.png
END:VEVENT
BEGIN:VEVENT
DTSTART;TZID=America/Chicago:20231106T130000
DTEND;TZID=America/Chicago:20231106T160000
DTSTAMP:20260423T203103
CREATED:20231102T202725Z
LAST-MODIFIED:20231102T202725Z
UID:10000643-1699275600-1699286400@events.ccc.edu
SUMMARY:Wright: Northeastern Illinois University (NEIU) Table Visit
DESCRIPTION:
URL:https://events.ccc.edu/event/wright-northeastern-illinois-university-neiu-table-visit-2/
CATEGORIES:Wilbur Wright
ATTACH;FMTTYPE=image/png:https://events.ccc.edu/app/uploads/Transfer_Table_Per-College_WW.png
END:VEVENT
BEGIN:VEVENT
DTSTART;TZID=America/Chicago:20231106T100000
DTEND;TZID=America/Chicago:20231106T130000
DTSTAMP:20260423T203103
CREATED:20231102T202936Z
LAST-MODIFIED:20231102T202936Z
UID:10000644-1699264800-1699275600@events.ccc.edu
SUMMARY:Wright: UIC Table Visit
DESCRIPTION:
URL:https://events.ccc.edu/event/wright-uic-table-visit-3/
CATEGORIES:Wilbur Wright
ATTACH;FMTTYPE=image/png:https://events.ccc.edu/app/uploads/Transfer_Table_Per-College_WW.png
END:VEVENT
BEGIN:VEVENT
DTSTART;TZID=America/Chicago:20231102T160000
DTEND;TZID=America/Chicago:20231102T190000
DTSTAMP:20260423T203103
CREATED:20231102T203143Z
LAST-MODIFIED:20231102T203143Z
UID:10000646-1698940800-1698951600@events.ccc.edu
SUMMARY:Wright: Southern New Hampshire University Table Visit
DESCRIPTION:
URL:https://events.ccc.edu/event/wright-southern-new-hampshire-university-table-visit-2/
CATEGORIES:Wilbur Wright
ATTACH;FMTTYPE=image/png:https://events.ccc.edu/app/uploads/Transfer_Table_Per-College_WW.png
END:VEVENT
BEGIN:VEVENT
DTSTART;TZID=America/Chicago:20231102T130000
DTEND;TZID=America/Chicago:20231102T160000
DTSTAMP:20260423T203103
CREATED:20231102T203306Z
LAST-MODIFIED:20231102T203306Z
UID:10000647-1698930000-1698940800@events.ccc.edu
SUMMARY:Wright: Elmhurst University Table Visit
DESCRIPTION:
URL:https://events.ccc.edu/event/wright-elmhurst-university-table-visit/
CATEGORIES:Wilbur Wright
ATTACH;FMTTYPE=image/png:https://events.ccc.edu/app/uploads/Transfer_Table_Per-College_WW.png
END:VEVENT
BEGIN:VEVENT
DTSTART;TZID=America/Chicago:20231101T110000
DTEND;TZID=America/Chicago:20231102T120000
DTSTAMP:20260423T203103
CREATED:20231025T211034Z
LAST-MODIFIED:20231025T211034Z
UID:10000604-1698836400-1698926400@events.ccc.edu
SUMMARY:Wright College: Dia de Los Muertos
DESCRIPTION:
URL:https://events.ccc.edu/event/wright-college-dia-de-los-muertos/
CATEGORIES:Wilbur Wright
ATTACH;FMTTYPE=image/jpeg:https://events.ccc.edu/app/uploads/WW_Stdnt_Act_02.jpg
END:VEVENT
BEGIN:VEVENT
DTSTART;TZID=America/Chicago:20231031T140000
DTEND;TZID=America/Chicago:20231031T160000
DTSTAMP:20260423T203103
CREATED:20231018T172303Z
LAST-MODIFIED:20231025T194436Z
UID:10000515-1698760800-1698768000@events.ccc.edu
SUMMARY:Wright College: Taco Tuesday - Halloween Party!
DESCRIPTION:
URL:https://events.ccc.edu/event/wright-college-taco-tuesday-halloween-party/
CATEGORIES:Wilbur Wright
ATTACH;FMTTYPE=image/jpeg:https://events.ccc.edu/app/uploads/WW_Stdnt_Act_03.jpg
END:VEVENT
BEGIN:VEVENT
DTSTART;TZID=America/Chicago:20231031T120000
DTEND;TZID=America/Chicago:20231031T140000
DTSTAMP:20260423T203103
CREATED:20231018T172257Z
LAST-MODIFIED:20231025T194436Z
UID:10000516-1698753600-1698760800@events.ccc.edu
SUMMARY:Wright College: SGA Meet & Greet Trick or Treat Club Day
DESCRIPTION:
URL:https://events.ccc.edu/event/wright-college-sga-meet-greet-trick-or-treat-club-day/
CATEGORIES:Wilbur Wright
ATTACH;FMTTYPE=image/jpeg:https://events.ccc.edu/app/uploads/WW_Stdnt_Act_03.jpg
END:VEVENT
BEGIN:VEVENT
DTSTART;TZID=America/Chicago:20231030T130000
DTEND;TZID=America/Chicago:20231030T160000
DTSTAMP:20260423T203103
CREATED:20231018T171650Z
LAST-MODIFIED:20231025T201915Z
UID:10000455-1698670800-1698681600@events.ccc.edu
SUMMARY:Wright: Southern New Hampshire University Table Visit
DESCRIPTION:
URL:https://events.ccc.edu/event/wright-south-new-hampshire-university-table-visit/
CATEGORIES:Wilbur Wright
ATTACH;FMTTYPE=image/png:https://events.ccc.edu/app/uploads/Transfer_Table_Per-College_WW.png
END:VEVENT
BEGIN:VEVENT
DTSTART;TZID=America/Chicago:20231030T100000
DTEND;TZID=America/Chicago:20231030T130000
DTSTAMP:20260423T203103
CREATED:20231018T171644Z
LAST-MODIFIED:20231025T201915Z
UID:10000456-1698660000-1698670800@events.ccc.edu
SUMMARY:Wright: Marquette University Table Visit
DESCRIPTION:
URL:https://events.ccc.edu/event/wright-marquette-university/
CATEGORIES:Wilbur Wright
ATTACH;FMTTYPE=image/png:https://events.ccc.edu/app/uploads/Transfer_Table_Per-College_WW.png
END:VEVENT
BEGIN:VEVENT
DTSTART;TZID=America/Chicago:20231026T160000
DTEND;TZID=America/Chicago:20231026T161000
DTSTAMP:20260423T203103
CREATED:20231018T155816Z
LAST-MODIFIED:20231018T155816Z
UID:10000049-1698336000-1698336600@events.ccc.edu
SUMMARY:Wright: In-Person Campus Tour
DESCRIPTION:
URL:https://events.ccc.edu/event/wright-in-person-campus-tour-8/
CATEGORIES:Wilbur Wright
ATTACH;FMTTYPE=image/jpeg:https://events.ccc.edu/app/uploads/WW_Calendar-Image_02.jpg
END:VEVENT
BEGIN:VEVENT
DTSTART;TZID=America/Chicago:20231025T130000
DTEND;TZID=America/Chicago:20231025T160000
DTSTAMP:20260423T203103
CREATED:20231018T171627Z
LAST-MODIFIED:20231025T201915Z
UID:10000457-1698238800-1698249600@events.ccc.edu
SUMMARY:Wright: Northeastern Illinois University Table Visit
DESCRIPTION:
URL:https://events.ccc.edu/event/wright-northeastern-illinois-university-table-visit-3/
CATEGORIES:Wilbur Wright
ATTACH;FMTTYPE=image/png:https://events.ccc.edu/app/uploads/Transfer_Table_Per-College_WW.png
END:VEVENT
BEGIN:VEVENT
DTSTART;TZID=America/Chicago:20231024T140000
DTEND;TZID=America/Chicago:20231024T160000
DTSTAMP:20260423T203103
CREATED:20231018T172249Z
LAST-MODIFIED:20231025T194437Z
UID:10000517-1698156000-1698163200@events.ccc.edu
SUMMARY:Wright College: Taco Tuesday - PRIDE Party!
DESCRIPTION:
URL:https://events.ccc.edu/event/wright-college-taco-tuesday-pride-party/
CATEGORIES:Wilbur Wright
ATTACH;FMTTYPE=image/jpeg:https://events.ccc.edu/app/uploads/WW_Stdnt_Act_03.jpg
END:VEVENT
BEGIN:VEVENT
DTSTART;TZID=America/Chicago:20231024T100000
DTEND;TZID=America/Chicago:20231024T130000
DTSTAMP:20260423T203103
CREATED:20231018T172507Z
LAST-MODIFIED:20231025T194444Z
UID:10000534-1698141600-1698152400@events.ccc.edu
SUMMARY:Wright: Private Illinois Colleges and Universities (PICU) Transfer Fair
DESCRIPTION:
URL:https://events.ccc.edu/event/wright-private-illinois-colleges-and-universities-picu-transfer-fair/
CATEGORIES:Wilbur Wright
ATTACH;FMTTYPE=image/png:https://events.ccc.edu/app/uploads/Transfer_Table_Per-College_WW.png
END:VEVENT
BEGIN:VEVENT
DTSTART;TZID=America/Chicago:20231019T173000
DTEND;TZID=America/Chicago:20231019T183000
DTSTAMP:20260423T203103
CREATED:20231018T172453Z
LAST-MODIFIED:20231025T194442Z
UID:10000529-1697736600-1697740200@events.ccc.edu
SUMMARY:Wright: Star Scholarship Transfer Partners Session
DESCRIPTION:
URL:https://events.ccc.edu/event/wright-star-scholarship-transfer-partners-session/
CATEGORIES:Wilbur Wright
ATTACH;FMTTYPE=image/jpeg:https://events.ccc.edu/app/uploads/Academic_Calendar-Star-Scholarship.jpg
END:VEVENT
BEGIN:VEVENT
DTSTART;TZID=America/Chicago:20231019T130000
DTEND;TZID=America/Chicago:20231019T160000
DTSTAMP:20260423T203103
CREATED:20231018T171550Z
LAST-MODIFIED:20231025T201917Z
UID:10000462-1697720400-1697731200@events.ccc.edu
SUMMARY:Wright: Governors State University Table Visit
DESCRIPTION:
URL:https://events.ccc.edu/event/wright-governors-state-university-table-visit-2/
CATEGORIES:Wilbur Wright
ATTACH;FMTTYPE=image/png:https://events.ccc.edu/app/uploads/Transfer_Table_Per-College_WW.png
END:VEVENT
BEGIN:VEVENT
DTSTART;TZID=America/Chicago:20231019T100000
DTEND;TZID=America/Chicago:20231019T130000
DTSTAMP:20260423T203103
CREATED:20231018T171544Z
LAST-MODIFIED:20231025T201918Z
UID:10000464-1697709600-1697720400@events.ccc.edu
SUMMARY:Wright: Concordia University Chicago Table Visit
DESCRIPTION:
URL:https://events.ccc.edu/event/wright-concordia-university-chicago-table-visit-2/
CATEGORIES:Wilbur Wright
ATTACH;FMTTYPE=image/png:https://events.ccc.edu/app/uploads/Transfer_Table_Per-College_WW.png
END:VEVENT
END:VCALENDAR