BEGIN:VCALENDAR
VERSION:2.0
PRODID:-//CCC - ECPv6.11.2//NONSGML v1.0//EN
CALSCALE:GREGORIAN
METHOD:PUBLISH
X-WR-CALNAME:CCC
X-ORIGINAL-URL:https://events.ccc.edu
X-WR-CALDESC:Events for CCC
REFRESH-INTERVAL;VALUE=DURATION:PT1H
X-Robots-Tag:noindex
X-PUBLISHED-TTL:PT1H
BEGIN:VTIMEZONE
TZID:America/Chicago
BEGIN:DAYLIGHT
TZOFFSETFROM:-0600
TZOFFSETTO:-0500
TZNAME:CDT
DTSTART:20240310T080000
END:DAYLIGHT
BEGIN:STANDARD
TZOFFSETFROM:-0500
TZOFFSETTO:-0600
TZNAME:CST
DTSTART:20241103T070000
END:STANDARD
END:VTIMEZONE
BEGIN:VEVENT
DTSTART;TZID=America/Chicago:20241113T150000
DTEND;TZID=America/Chicago:20241113T160000
DTSTAMP:20260421T203755
CREATED:20241030T212318Z
LAST-MODIFIED:20241030T212318Z
UID:10002638-1731510000-1731513600@events.ccc.edu
SUMMARY:University of Illinois System (UIUC\, UIC\, & UIS) Guaranteed Admissions Information Session
DESCRIPTION:
URL:https://events.ccc.edu/event/university-of-illinois-system-uiuc-uic-uis-guaranteed-admissions-information-session/
CATEGORIES:District-wide,Harold Washington,Harry S Truman,Kennedy-King,Malcolm X,Olive-Harvey,Richard J. Daley,Wilbur Wright
ATTACH;FMTTYPE=image/png:https://events.ccc.edu/app/uploads/Transfer_Per-College_DO.png
END:VEVENT
BEGIN:VEVENT
DTSTART;TZID=America/Chicago:20241113T180000
DTEND;TZID=America/Chicago:20241113T190000
DTSTAMP:20260421T203755
CREATED:20241112T225333Z
LAST-MODIFIED:20241112T225333Z
UID:10002711-1731520800-1731524400@events.ccc.edu
SUMMARY:Wright: Are You Ready to Transfer? Information Session
DESCRIPTION:
URL:https://events.ccc.edu/event/wright-are-you-ready-to-transfer-information-session-3/
CATEGORIES:Wilbur Wright
ATTACH;FMTTYPE=image/png:https://events.ccc.edu/app/uploads/Transfer_Per-College_WW.png
END:VEVENT
BEGIN:VEVENT
DTSTART;TZID=America/Chicago:20241114T053000
DTEND;TZID=America/Chicago:20241114T183000
DTSTAMP:20260421T203755
CREATED:20241112T225313Z
LAST-MODIFIED:20241112T225313Z
UID:10002710-1731562200-1731609000@events.ccc.edu
SUMMARY:Wright: Are You Ready to Transfer? Information Session
DESCRIPTION:
URL:https://events.ccc.edu/event/wright-are-you-ready-to-transfer-information-session-2/
CATEGORIES:Wilbur Wright
ATTACH;FMTTYPE=image/png:https://events.ccc.edu/app/uploads/Transfer_Per-College_WW.png
END:VEVENT
BEGIN:VEVENT
DTSTART;TZID=America/Chicago:20241114T100000
DTEND;TZID=America/Chicago:20241114T130000
DTSTAMP:20260421T203755
CREATED:20241112T225215Z
LAST-MODIFIED:20241112T225215Z
UID:10002707-1731578400-1731589200@events.ccc.edu
SUMMARY:Wright: Eastern Illinois University Table Visit
DESCRIPTION:
URL:https://events.ccc.edu/event/wright-eastern-illinois-university-table-visit-2/
CATEGORIES:Wilbur Wright
ATTACH;FMTTYPE=image/png:https://events.ccc.edu/app/uploads/Transfer_Table_Per-College_WW.png
END:VEVENT
BEGIN:VEVENT
DTSTART;TZID=America/Chicago:20241114T130000
DTEND;TZID=America/Chicago:20241114T160000
DTSTAMP:20260421T203755
CREATED:20241107T195224Z
LAST-MODIFIED:20241107T195224Z
UID:10002674-1731589200-1731600000@events.ccc.edu
SUMMARY:Wright: Lake Forest College Table Visit
DESCRIPTION:
URL:https://events.ccc.edu/event/wright-lake-forest-college-table-visit-2/
CATEGORIES:Wilbur Wright
ATTACH;FMTTYPE=image/png:https://events.ccc.edu/app/uploads/Transfer_Table_Per-College_WW.png
END:VEVENT
BEGIN:VEVENT
DTSTART;TZID=America/Chicago:20241115T100000
DTEND;TZID=America/Chicago:20241115T120000
DTSTAMP:20260421T203755
CREATED:20241106T232837Z
LAST-MODIFIED:20241106T232838Z
UID:10002442-1731664800-1731672000@events.ccc.edu
SUMMARY:Wright: Satisfactory Academic Progress (SAP) Workshop
DESCRIPTION:
URL:https://events.ccc.edu/event/wright-satisfactory-academic-progress-sap-workshop-4/
CATEGORIES:Wilbur Wright
ATTACH;FMTTYPE=image/jpeg:https://events.ccc.edu/app/uploads/Financial-Aid_Calendar.jpg
END:VEVENT
BEGIN:VEVENT
DTSTART;TZID=America/Chicago:20241118T100000
DTEND;TZID=America/Chicago:20241118T130000
DTSTAMP:20260421T203755
CREATED:20241107T195230Z
LAST-MODIFIED:20241107T195230Z
UID:10002675-1731924000-1731934800@events.ccc.edu
SUMMARY:Wright: Dominican University Table Visit
DESCRIPTION:
URL:https://events.ccc.edu/event/wright-dominican-university-table-visit-8/
CATEGORIES:Wilbur Wright
ATTACH;FMTTYPE=image/png:https://events.ccc.edu/app/uploads/Transfer_Table_Per-College_WW.png
END:VEVENT
BEGIN:VEVENT
DTSTART;TZID=America/Chicago:20241118T110000
DTEND;TZID=America/Chicago:20241118T130000
DTSTAMP:20260421T203755
CREATED:20241108T215706Z
LAST-MODIFIED:20241108T215706Z
UID:10002684-1731927600-1731934800@events.ccc.edu
SUMMARY:Wright: Financial Aid Completion Workshop
DESCRIPTION:
URL:https://events.ccc.edu/event/wright-financial-aid-completion-workshop-55/
CATEGORIES:Wilbur Wright
ATTACH;FMTTYPE=image/jpeg:https://events.ccc.edu/app/uploads/Financial-Aid_Calendar.jpg
END:VEVENT
BEGIN:VEVENT
DTSTART;TZID=America/Chicago:20241118T130000
DTEND;TZID=America/Chicago:20241118T140000
DTSTAMP:20260421T203755
CREATED:20240911T200434Z
LAST-MODIFIED:20241105T181538Z
UID:10002279-1731934800-1731938400@events.ccc.edu
SUMMARY:Earn and Learn Information Session
DESCRIPTION:
URL:https://events.ccc.edu/event/earn-and-learn-information-session/
CATEGORIES:District-wide,Harold Washington,Harry S Truman,Kennedy-King,Malcolm X,Olive-Harvey,Richard J. Daley,Wilbur Wright
ATTACH;FMTTYPE=image/png:https://events.ccc.edu/app/uploads/CalendarImage_CareerCenter_4_DO.png
END:VEVENT
BEGIN:VEVENT
DTSTART;TZID=America/Chicago:20241118T130000
DTEND;TZID=America/Chicago:20241118T160000
DTSTAMP:20260421T203755
CREATED:20241107T195238Z
LAST-MODIFIED:20241107T195238Z
UID:10002676-1731934800-1731945600@events.ccc.edu
SUMMARY:Wright: Chicago State University Table Visit
DESCRIPTION:
URL:https://events.ccc.edu/event/wright-chicago-state-university-table-visit-3/
CATEGORIES:Wilbur Wright
ATTACH;FMTTYPE=image/png:https://events.ccc.edu/app/uploads/Transfer_Table_Per-College_WW.png
END:VEVENT
BEGIN:VEVENT
DTSTART;TZID=America/Chicago:20241119T100000
DTEND;TZID=America/Chicago:20241119T130000
DTSTAMP:20260421T203755
CREATED:20241106T202023Z
LAST-MODIFIED:20241106T202023Z
UID:10002656-1732010400-1732021200@events.ccc.edu
SUMMARY:Wright: UIC Table Visit
DESCRIPTION:
URL:https://events.ccc.edu/event/wright-uic-table-visit-6/
CATEGORIES:Wilbur Wright
ATTACH;FMTTYPE=image/png:https://events.ccc.edu/app/uploads/Transfer_Table_Per-College_WW.png
END:VEVENT
BEGIN:VEVENT
DTSTART;TZID=America/Chicago:20241119T100000
DTEND;TZID=America/Chicago:20241119T130000
DTSTAMP:20260421T203755
CREATED:20241106T202408Z
LAST-MODIFIED:20241106T202408Z
UID:10002658-1732010400-1732021200@events.ccc.edu
SUMMARY:Wright: Valparaiso University Table Visit
DESCRIPTION:
URL:https://events.ccc.edu/event/wright-valparaiso-university-table-visit-3/
CATEGORIES:Wilbur Wright
ATTACH;FMTTYPE=image/png:https://events.ccc.edu/app/uploads/Transfer_Table_Per-College_WW.png
END:VEVENT
BEGIN:VEVENT
DTSTART;TZID=America/Chicago:20241119T130000
DTEND;TZID=America/Chicago:20241119T140000
DTSTAMP:20260421T203755
CREATED:20241024T193501Z
LAST-MODIFIED:20241024T193501Z
UID:10002615-1732021200-1732024800@events.ccc.edu
SUMMARY:Wright: Taco Tuesday - Native American Heritage Month Celebration!
DESCRIPTION:
URL:https://events.ccc.edu/event/wright-taco-tuesday-native-american-heritage-month-celebration/
CATEGORIES:Wilbur Wright
ATTACH;FMTTYPE=image/jpeg:https://events.ccc.edu/app/uploads/Native-American-Heritage-Month-Image-WW.jpg
END:VEVENT
BEGIN:VEVENT
DTSTART;TZID=America/Chicago:20241119T140000
DTEND;TZID=America/Chicago:20241119T150000
DTSTAMP:20260421T203755
CREATED:20241107T195502Z
LAST-MODIFIED:20241107T195502Z
UID:10002677-1732024800-1732028400@events.ccc.edu
SUMMARY:Wright: Planning to Transfer Session
DESCRIPTION:
URL:https://events.ccc.edu/event/wright-planning-to-transfer-session/
CATEGORIES:Wilbur Wright
ATTACH;FMTTYPE=image/png:https://events.ccc.edu/app/uploads/Transfer_Per-College_WW.png
END:VEVENT
BEGIN:VEVENT
DTSTART;TZID=America/Chicago:20241119T140000
DTEND;TZID=America/Chicago:20241119T160000
DTSTAMP:20260421T203755
CREATED:20241112T224057Z
LAST-MODIFIED:20241112T224058Z
UID:10002441-1732024800-1732032000@events.ccc.edu
SUMMARY:Wright: Satisfactory Academic Progress (SAP) Workshop
DESCRIPTION:
URL:https://events.ccc.edu/event/wright-satisfactory-academic-progress-sap-workshop-3/
CATEGORIES:Wilbur Wright
ATTACH;FMTTYPE=image/jpeg:https://events.ccc.edu/app/uploads/Financial-Aid_Calendar.jpg
END:VEVENT
BEGIN:VEVENT
DTSTART;TZID=America/Chicago:20241120T100000
DTEND;TZID=America/Chicago:20241120T110000
DTSTAMP:20260421T203755
CREATED:20240829T194303Z
LAST-MODIFIED:20240829T194303Z
UID:10002152-1732096800-1732100400@events.ccc.edu
SUMMARY:Partners in Education Info Session
DESCRIPTION:
URL:https://events.ccc.edu/event/partners-in-education-info-session-42/
CATEGORIES:Harold Washington,Harry S Truman,Kennedy-King,Malcolm X,Olive-Harvey,Richard J. Daley,Wilbur Wright
ATTACH;FMTTYPE=image/jpeg:https://events.ccc.edu/app/uploads/CHA-Calendar-Image.jpg
END:VEVENT
BEGIN:VEVENT
DTSTART;TZID=America/Chicago:20241120T100000
DTEND;TZID=America/Chicago:20241120T120000
DTSTAMP:20260421T203755
CREATED:20241010T165740Z
LAST-MODIFIED:20241010T165740Z
UID:10002451-1732096800-1732104000@events.ccc.edu
SUMMARY:Wright: Satisfactory Academic Progress (SAP) Workshop
DESCRIPTION:
URL:https://events.ccc.edu/event/wright-satisfactory-academic-progress-sap-workshop-7/
CATEGORIES:Wilbur Wright
ATTACH;FMTTYPE=image/jpeg:https://events.ccc.edu/app/uploads/Financial-Aid_Calendar.jpg
END:VEVENT
BEGIN:VEVENT
DTSTART;TZID=America/Chicago:20241120T100000
DTEND;TZID=America/Chicago:20241120T130000
DTSTAMP:20260421T203755
CREATED:20241106T202139Z
LAST-MODIFIED:20241106T202139Z
UID:10002657-1732096800-1732107600@events.ccc.edu
SUMMARY:Wright: Indiana Tech Table Visit
DESCRIPTION:
URL:https://events.ccc.edu/event/wright-indiana-tech-table-visit-2/
CATEGORIES:Wilbur Wright
ATTACH;FMTTYPE=image/png:https://events.ccc.edu/app/uploads/Transfer_Table_Per-College_WW.png
END:VEVENT
BEGIN:VEVENT
DTSTART;TZID=America/Chicago:20241120T110000
DTEND;TZID=America/Chicago:20241120T140000
DTSTAMP:20260421T203755
CREATED:20241114T192150Z
LAST-MODIFIED:20241114T192151Z
UID:10002727-1732100400-1732111200@events.ccc.edu
SUMMARY:Statewide Apprenticeship Expo
DESCRIPTION:
URL:https://events.ccc.edu/event/statewide-apprenticeship-expo/
CATEGORIES:District-wide,Harold Washington,Harry S Truman,Kennedy-King,Malcolm X,Olive-Harvey,Richard J. Daley,Wilbur Wright
ATTACH;FMTTYPE=image/jpeg:https://events.ccc.edu/app/uploads/DO_Calendar-Image_01-e1709153611957-wuAWoR.tmp_.jpg
END:VEVENT
BEGIN:VEVENT
DTSTART;TZID=America/Chicago:20241120T120000
DTEND;TZID=America/Chicago:20241120T130000
DTSTAMP:20260421T203755
CREATED:20240829T194242Z
LAST-MODIFIED:20240829T194242Z
UID:10002151-1732104000-1732107600@events.ccc.edu
SUMMARY:Partners in Education Info Session
DESCRIPTION:
URL:https://events.ccc.edu/event/partners-in-education-info-session-41/
CATEGORIES:Harold Washington,Harry S Truman,Kennedy-King,Malcolm X,Olive-Harvey,Richard J. Daley,Wilbur Wright
ATTACH;FMTTYPE=image/jpeg:https://events.ccc.edu/app/uploads/CHA-Calendar-Image.jpg
END:VEVENT
BEGIN:VEVENT
DTSTART;TZID=America/Chicago:20241120T140000
DTEND;TZID=America/Chicago:20241120T150000
DTSTAMP:20260421T203755
CREATED:20241113T220822Z
LAST-MODIFIED:20241113T220822Z
UID:10002723-1732111200-1732114800@events.ccc.edu
SUMMARY:Wright: Are You Ready to Transfer? Information Session
DESCRIPTION:
URL:https://events.ccc.edu/event/wright-are-you-ready-to-transfer-information-session-4/
CATEGORIES:Wilbur Wright
ATTACH;FMTTYPE=image/png:https://events.ccc.edu/app/uploads/Transfer_Per-College_WW.png
END:VEVENT
BEGIN:VEVENT
DTSTART;TZID=America/Chicago:20241120T150000
DTEND;TZID=America/Chicago:20241120T190000
DTSTAMP:20260421T203755
CREATED:20241118T212835Z
LAST-MODIFIED:20241118T212835Z
UID:10002735-1732114800-1732129200@events.ccc.edu
SUMMARY:Malcolm X: Give Thanks For Life Blood Drive
DESCRIPTION:
URL:https://events.ccc.edu/event/malcolm-x-give-thanks-for-life-blood-drive/
CATEGORIES:District-wide,Harold Washington,Harry S Truman,Kennedy-King,Malcolm X,Olive-Harvey,Richard J. Daley,Wilbur Wright
ATTACH;FMTTYPE=image/jpeg:https://events.ccc.edu/app/uploads/MX_Calendar-Image_01.jpg
END:VEVENT
BEGIN:VEVENT
DTSTART;TZID=America/Chicago:20241121T100000
DTEND;TZID=America/Chicago:20241121T130000
DTSTAMP:20260421T203755
CREATED:20241106T201828Z
LAST-MODIFIED:20241106T201828Z
UID:10002655-1732183200-1732194000@events.ccc.edu
SUMMARY:Wright: UIC College of Urban Planning and Public Affairs Table Visit
DESCRIPTION:
URL:https://events.ccc.edu/event/wright-uic-college-of-urban-planning-and-public-affairs-table-visit/
CATEGORIES:Wilbur Wright
ATTACH;FMTTYPE=image/png:https://events.ccc.edu/app/uploads/Transfer_Table_Per-College_WW.png
END:VEVENT
BEGIN:VEVENT
DTSTART;TZID=America/Chicago:20241121T140000
DTEND;TZID=America/Chicago:20241121T150000
DTSTAMP:20260421T203755
CREATED:20241118T162738Z
LAST-MODIFIED:20241118T162738Z
UID:10002731-1732197600-1732201200@events.ccc.edu
SUMMARY:Apprenticeships 101
DESCRIPTION:
URL:https://events.ccc.edu/event/apprenticeships-101-2/
CATEGORIES:District-wide,Harold Washington,Harry S Truman,Kennedy-King,Malcolm X,Olive-Harvey,Richard J. Daley,Wilbur Wright
ATTACH;FMTTYPE=image/png:https://events.ccc.edu/app/uploads/CalendarImage_CareerCenter_4_DO.png
END:VEVENT
BEGIN:VEVENT
DTSTART;TZID=America/Chicago:20241121T150000
DTEND;TZID=America/Chicago:20241121T170000
DTSTAMP:20260421T203755
CREATED:20241010T151037Z
LAST-MODIFIED:20241010T151037Z
UID:10002449-1732201200-1732208400@events.ccc.edu
SUMMARY:Wright: Satisfactory Academic Progress (SAP) Workshop
DESCRIPTION:
URL:https://events.ccc.edu/event/wright-satisfactory-academic-progress-sap-workshop-5/
CATEGORIES:Wilbur Wright
ATTACH;FMTTYPE=image/jpeg:https://events.ccc.edu/app/uploads/Financial-Aid_Calendar.jpg
END:VEVENT
BEGIN:VEVENT
DTSTART;TZID=America/Chicago:20241121T153000
DTEND;TZID=America/Chicago:20241121T170000
DTSTAMP:20260421T203755
CREATED:20241010T142929Z
LAST-MODIFIED:20241010T142929Z
UID:10002440-1732203000-1732208400@events.ccc.edu
SUMMARY:Becoming a Rockstar Grad Student: How to Get Degrees Beyond the Bachelor’s
DESCRIPTION:
URL:https://events.ccc.edu/event/becoming-a-rockstar-grad-student-how-to-get-degrees-beyond-the-bachelors/
CATEGORIES:District-wide,Harold Washington,Harry S Truman,Kennedy-King,Malcolm X,Olive-Harvey,Richard J. Daley,Wilbur Wright
ATTACH;FMTTYPE=image/png:https://events.ccc.edu/app/uploads/Transfer_Per-College_HW.png
END:VEVENT
BEGIN:VEVENT
DTSTART;TZID=America/Chicago:20241121T180000
DTEND;TZID=America/Chicago:20241121T200000
DTSTAMP:20260421T203755
CREATED:20241118T200704Z
LAST-MODIFIED:20241118T200705Z
UID:10002192-1732212000-1732219200@events.ccc.edu
SUMMARY:Wright: Engineering Information Session
DESCRIPTION:
URL:https://events.ccc.edu/event/wright-engineering-information-session-11/
CATEGORIES:Wilbur Wright
ATTACH;FMTTYPE=image/jpeg:https://events.ccc.edu/app/uploads/Engineering-and-Computer-Science_Calendar-image.jpg
END:VEVENT
BEGIN:VEVENT
DTSTART;TZID=America/Chicago:20241121T183000
DTEND;TZID=America/Chicago:20241121T193000
DTSTAMP:20260421T203755
CREATED:20240829T194233Z
LAST-MODIFIED:20240829T194233Z
UID:10002150-1732213800-1732217400@events.ccc.edu
SUMMARY:Partners in Education Info Session
DESCRIPTION:
URL:https://events.ccc.edu/event/partners-in-education-info-session-40/
CATEGORIES:Harold Washington,Harry S Truman,Kennedy-King,Malcolm X,Olive-Harvey,Richard J. Daley,Wilbur Wright
ATTACH;FMTTYPE=image/jpeg:https://events.ccc.edu/app/uploads/CHA-Calendar-Image.jpg
END:VEVENT
BEGIN:VEVENT
DTSTART;TZID=America/Chicago:20241122T100000
DTEND;TZID=America/Chicago:20241122T120000
DTSTAMP:20260421T203755
CREATED:20241112T224253Z
LAST-MODIFIED:20241112T224253Z
UID:10002703-1732269600-1732276800@events.ccc.edu
SUMMARY:Wright: Financial Aid Completion Workshop
DESCRIPTION:
URL:https://events.ccc.edu/event/wright-financial-aid-completion-workshop-64/
CATEGORIES:Wilbur Wright
ATTACH;FMTTYPE=image/jpeg:https://events.ccc.edu/app/uploads/Financial-Aid_Calendar.jpg
END:VEVENT
BEGIN:VEVENT
DTSTART;TZID=America/Chicago:20241122T140000
DTEND;TZID=America/Chicago:20241122T150000
DTSTAMP:20260421T203755
CREATED:20241030T212415Z
LAST-MODIFIED:20241105T181827Z
UID:10002639-1732284000-1732287600@events.ccc.edu
SUMMARY:National Apprenticeship Week Information Session
DESCRIPTION:
URL:https://events.ccc.edu/event/national-apprenticeship-week-information-session/
CATEGORIES:District-wide,Harold Washington,Harry S Truman,Kennedy-King,Malcolm X,Olive-Harvey,Richard J. Daley,Wilbur Wright
ATTACH;FMTTYPE=image/png:https://events.ccc.edu/app/uploads/CalendarImage_CareerCenter_4_DO.png
END:VEVENT
END:VCALENDAR