BEGIN:VCALENDAR
VERSION:2.0
PRODID:-//CCC - ECPv6.11.2//NONSGML v1.0//EN
CALSCALE:GREGORIAN
METHOD:PUBLISH
X-WR-CALNAME:CCC
X-ORIGINAL-URL:https://events.ccc.edu
X-WR-CALDESC:Events for CCC
REFRESH-INTERVAL;VALUE=DURATION:PT1H
X-Robots-Tag:noindex
X-PUBLISHED-TTL:PT1H
BEGIN:VTIMEZONE
TZID:America/Chicago
BEGIN:DAYLIGHT
TZOFFSETFROM:-0600
TZOFFSETTO:-0500
TZNAME:CDT
DTSTART:20230312T080000
END:DAYLIGHT
BEGIN:STANDARD
TZOFFSETFROM:-0500
TZOFFSETTO:-0600
TZNAME:CST
DTSTART:20231105T070000
END:STANDARD
END:VTIMEZONE
BEGIN:VEVENT
DTSTART;TZID=America/Chicago:20230907T130000
DTEND;TZID=America/Chicago:20230907T160000
DTSTAMP:20260424T032751
CREATED:20231018T165859Z
LAST-MODIFIED:20231025T201831Z
UID:10000365-1694091600-1694102400@events.ccc.edu
SUMMARY:Wright: Northeastern Illinois University Table Visit
DESCRIPTION:
URL:https://events.ccc.edu/event/wright-northeastern-illinois-university-table-visit-2/
CATEGORIES:Wilbur Wright
ATTACH;FMTTYPE=image/png:https://events.ccc.edu/app/uploads/Transfer_Table_Per-College_WW.png
END:VEVENT
BEGIN:VEVENT
DTSTART;TZID=America/Chicago:20230907T100000
DTEND;TZID=America/Chicago:20230907T130000
DTSTAMP:20260424T032751
CREATED:20231018T165853Z
LAST-MODIFIED:20231025T201831Z
UID:10000364-1694080800-1694091600@events.ccc.edu
SUMMARY:Wright: University of Illinois Chicago - College of Business Table Visit
DESCRIPTION:
URL:https://events.ccc.edu/event/wright-university-of-illinois-chicago-college-of-business-table-visit/
CATEGORIES:Wilbur Wright
ATTACH;FMTTYPE=image/png:https://events.ccc.edu/app/uploads/Transfer_Table_Per-College_WW.png
END:VEVENT
BEGIN:VEVENT
DTSTART;TZID=America/Chicago:20230905T140000
DTEND;TZID=America/Chicago:20230905T160000
DTSTAMP:20260424T032751
CREATED:20231018T165049Z
LAST-MODIFIED:20231025T201758Z
UID:10000313-1693922400-1693929600@events.ccc.edu
SUMMARY:Wright College: Taco Tuesday - Vision Boards!
DESCRIPTION:
URL:https://events.ccc.edu/event/wright-college-taco-tuesday-vision-boards/
CATEGORIES:Wilbur Wright
ATTACH;FMTTYPE=image/jpeg:https://events.ccc.edu/app/uploads/WW_Stdnt_Act_03.jpg
END:VEVENT
BEGIN:VEVENT
DTSTART;TZID=America/Chicago:20230831T160000
DTEND;TZID=America/Chicago:20230831T161000
DTSTAMP:20260424T032751
CREATED:20231018T155736Z
LAST-MODIFIED:20231018T155737Z
UID:10000045-1693497600-1693498200@events.ccc.edu
SUMMARY:Wright: In-Person Campus Tour
DESCRIPTION:
URL:https://events.ccc.edu/event/wright-in-person-campus-tour-4/
CATEGORIES:Wilbur Wright
ATTACH;FMTTYPE=image/jpeg:https://events.ccc.edu/app/uploads/WW_Calendar-Image_02.jpg
END:VEVENT
BEGIN:VEVENT
DTSTART;TZID=America/Chicago:20230831T153000
DTEND;TZID=America/Chicago:20230831T170000
DTSTAMP:20260424T032751
CREATED:20231018T155602Z
LAST-MODIFIED:20231018T155603Z
UID:10000056-1693495800-1693501200@events.ccc.edu
SUMMARY:Fall 2023 City Colleges Transfer Leadership Class (TLC)
DESCRIPTION:
URL:https://events.ccc.edu/event/fall-2023-city-colleges-transfer-leadership-class-tlc/
CATEGORIES:District Office,District-wide,Harold Washington,Harry S Truman,Kennedy-King,Malcolm X,Olive-Harvey,Richard J. Daley,Wilbur Wright
ATTACH;FMTTYPE=image/png:https://events.ccc.edu/app/uploads/Transfer_Per-College_DO.png
END:VEVENT
BEGIN:VEVENT
DTSTART;TZID=America/Chicago:20230829T140000
DTEND;TZID=America/Chicago:20230829T160000
DTSTAMP:20260424T032751
CREATED:20231018T162421Z
LAST-MODIFIED:20231025T201646Z
UID:10000162-1693317600-1693324800@events.ccc.edu
SUMMARY:Wright: Taco Tuesday With SGA
DESCRIPTION:
URL:https://events.ccc.edu/event/wright-taco-tuesday-with-sga/
CATEGORIES:Wilbur Wright
ATTACH;FMTTYPE=image/jpeg:https://events.ccc.edu/app/uploads/WW_Stdnt_Act_01.jpg
END:VEVENT
BEGIN:VEVENT
DTSTART;TZID=America/Chicago:20230828T100000
DTEND;TZID=America/Chicago:20230828T140000
DTSTAMP:20260424T032751
CREATED:20231018T162413Z
LAST-MODIFIED:20231025T201646Z
UID:10000161-1693216800-1693231200@events.ccc.edu
SUMMARY:Wright: Landing Week With SGA
DESCRIPTION:
URL:https://events.ccc.edu/event/wright-landing-week-with-sga-2/
CATEGORIES:Wilbur Wright
ATTACH;FMTTYPE=image/jpeg:https://events.ccc.edu/app/uploads/WW_Stdnt_Act_01.jpg
END:VEVENT
BEGIN:VEVENT
DTSTART;TZID=America/Chicago:20230824T100000
DTEND;TZID=America/Chicago:20230824T140000
DTSTAMP:20260424T032751
CREATED:20231018T162405Z
LAST-MODIFIED:20231025T201645Z
UID:10000159-1692871200-1692885600@events.ccc.edu
SUMMARY:Wright: Landing Week With SGA
DESCRIPTION:
URL:https://events.ccc.edu/event/wright-landing-week-with-sga/
CATEGORIES:Wilbur Wright
ATTACH;FMTTYPE=image/jpeg:https://events.ccc.edu/app/uploads/WW_Stdnt_Act_01.jpg
END:VEVENT
BEGIN:VEVENT
DTSTART;TZID=America/Chicago:20230822T130000
DTEND;TZID=America/Chicago:20230822T140000
DTSTAMP:20260424T032751
CREATED:20231018T162357Z
LAST-MODIFIED:20231025T201645Z
UID:10000158-1692709200-1692712800@events.ccc.edu
SUMMARY:Wright: Business Cohort Reception
DESCRIPTION:
URL:https://events.ccc.edu/event/wright-business-cohort-reception/
CATEGORIES:Wilbur Wright
ATTACH;FMTTYPE=image/jpeg:https://events.ccc.edu/app/uploads/WW_Stdnt_Act_01.jpg
END:VEVENT
BEGIN:VEVENT
DTSTART;TZID=America/Chicago:20230817T160000
DTEND;TZID=America/Chicago:20230817T161000
DTSTAMP:20260424T032751
CREATED:20231018T155727Z
LAST-MODIFIED:20231018T155727Z
UID:10000044-1692288000-1692288600@events.ccc.edu
SUMMARY:Wright: In-Person Campus Tour
DESCRIPTION:
URL:https://events.ccc.edu/event/wright-in-person-campus-tour-3/
CATEGORIES:Wilbur Wright
ATTACH;FMTTYPE=image/jpeg:https://events.ccc.edu/app/uploads/WW_Calendar-Image_02.jpg
END:VEVENT
BEGIN:VEVENT
DTSTART;TZID=America/Chicago:20230809T090000
DTEND;TZID=America/Chicago:20230809T170000
DTSTAMP:20260424T032751
CREATED:20231018T160953Z
LAST-MODIFIED:20231025T201604Z
UID:10000074-1691571600-1691600400@events.ccc.edu
SUMMARY:Wright: Enrollment Day
DESCRIPTION:
URL:https://events.ccc.edu/event/wright-enrollment-day-3/
CATEGORIES:Wilbur Wright
ATTACH;FMTTYPE=image/jpeg:https://events.ccc.edu/app/uploads/WW_Calendar-Image_01-e1715880201328.jpg
END:VEVENT
BEGIN:VEVENT
DTSTART;TZID=America/Chicago:20230803T160000
DTEND;TZID=America/Chicago:20230803T161000
DTSTAMP:20260424T032751
CREATED:20231018T155718Z
LAST-MODIFIED:20231018T155718Z
UID:10000043-1691078400-1691079000@events.ccc.edu
SUMMARY:Wright: In-Person Campus Tour
DESCRIPTION:
URL:https://events.ccc.edu/event/wright-in-person-campus-tour-2/
CATEGORIES:Wilbur Wright
ATTACH;FMTTYPE=image/jpeg:https://events.ccc.edu/app/uploads/WW_Calendar-Image_02.jpg
END:VEVENT
BEGIN:VEVENT
DTSTART;TZID=America/Chicago:20230803T090000
DTEND;TZID=America/Chicago:20230803T180000
DTSTAMP:20260424T032751
CREATED:20231018T160937Z
LAST-MODIFIED:20231025T201603Z
UID:10000073-1691053200-1691085600@events.ccc.edu
SUMMARY:Wright: Enrollment Day
DESCRIPTION:
URL:https://events.ccc.edu/event/wright-enrollment-day-2/
CATEGORIES:Wilbur Wright
ATTACH;FMTTYPE=image/jpeg:https://events.ccc.edu/app/uploads/WW_Calendar-Image_01-e1715880201328.jpg
END:VEVENT
BEGIN:VEVENT
DTSTART;TZID=America/Chicago:20230802T090000
DTEND;TZID=America/Chicago:20230802T170000
DTSTAMP:20260424T032751
CREATED:20231018T160920Z
LAST-MODIFIED:20231025T201603Z
UID:10000072-1690966800-1690995600@events.ccc.edu
SUMMARY:Wright: Enrollment Day
DESCRIPTION:
URL:https://events.ccc.edu/event/wright-enrollment-day/
CATEGORIES:Wilbur Wright
ATTACH;FMTTYPE=image/jpeg:https://events.ccc.edu/app/uploads/WW_Calendar-Image_01-e1715880201328.jpg
END:VEVENT
BEGIN:VEVENT
DTSTART;TZID=America/Chicago:20230720T160000
DTEND;TZID=America/Chicago:20230720T161000
DTSTAMP:20260424T032751
CREATED:20231018T155707Z
LAST-MODIFIED:20231018T155707Z
UID:10000042-1689868800-1689869400@events.ccc.edu
SUMMARY:Wright: In-Person Campus Tour
DESCRIPTION:
URL:https://events.ccc.edu/event/wright-in-person-campus-tour/
CATEGORIES:Wilbur Wright
ATTACH;FMTTYPE=image/jpeg:https://events.ccc.edu/app/uploads/WW_Calendar-Image_02.jpg
END:VEVENT
END:VCALENDAR