BEGIN:VCALENDAR
VERSION:2.0
PRODID:-//CCC - ECPv6.11.2//NONSGML v1.0//EN
CALSCALE:GREGORIAN
METHOD:PUBLISH
X-WR-CALNAME:CCC
X-ORIGINAL-URL:https://events.ccc.edu
X-WR-CALDESC:Events for CCC
REFRESH-INTERVAL;VALUE=DURATION:PT1H
X-Robots-Tag:noindex
X-PUBLISHED-TTL:PT1H
BEGIN:VTIMEZONE
TZID:America/Chicago
BEGIN:DAYLIGHT
TZOFFSETFROM:-0600
TZOFFSETTO:-0500
TZNAME:CDT
DTSTART:20250309T080000
END:DAYLIGHT
BEGIN:STANDARD
TZOFFSETFROM:-0500
TZOFFSETTO:-0600
TZNAME:CST
DTSTART:20251102T070000
END:STANDARD
END:VTIMEZONE
BEGIN:VEVENT
DTSTART;TZID=America/Chicago:20250220T160000
DTEND;TZID=America/Chicago:20250220T170000
DTSTAMP:20260421T203806
CREATED:20241217T215631Z
LAST-MODIFIED:20241217T215631Z
UID:10002920-1740067200-1740070800@events.ccc.edu
SUMMARY:Building Credit Workshop
DESCRIPTION:
URL:https://events.ccc.edu/event/building-credit-workshop-2/
CATEGORIES:District-wide,Harold Washington,Harry S Truman,Kennedy-King,Malcolm X,Olive-Harvey,Richard J. Daley,Wilbur Wright
ATTACH;FMTTYPE=image/jpeg:https://events.ccc.edu/app/uploads/DO_Calendar-Image_01-e1709153611957-wuAWoR.tmp_.jpg
END:VEVENT
BEGIN:VEVENT
DTSTART;TZID=America/Chicago:20250220T170000
DTEND;TZID=America/Chicago:20250220T171000
DTSTAMP:20260421T203806
CREATED:20241204T220037Z
LAST-MODIFIED:20241204T220037Z
UID:10002755-1740070800-1740071400@events.ccc.edu
SUMMARY:Wright: Campus Tour
DESCRIPTION:
URL:https://events.ccc.edu/event/wright-campus-tour-23/
CATEGORIES:Wilbur Wright
ATTACH;FMTTYPE=image/jpeg:https://events.ccc.edu/app/uploads/WW_Calendar-Image_01-e1715880201328-wC0vNw.tmp_.jpg
END:VEVENT
BEGIN:VEVENT
DTSTART;TZID=America/Chicago:20250220T180000
DTEND;TZID=America/Chicago:20250220T200000
DTSTAMP:20260421T203806
CREATED:20250131T155056Z
LAST-MODIFIED:20250131T155056Z
UID:10003526-1740074400-1740081600@events.ccc.edu
SUMMARY:When Oligarchy Trumps Democracy: America The End As We Know It?
DESCRIPTION:
URL:https://events.ccc.edu/event/when-oligarchy-trumps-democracy-america-the-end-as-we-know-it/
CATEGORIES:District-wide,Harold Washington,Harry S Truman,Kennedy-King,Malcolm X,Olive-Harvey,Richard J. Daley,Wilbur Wright
ATTACH;FMTTYPE=image/jpeg:https://events.ccc.edu/app/uploads/BHM-Calendar_DO.jpg
END:VEVENT
BEGIN:VEVENT
DTSTART;TZID=America/Chicago:20250221T100000
DTEND;TZID=America/Chicago:20250221T120000
DTSTAMP:20260421T203806
CREATED:20250204T223220Z
LAST-MODIFIED:20250204T223220Z
UID:10003542-1740132000-1740139200@events.ccc.edu
SUMMARY:Wright: Financial Aid/ Alternative Application Completion Workshop
DESCRIPTION:
URL:https://events.ccc.edu/event/wright-financial-aid-alternative-application-completion-workshop-2/
CATEGORIES:Wilbur Wright
ATTACH;FMTTYPE=image/jpeg:https://events.ccc.edu/app/uploads/Financial-Aid_Calendar.jpg
END:VEVENT
BEGIN:VEVENT
DTSTART;TZID=America/Chicago:20250221T100000
DTEND;TZID=America/Chicago:20250221T140000
DTSTAMP:20260421T203806
CREATED:20250130T203720Z
LAST-MODIFIED:20250130T203720Z
UID:10003513-1740132000-1740146400@events.ccc.edu
SUMMARY:City of Chicago Job Fair
DESCRIPTION:
URL:https://events.ccc.edu/event/city-of-chicago-job-fair/
CATEGORIES:District-wide,Harold Washington,Harry S Truman,Kennedy-King,Malcolm X,Olive-Harvey,Richard J. Daley,Wilbur Wright
ATTACH;FMTTYPE=image/png:https://events.ccc.edu/app/uploads/CalendarImage_CareerCenter_4_DO.png
END:VEVENT
BEGIN:VEVENT
DTSTART;TZID=America/Chicago:20250221T130000
DTEND;TZID=America/Chicago:20250221T140000
DTSTAMP:20260421T203806
CREATED:20241216T215513Z
LAST-MODIFIED:20241216T215513Z
UID:10002898-1740142800-1740146400@events.ccc.edu
SUMMARY:Truman: Transfer 101 Workshop - All Majors
DESCRIPTION:
URL:https://events.ccc.edu/event/truman-transfer-101-workshop-all-majors-2/
CATEGORIES:District-wide,Harold Washington,Harry S Truman,Kennedy-King,Malcolm X,Olive-Harvey,Richard J. Daley,Wilbur Wright
ATTACH;FMTTYPE=image/png:https://events.ccc.edu/app/uploads/Transfer_Per-College_HT.png
END:VEVENT
BEGIN:VEVENT
DTSTART;TZID=America/Chicago:20250224T100000
DTEND;TZID=America/Chicago:20250224T120000
DTSTAMP:20260421T203806
CREATED:20250204T223134Z
LAST-MODIFIED:20250204T223134Z
UID:10003541-1740391200-1740398400@events.ccc.edu
SUMMARY:Wright: Satisfactory Academic Progress Workshop
DESCRIPTION:
URL:https://events.ccc.edu/event/wright-satisfactory-academic-progress-workshop/
CATEGORIES:Wilbur Wright
ATTACH;FMTTYPE=image/jpeg:https://events.ccc.edu/app/uploads/Financial-Aid_Calendar.jpg
END:VEVENT
BEGIN:VEVENT
DTSTART;TZID=America/Chicago:20250224T100000
DTEND;TZID=America/Chicago:20250224T130000
DTSTAMP:20260421T203806
CREATED:20250207T165711Z
LAST-MODIFIED:20250207T165711Z
UID:10003606-1740391200-1740402000@events.ccc.edu
SUMMARY:Wright: Valparaiso University Table Visit
DESCRIPTION:
URL:https://events.ccc.edu/event/wright-valparaiso-university-table-visit-6/
CATEGORIES:Wilbur Wright
ATTACH;FMTTYPE=image/png:https://events.ccc.edu/app/uploads/Transfer_Table_Per-College_WW.png
END:VEVENT
BEGIN:VEVENT
DTSTART;TZID=America/Chicago:20250225T100000
DTEND;TZID=America/Chicago:20250225T130000
DTSTAMP:20260421T203806
CREATED:20250207T174755Z
LAST-MODIFIED:20250207T174755Z
UID:10003610-1740477600-1740488400@events.ccc.edu
SUMMARY:Wright: Northwestern University (School of Professional Studies) Table Visit
DESCRIPTION:
URL:https://events.ccc.edu/event/wright-northwestern-university-school-of-professional-studies-table-visit-2/
CATEGORIES:Wilbur Wright
ATTACH;FMTTYPE=image/png:https://events.ccc.edu/app/uploads/Transfer_Table_Per-College_WW.png
END:VEVENT
BEGIN:VEVENT
DTSTART;TZID=America/Chicago:20250225T103000
DTEND;TZID=America/Chicago:20250225T150000
DTSTAMP:20260421T203806
CREATED:20250218T222322Z
LAST-MODIFIED:20250218T222322Z
UID:10003691-1740479400-1740495600@events.ccc.edu
SUMMARY:Wright: Black History Month Blood Drive
DESCRIPTION:
URL:https://events.ccc.edu/event/wright-black-history-month-blood-drive/
CATEGORIES:Wilbur Wright
ATTACH;FMTTYPE=image/jpeg:https://events.ccc.edu/app/uploads/BHM-Calendar_WW.jpg
END:VEVENT
BEGIN:VEVENT
DTSTART;TZID=America/Chicago:20250225T110000
DTEND;TZID=America/Chicago:20250225T120000
DTSTAMP:20260421T203806
CREATED:20250109T222651Z
LAST-MODIFIED:20250109T222651Z
UID:10003141-1740481200-1740484800@events.ccc.edu
SUMMARY:Earn and Learn Information Session
DESCRIPTION:
URL:https://events.ccc.edu/event/earn-and-learn-information-session-9/
CATEGORIES:District-wide,Harold Washington,Harry S Truman,Kennedy-King,Malcolm X,Olive-Harvey,Richard J. Daley,Wilbur Wright
ATTACH;FMTTYPE=image/png:https://events.ccc.edu/app/uploads/CalendarImage_CareerCenter_4_DO.png
END:VEVENT
BEGIN:VEVENT
DTSTART;TZID=America/Chicago:20250225T130000
DTEND;TZID=America/Chicago:20250225T150000
DTSTAMP:20260421T203806
CREATED:20250204T223057Z
LAST-MODIFIED:20250204T223057Z
UID:10003538-1740488400-1740495600@events.ccc.edu
SUMMARY:Wright: Financial Aid/ Alternative Application Completion Workshop
DESCRIPTION:
URL:https://events.ccc.edu/event/wright-financial-aid-alternative-application-completion-workshop/
CATEGORIES:Wilbur Wright
ATTACH;FMTTYPE=image/jpeg:https://events.ccc.edu/app/uploads/Financial-Aid_Calendar.jpg
END:VEVENT
BEGIN:VEVENT
DTSTART;TZID=America/Chicago:20250225T140000
DTEND;TZID=America/Chicago:20250225T150000
DTSTAMP:20260421T203806
CREATED:20241217T215743Z
LAST-MODIFIED:20241217T215744Z
UID:10002921-1740492000-1740495600@events.ccc.edu
SUMMARY:Banking and Saving Workshop
DESCRIPTION:
URL:https://events.ccc.edu/event/banking-and-saving-workshop/
CATEGORIES:District-wide,Harold Washington,Harry S Truman,Kennedy-King,Malcolm X,Olive-Harvey,Richard J. Daley,Wilbur Wright
ATTACH;FMTTYPE=image/jpeg:https://events.ccc.edu/app/uploads/DO_Calendar-Image_01-e1709153611957-wuAWoR.tmp_.jpg
END:VEVENT
BEGIN:VEVENT
DTSTART;TZID=America/Chicago:20250225T140000
DTEND;TZID=America/Chicago:20250225T150000
DTSTAMP:20260421T203806
CREATED:20250108T212423Z
LAST-MODIFIED:20250117T203845Z
UID:10003054-1740492000-1740495600@events.ccc.edu
SUMMARY:Wright: Taco Tuesday Black History Month Family Reunion
DESCRIPTION:
URL:https://events.ccc.edu/event/wright-taco-tuesday-black-history-month-family-reunion/
CATEGORIES:Wilbur Wright
ATTACH;FMTTYPE=image/jpeg:https://events.ccc.edu/app/uploads/BHM-Calendar_WW.jpg
END:VEVENT
BEGIN:VEVENT
DTSTART;TZID=America/Chicago:20250226T100000
DTEND;TZID=America/Chicago:20250226T110000
DTSTAMP:20260421T203806
CREATED:20241209T201056Z
LAST-MODIFIED:20241209T201056Z
UID:10002793-1740564000-1740567600@events.ccc.edu
SUMMARY:Partners in Education Info Session
DESCRIPTION:
URL:https://events.ccc.edu/event/partners-in-education-info-session-58/
CATEGORIES:Harold Washington,Harry S Truman,Kennedy-King,Malcolm X,Olive-Harvey,Richard J. Daley,Wilbur Wright
ATTACH;FMTTYPE=image/jpeg:https://events.ccc.edu/app/uploads/CHA-Calendar-Image.jpg
END:VEVENT
BEGIN:VEVENT
DTSTART;TZID=America/Chicago:20250226T100000
DTEND;TZID=America/Chicago:20250226T130000
DTSTAMP:20260421T203806
CREATED:20250207T174831Z
LAST-MODIFIED:20250207T174831Z
UID:10003611-1740564000-1740574800@events.ccc.edu
SUMMARY:Wright: Marquette University Table Visit
DESCRIPTION:
URL:https://events.ccc.edu/event/wright-marquette-university-table-visit-2/
CATEGORIES:Wilbur Wright
ATTACH;FMTTYPE=image/png:https://events.ccc.edu/app/uploads/Transfer_Table_Per-College_WW.png
END:VEVENT
BEGIN:VEVENT
DTSTART;TZID=America/Chicago:20250226T100000
DTEND;TZID=America/Chicago:20250226T140000
DTSTAMP:20260421T203806
CREATED:20250116T154624Z
LAST-MODIFIED:20250116T154624Z
UID:10003063-1740564000-1740578400@events.ccc.edu
SUMMARY:Malcolm X: Black History Month-HBCU Greek Step Show & College Fair
DESCRIPTION:
URL:https://events.ccc.edu/event/malcolm-x-black-history-month-hbcu-greek-step-show-college-fair/
CATEGORIES:District-wide,Harold Washington,Harry S Truman,Kennedy-King,Malcolm X,Olive-Harvey,Richard J. Daley,Wilbur Wright
ATTACH;FMTTYPE=image/jpeg:https://events.ccc.edu/app/uploads/BHM-Calendar_MX.jpg
END:VEVENT
BEGIN:VEVENT
DTSTART;TZID=America/Chicago:20250226T120000
DTEND;TZID=America/Chicago:20250226T130000
DTSTAMP:20260421T203806
CREATED:20241209T201007Z
LAST-MODIFIED:20241209T201008Z
UID:10002792-1740571200-1740574800@events.ccc.edu
SUMMARY:Partners in Education Info Session
DESCRIPTION:
URL:https://events.ccc.edu/event/partners-in-education-info-session-57/
CATEGORIES:District-wide,Harold Washington,Harry S Truman,Kennedy-King,Malcolm X,Olive-Harvey,Richard J. Daley,Wilbur Wright
ATTACH;FMTTYPE=image/jpeg:https://events.ccc.edu/app/uploads/CHA-Calendar-Image.jpg
END:VEVENT
BEGIN:VEVENT
DTSTART;TZID=America/Chicago:20250226T130000
DTEND;TZID=America/Chicago:20250226T160000
DTSTAMP:20260421T203806
CREATED:20250207T180059Z
LAST-MODIFIED:20250207T180059Z
UID:10003615-1740574800-1740585600@events.ccc.edu
SUMMARY:Wright: Dominican University Table Visit
DESCRIPTION:
URL:https://events.ccc.edu/event/wright-dominican-university-table-visit-11/
CATEGORIES:Wilbur Wright
ATTACH;FMTTYPE=image/png:https://events.ccc.edu/app/uploads/Transfer_Table_Per-College_WW.png
END:VEVENT
BEGIN:VEVENT
DTSTART;TZID=America/Chicago:20250226T140000
DTEND;TZID=America/Chicago:20250226T150000
DTSTAMP:20260421T203806
CREATED:20250207T180102Z
LAST-MODIFIED:20250207T180102Z
UID:10003616-1740578400-1740582000@events.ccc.edu
SUMMARY:Wright: Are You Ready to Transfer? Session
DESCRIPTION:
URL:https://events.ccc.edu/event/wright-are-you-ready-to-transfer-session/
CATEGORIES:Wilbur Wright
ATTACH;FMTTYPE=image/png:https://events.ccc.edu/app/uploads/Transfer_Per-College_WW.png
END:VEVENT
BEGIN:VEVENT
DTSTART;TZID=America/Chicago:20250227T100000
DTEND;TZID=America/Chicago:20250227T130000
DTSTAMP:20260421T203806
CREATED:20250207T180037Z
LAST-MODIFIED:20250207T180037Z
UID:10003614-1740650400-1740661200@events.ccc.edu
SUMMARY:Wright: National Louis University Table Visit
DESCRIPTION:
URL:https://events.ccc.edu/event/wright-national-louis-university-table-visit-3/
CATEGORIES:Wilbur Wright
ATTACH;FMTTYPE=image/png:https://events.ccc.edu/app/uploads/Transfer_Table_Per-College_WW.png
END:VEVENT
BEGIN:VEVENT
DTSTART;TZID=America/Chicago:20250227T110000
DTEND;TZID=America/Chicago:20250227T130000
DTSTAMP:20260421T203806
CREATED:20250108T212254Z
LAST-MODIFIED:20250108T212254Z
UID:10003053-1740654000-1740661200@events.ccc.edu
SUMMARY:Wright: Paczski Day
DESCRIPTION:
URL:https://events.ccc.edu/event/wright-paczski-day/
CATEGORIES:Wilbur Wright
ATTACH;FMTTYPE=image/jpeg:https://events.ccc.edu/app/uploads/WW_Stdnt_Act_03.jpg
END:VEVENT
BEGIN:VEVENT
DTSTART;TZID=America/Chicago:20250227T120000
DTEND;TZID=America/Chicago:20250227T130000
DTSTAMP:20260421T203806
CREATED:20250207T180034Z
LAST-MODIFIED:20250207T180034Z
UID:10003613-1740657600-1740661200@events.ccc.edu
SUMMARY:Wright: Healing in Collective Power with Project S.A.F.E. (Virtual)
DESCRIPTION:
URL:https://events.ccc.edu/event/wright-healing-in-collective-power-with-project-s-a-f-e-virtual/
CATEGORIES:Wilbur Wright
ATTACH;FMTTYPE=image/jpeg:https://events.ccc.edu/app/uploads/BHM-Calendar_WW.jpg
END:VEVENT
BEGIN:VEVENT
DTSTART;TZID=America/Chicago:20250227T153000
DTEND;TZID=America/Chicago:20250227T170000
DTSTAMP:20260421T203806
CREATED:20250110T203302Z
LAST-MODIFIED:20250110T203302Z
UID:10003177-1740670200-1740675600@events.ccc.edu
SUMMARY:Spring 2025 City Colleges of Chicago Transfer Leadership Class (TLC)
DESCRIPTION:
URL:https://events.ccc.edu/event/spring-2025-city-colleges-of-chicago-transfer-leadership-class-tlc-4/
CATEGORIES:District-wide,Harold Washington,Harry S Truman,Kennedy-King,Malcolm X,Olive-Harvey,Richard J. Daley,Wilbur Wright
ATTACH;FMTTYPE=image/png:https://events.ccc.edu/app/uploads/Transfer_Per-College_DO.png
END:VEVENT
BEGIN:VEVENT
DTSTART;TZID=America/Chicago:20250227T160000
DTEND;TZID=America/Chicago:20250227T161000
DTSTAMP:20260421T203806
CREATED:20241204T215452Z
LAST-MODIFIED:20241204T215452Z
UID:10002754-1740672000-1740672600@events.ccc.edu
SUMMARY:Wright: Campus Tour
DESCRIPTION:
URL:https://events.ccc.edu/event/wright-campus-tour-22/
CATEGORIES:Wilbur Wright
ATTACH;FMTTYPE=image/jpeg:https://events.ccc.edu/app/uploads/WW_Calendar-Image_01-e1715880201328-wC0vNw.tmp_.jpg
END:VEVENT
BEGIN:VEVENT
DTSTART;TZID=America/Chicago:20250227T170000
DTEND;TZID=America/Chicago:20250227T171000
DTSTAMP:20260421T203806
CREATED:20241204T215322Z
LAST-MODIFIED:20241204T215322Z
UID:10002753-1740675600-1740676200@events.ccc.edu
SUMMARY:Wright: Campus Tour
DESCRIPTION:
URL:https://events.ccc.edu/event/wright-campus-tour-21/
CATEGORIES:Wilbur Wright
ATTACH;FMTTYPE=image/jpeg:https://events.ccc.edu/app/uploads/WW_Calendar-Image_01-e1715880201328-wC0vNw.tmp_.jpg
END:VEVENT
BEGIN:VEVENT
DTSTART;TZID=America/Chicago:20250227T173000
DTEND;TZID=America/Chicago:20250227T183000
DTSTAMP:20260421T203806
CREATED:20250207T180025Z
LAST-MODIFIED:20250207T180025Z
UID:10003612-1740677400-1740681000@events.ccc.edu
SUMMARY:Wright: Are You Ready to Transfer? Session (Virtual)
DESCRIPTION:
URL:https://events.ccc.edu/event/wright-are-you-ready-to-transfer-session-virtual/
CATEGORIES:Wilbur Wright
ATTACH;FMTTYPE=image/png:https://events.ccc.edu/app/uploads/Transfer_Per-College_WW.png
END:VEVENT
BEGIN:VEVENT
DTSTART;TZID=America/Chicago:20250228T130000
DTEND;TZID=America/Chicago:20250228T150000
DTSTAMP:20260421T203806
CREATED:20250226T194149Z
LAST-MODIFIED:20250226T194149Z
UID:10003719-1740747600-1740754800@events.ccc.edu
SUMMARY:Wright: Black History Month - Chicago Style Steppin'
DESCRIPTION:
URL:https://events.ccc.edu/event/wright-black-history-month-chicago-style-steppin/
CATEGORIES:Wilbur Wright
ATTACH;FMTTYPE=image/jpeg:https://events.ccc.edu/app/uploads/BHM-Calendar_WW.jpg
END:VEVENT
BEGIN:VEVENT
DTSTART;TZID=America/Chicago:20250304T100000
DTEND;TZID=America/Chicago:20250304T120000
DTSTAMP:20260421T203806
CREATED:20250204T225615Z
LAST-MODIFIED:20250204T225616Z
UID:10003570-1741082400-1741089600@events.ccc.edu
SUMMARY:Wright: Satisfactory Academic Progress Workshop
DESCRIPTION:
URL:https://events.ccc.edu/event/wright-satisfactory-academic-progress-workshop-4/
CATEGORIES:Wilbur Wright
ATTACH;FMTTYPE=image/jpeg:https://events.ccc.edu/app/uploads/Financial-Aid_Calendar.jpg
END:VEVENT
BEGIN:VEVENT
DTSTART;TZID=America/Chicago:20250304T130000
DTEND;TZID=America/Chicago:20250304T140000
DTSTAMP:20260421T203806
CREATED:20250204T225529Z
LAST-MODIFIED:20250204T225529Z
UID:10003569-1741093200-1741096800@events.ccc.edu
SUMMARY:Budgeting Workshop
DESCRIPTION:
URL:https://events.ccc.edu/event/budgeting-workshop-2/
CATEGORIES:District-wide,Harold Washington,Harry S Truman,Kennedy-King,Malcolm X,Olive-Harvey,Richard J. Daley,Wilbur Wright
ATTACH;FMTTYPE=image/jpeg:https://events.ccc.edu/app/uploads/DO_Calendar-Image_01-e1709153611957-wuAWoR.tmp_.jpg
END:VEVENT
END:VCALENDAR