BEGIN:VCALENDAR
VERSION:2.0
PRODID:-//CCC - ECPv6.11.2//NONSGML v1.0//EN
CALSCALE:GREGORIAN
METHOD:PUBLISH
X-WR-CALNAME:CCC
X-ORIGINAL-URL:https://events.ccc.edu
X-WR-CALDESC:Events for CCC
REFRESH-INTERVAL;VALUE=DURATION:PT1H
X-Robots-Tag:noindex
X-PUBLISHED-TTL:PT1H
BEGIN:VTIMEZONE
TZID:America/Chicago
BEGIN:DAYLIGHT
TZOFFSETFROM:-0600
TZOFFSETTO:-0500
TZNAME:CDT
DTSTART:20250309T080000
END:DAYLIGHT
BEGIN:STANDARD
TZOFFSETFROM:-0500
TZOFFSETTO:-0600
TZNAME:CST
DTSTART:20251102T070000
END:STANDARD
END:VTIMEZONE
BEGIN:VEVENT
DTSTART;TZID=America/Chicago:20251024T093000
DTEND;TZID=America/Chicago:20251024T150000
DTSTAMP:20260419T234008
CREATED:20250905T201804Z
LAST-MODIFIED:20251014T172104Z
UID:10004865-1761298200-1761318000@events.ccc.edu
SUMMARY:City Colleges Transfer-mation Leadership Conference
DESCRIPTION:
URL:https://events.ccc.edu/event/city-colleges-transfer-mation-leadership-conference/
CATEGORIES:District-wide
ATTACH;FMTTYPE=image/jpeg:https://events.ccc.edu/app/uploads/Transfermation-Calendar-2024-r0Tcge.jpg
END:VEVENT
BEGIN:VEVENT
DTSTART;TZID=America/Chicago:20251024T100000
DTEND;TZID=America/Chicago:20251024T120000
DTSTAMP:20260419T234008
CREATED:20251002T205750Z
LAST-MODIFIED:20251002T205750Z
UID:10005068-1761300000-1761307200@events.ccc.edu
SUMMARY:Domestic Violence Safety Planning Virtual Training
DESCRIPTION:
URL:https://events.ccc.edu/event/domestic-violence-safety-planning-virtual-training/
CATEGORIES:District-wide
ATTACH;FMTTYPE=image/jpeg:https://events.ccc.edu/app/uploads/Project-SAFE-calendar-image-1-JBwJlW.jpg
END:VEVENT
BEGIN:VEVENT
DTSTART;TZID=America/Chicago:20251024T100000
DTEND;TZID=America/Chicago:20251024T120000
DTSTAMP:20260419T234008
CREATED:20251008T215651Z
LAST-MODIFIED:20251008T215652Z
UID:10005103-1761300000-1761307200@events.ccc.edu
SUMMARY:Project SAFE CEU Training - DV Safety Planning
DESCRIPTION:
URL:https://events.ccc.edu/event/project-safe-ceu-training-dv-safety-planning/
CATEGORIES:District-wide
ATTACH;FMTTYPE=image/jpeg:https://events.ccc.edu/app/uploads/Project-SAFE-calendar-image-1-JBwJlW.jpg
END:VEVENT
BEGIN:VEVENT
DTSTART;TZID=America/Chicago:20251024T110000
DTEND;TZID=America/Chicago:20251024T130000
DTSTAMP:20260419T234008
CREATED:20250926T161546Z
LAST-MODIFIED:20250926T161546Z
UID:10005010-1761303600-1761310800@events.ccc.edu
SUMMARY:Harold Washington: Ceramics Course
DESCRIPTION:
URL:https://events.ccc.edu/event/harold-washington-ceramics-course/
CATEGORIES:Harold Washington
ATTACH;FMTTYPE=image/jpeg:https://events.ccc.edu/app/uploads/HW_Calendar-Image_01-WZu76t.jpg
END:VEVENT
BEGIN:VEVENT
DTSTART;TZID=America/Chicago:20251024T120000
DTEND;TZID=America/Chicago:20251024T130000
DTSTAMP:20260419T234008
CREATED:20251007T183212Z
LAST-MODIFIED:20251007T183212Z
UID:10005083-1761307200-1761310800@events.ccc.edu
SUMMARY:Info Session + Apprenticeship Pathway: BOMA Commercial Real Estate
DESCRIPTION:
URL:https://events.ccc.edu/event/info-session-apprenticeship-pathway-boma-commercial-real-estate/
CATEGORIES:District-wide
ATTACH;FMTTYPE=image/jpeg:https://events.ccc.edu/app/uploads/DO_Calendar-Image_01-e1709153611957-jFEI13.jpg
END:VEVENT
BEGIN:VEVENT
DTSTART;TZID=America/Chicago:20251024T120000
DTEND;TZID=America/Chicago:20251024T170000
DTSTAMP:20260419T234008
CREATED:20251001T143610Z
LAST-MODIFIED:20251001T144121Z
UID:10005041-1761307200-1761325200@events.ccc.edu
SUMMARY:THINKChicago Launchpad 2025
DESCRIPTION:
URL:https://events.ccc.edu/event/thinkchicago-launchpad-2025/
CATEGORIES:District-wide,Harold Washington,Harry S Truman,Kennedy-King,Malcolm X,Olive-Harvey,Richard J. Daley,Wilbur Wright
ATTACH;FMTTYPE=image/jpeg:https://events.ccc.edu/app/uploads/Tech-Cal-Image-02-L0uvkN.jpg
END:VEVENT
BEGIN:VEVENT
DTSTART;TZID=America/Chicago:20251024T183000
DTEND;TZID=America/Chicago:20251024T213000
DTSTAMP:20260419T234008
CREATED:20251022T152613Z
LAST-MODIFIED:20251022T152613Z
UID:10005151-1761330600-1761341400@events.ccc.edu
SUMMARY:Kennedy-King: Chicago International Film Festival
DESCRIPTION:
URL:https://events.ccc.edu/event/kennedy-king-chicago-international-film-festival/
CATEGORIES:Kennedy-King
ATTACH;FMTTYPE=image/png:https://events.ccc.edu/app/uploads/KK_CECA_Calendar-Image-hyihGi.png
END:VEVENT
BEGIN:VEVENT
DTSTART;TZID=America/Chicago:20251025T100000
DTEND;TZID=America/Chicago:20251025T120000
DTSTAMP:20260419T234008
CREATED:20251008T215619Z
LAST-MODIFIED:20251008T215620Z
UID:10005101-1761386400-1761393600@events.ccc.edu
SUMMARY:Kennedy King: Black Girls Code: Cyber Safety Game in Scratch
DESCRIPTION:
URL:https://events.ccc.edu/event/kennedy-king-black-girls-code-cyber-safety-game-in-scratch/
CATEGORIES:Kennedy-King
ATTACH;FMTTYPE=image/jpeg:https://events.ccc.edu/app/uploads/Tech-Launchpad_Calendar-Fau0a2.jpg
END:VEVENT
BEGIN:VEVENT
DTSTART;TZID=America/Chicago:20251025T130000
DTEND;TZID=America/Chicago:20251025T150000
DTSTAMP:20260419T234008
CREATED:20251008T215605Z
LAST-MODIFIED:20251008T215606Z
UID:10005100-1761397200-1761404400@events.ccc.edu
SUMMARY:Kennedy King: Black Girls Code - Cybersecurity-Code & Protect w/ Python
DESCRIPTION:
URL:https://events.ccc.edu/event/kennedy-king-black-girls-code-cybersecurity-code-protect-w-python/
CATEGORIES:Kennedy-King
ATTACH;FMTTYPE=image/jpeg:https://events.ccc.edu/app/uploads/Tech-Launchpad_Calendar-Fau0a2.jpg
END:VEVENT
BEGIN:VEVENT
DTSTART;TZID=America/Chicago:20251027T000000
DTEND;TZID=America/Chicago:20251027T000000
DTSTAMP:20260419T234008
CREATED:20251027T212504Z
LAST-MODIFIED:20251027T212504Z
UID:10005183-1761523200-1761523200@events.ccc.edu
SUMMARY:Truman: Satisfactory Academic Progress (SAP) Appeal Workshop
DESCRIPTION:
URL:https://events.ccc.edu/event/truman-satisfactory-academic-progress-sap-appeal-workshop-31/
CATEGORIES:Harry S Truman
ATTACH;FMTTYPE=image/jpeg:https://events.ccc.edu/app/uploads/HT_Calendar-Image_01-e1761589957842-XVHdi3.jpg
END:VEVENT
BEGIN:VEVENT
DTSTART;TZID=America/Chicago:20251027T090000
DTEND;TZID=America/Chicago:20251027T120000
DTSTAMP:20260419T234008
CREATED:20250828T211245Z
LAST-MODIFIED:20250828T211245Z
UID:10004786-1761555600-1761566400@events.ccc.edu
SUMMARY:Harold Washington: Saint Xavier University Table Visit
DESCRIPTION:
URL:https://events.ccc.edu/event/harold-washington-saint-xavier-university-table-visit-6/
CATEGORIES:Harold Washington
ATTACH;FMTTYPE=image/png:https://events.ccc.edu/app/uploads/Transfer_Table_Per-College_HW-05VN0X.png
END:VEVENT
BEGIN:VEVENT
DTSTART;TZID=America/Chicago:20251027T100000
DTEND;TZID=America/Chicago:20251027T120000
DTSTAMP:20260419T234008
CREATED:20251023T200426Z
LAST-MODIFIED:20251023T200427Z
UID:10005154-1761559200-1761566400@events.ccc.edu
SUMMARY:Harold Washington: Financial Aid Completion Workshop
DESCRIPTION:
URL:https://events.ccc.edu/event/harold-washington-financial-aid-completion-workshop-20/
CATEGORIES:Harold Washington
ATTACH;FMTTYPE=image/jpeg:https://events.ccc.edu/app/uploads/Financial-Aid_Calendar-FAFSA-3EPzvg.jpg
END:VEVENT
BEGIN:VEVENT
DTSTART;TZID=America/Chicago:20251027T100000
DTEND;TZID=America/Chicago:20251027T130000
DTSTAMP:20260419T234008
CREATED:20251023T200415Z
LAST-MODIFIED:20251023T200415Z
UID:10005155-1761559200-1761570000@events.ccc.edu
SUMMARY:Kennedy-King: XCODE: Innovation One at KKC (Option Day 1)
DESCRIPTION:
URL:https://events.ccc.edu/event/kennedy-king-xcode-innovation-one-at-kkc-option-day-1/
CATEGORIES:Kennedy-King
ATTACH;FMTTYPE=image/jpeg:https://events.ccc.edu/app/uploads/Tech-Launchpad_Calendar-Fau0a2.jpg
END:VEVENT
BEGIN:VEVENT
DTSTART;TZID=America/Chicago:20251027T120000
DTEND;TZID=America/Chicago:20251027T150000
DTSTAMP:20260419T234008
CREATED:20250828T211309Z
LAST-MODIFIED:20250828T211310Z
UID:10004787-1761566400-1761577200@events.ccc.edu
SUMMARY:Harold Washington: Dominican University Table Visit
DESCRIPTION:
URL:https://events.ccc.edu/event/harold-washington-dominican-university-table-visit-7/
CATEGORIES:Harold Washington
ATTACH;FMTTYPE=image/png:https://events.ccc.edu/app/uploads/Transfer_Table_Per-College_HW-05VN0X.png
END:VEVENT
BEGIN:VEVENT
DTSTART;TZID=America/Chicago:20251027T130000
DTEND;TZID=America/Chicago:20251027T150000
DTSTAMP:20260419T234008
CREATED:20250708T210923Z
LAST-MODIFIED:20250708T210923Z
UID:10004321-1761570000-1761577200@events.ccc.edu
SUMMARY:Harold Washington: Movie Monday
DESCRIPTION:
URL:https://events.ccc.edu/event/harold-washington-movie-monday-5/
CATEGORIES:Harold Washington
ATTACH;FMTTYPE=image/jpeg:https://events.ccc.edu/app/uploads/HW_Stdnt_Act_01.jpg
END:VEVENT
BEGIN:VEVENT
DTSTART;TZID=America/Chicago:20251027T130000
DTEND;TZID=America/Chicago:20251027T150000
DTSTAMP:20260419T234008
CREATED:20250819T175207Z
LAST-MODIFIED:20250819T175208Z
UID:10004526-1761570000-1761577200@events.ccc.edu
SUMMARY:Daley: Governors State University Dual Degree Program Table Visit
DESCRIPTION:
URL:https://events.ccc.edu/event/daley-governors-state-university-dual-degree-program-table-visit-8/
CATEGORIES:Richard J. Daley
ATTACH;FMTTYPE=image/png:https://events.ccc.edu/app/uploads/Transfer_Table_Per-College_RD-Iie3X5.png
END:VEVENT
BEGIN:VEVENT
DTSTART;TZID=America/Chicago:20251028T100000
DTEND;TZID=America/Chicago:20251028T120000
DTSTAMP:20260419T234008
CREATED:20250926T161542Z
LAST-MODIFIED:20250926T161542Z
UID:10005011-1761645600-1761652800@events.ccc.edu
SUMMARY:Malcolm X: Financial Aid Completion Workshop
DESCRIPTION:
URL:https://events.ccc.edu/event/malcolm-x-financial-aid-completion-workshop-18/
CATEGORIES:Malcolm X
ATTACH;FMTTYPE=image/jpeg:https://events.ccc.edu/app/uploads/Financial-Aid_Calendar-V7fIVx.jpg
END:VEVENT
BEGIN:VEVENT
DTSTART;TZID=America/Chicago:20251028T100000
DTEND;TZID=America/Chicago:20251028T120000
DTSTAMP:20260419T234008
CREATED:20250926T161609Z
LAST-MODIFIED:20250926T161610Z
UID:10005014-1761645600-1761652800@events.ccc.edu
SUMMARY:Malcolm X: Financial Aid Completion Workshop
DESCRIPTION:
URL:https://events.ccc.edu/event/malcolm-x-financial-aid-completion-workshop-19/
CATEGORIES:Malcolm X
ATTACH;FMTTYPE=image/jpeg:https://events.ccc.edu/app/uploads/Financial-Aid_Calendar-V7fIVx.jpg
END:VEVENT
BEGIN:VEVENT
DTSTART;TZID=America/Chicago:20251028T100000
DTEND;TZID=America/Chicago:20251028T130000
DTSTAMP:20260419T234008
CREATED:20250819T152543Z
LAST-MODIFIED:20250819T152544Z
UID:10004518-1761645600-1761656400@events.ccc.edu
SUMMARY:Kennedy-King: National Louis University Table Visit
DESCRIPTION:
URL:https://events.ccc.edu/event/kennedy-king-national-louis-university-table-visit-4/
CATEGORIES:Kennedy-King
ATTACH;FMTTYPE=image/png:https://events.ccc.edu/app/uploads/Transfer_Table_Per-College_KK-3lpcNa.png
END:VEVENT
BEGIN:VEVENT
DTSTART;TZID=America/Chicago:20251028T100000
DTEND;TZID=America/Chicago:20251028T130000
DTSTAMP:20260419T234008
CREATED:20250819T153150Z
LAST-MODIFIED:20250819T153150Z
UID:10004520-1761645600-1761656400@events.ccc.edu
SUMMARY:Kennedy-King: National University Table Visit
DESCRIPTION:
URL:https://events.ccc.edu/event/kennedy-king-national-university-table-visit-6/
CATEGORIES:Kennedy-King
ATTACH;FMTTYPE=image/png:https://events.ccc.edu/app/uploads/Transfer_Table_Per-College_KK-3lpcNa.png
END:VEVENT
BEGIN:VEVENT
DTSTART;TZID=America/Chicago:20251028T100000
DTEND;TZID=America/Chicago:20251028T130000
DTSTAMP:20260419T234008
CREATED:20251008T215541Z
LAST-MODIFIED:20251008T215541Z
UID:10005098-1761645600-1761656400@events.ccc.edu
SUMMARY:Truman: Lake Forest College & North Park University Table Visit
DESCRIPTION:
URL:https://events.ccc.edu/event/truman-lake-forest-college-north-park-university-table-visit/
CATEGORIES:Harry S Truman
ATTACH;FMTTYPE=image/png:https://events.ccc.edu/app/uploads/Transfer_Table_Per-College_HT-OYqC75.png
END:VEVENT
BEGIN:VEVENT
DTSTART;TZID=America/Chicago:20251028T100000
DTEND;TZID=America/Chicago:20251028T130000
DTSTAMP:20260419T234008
CREATED:20251008T215552Z
LAST-MODIFIED:20251008T215552Z
UID:10005099-1761645600-1761656400@events.ccc.edu
SUMMARY:Truman: Northeastern Illinois University Table Visit
DESCRIPTION:
URL:https://events.ccc.edu/event/truman-northeastern-illinois-university-table-visit-16/
CATEGORIES:Harry S Truman
ATTACH;FMTTYPE=image/png:https://events.ccc.edu/app/uploads/Transfer_Table_Per-College_HT-OYqC75.png
END:VEVENT
BEGIN:VEVENT
DTSTART;TZID=America/Chicago:20251028T100000
DTEND;TZID=America/Chicago:20251028T130000
DTSTAMP:20260419T234008
CREATED:20251023T200430Z
LAST-MODIFIED:20251023T200430Z
UID:10005156-1761645600-1761656400@events.ccc.edu
SUMMARY:Kennedy-King: XCODE: Innovation One at KKC (Option Day 2)
DESCRIPTION:
URL:https://events.ccc.edu/event/kennedy-king-xcode-innovation-one-at-kkc-option-day-2/
CATEGORIES:District-wide,Kennedy-King
ATTACH;FMTTYPE=image/jpeg:https://events.ccc.edu/app/uploads/Tech-Launchpad_Calendar-Fau0a2.jpg
END:VEVENT
BEGIN:VEVENT
DTSTART;TZID=America/Chicago:20251028T110000
DTEND;TZID=America/Chicago:20251028T140000
DTSTAMP:20260419T234008
CREATED:20250710T171501Z
LAST-MODIFIED:20250710T171502Z
UID:10004324-1761649200-1761660000@events.ccc.edu
SUMMARY:Malcolm X: Dominican\, NEIU\, Roosevelt University Table Visits
DESCRIPTION:
URL:https://events.ccc.edu/event/malcolm-x-dominican-neiu-roosevelt-university-table-visits/
CATEGORIES:Malcolm X
ATTACH;FMTTYPE=image/png:https://events.ccc.edu/app/uploads/Transfer_Per-College_MX.png
END:VEVENT
BEGIN:VEVENT
DTSTART;TZID=America/Chicago:20251028T120000
DTEND;TZID=America/Chicago:20251028T140000
DTSTAMP:20260419T234008
CREATED:20251023T200549Z
LAST-MODIFIED:20251023T200549Z
UID:10005159-1761652800-1761660000@events.ccc.edu
SUMMARY:Truman: Violence Prevention Loteria
DESCRIPTION:
URL:https://events.ccc.edu/event/truman-violence-prevention-loteria/
CATEGORIES:Harry S Truman
ATTACH;FMTTYPE=image/jpeg:https://events.ccc.edu/app/uploads/Project-SAFE-calendar-image-1-JBwJlW.jpg
END:VEVENT
BEGIN:VEVENT
DTSTART;TZID=America/Chicago:20251028T120000
DTEND;TZID=America/Chicago:20251028T143000
DTSTAMP:20260419T234008
CREATED:20251015T212222Z
LAST-MODIFIED:20251015T212223Z
UID:10005121-1761652800-1761661800@events.ccc.edu
SUMMARY:AWS (Amazon Web Service) STJ Prompt Engineering Showdown
DESCRIPTION:
URL:https://events.ccc.edu/event/aws-amazon-web-service-stj-prompt-engineering-showdown/
CATEGORIES:District-wide
ATTACH;FMTTYPE=image/jpeg:https://events.ccc.edu/app/uploads/Tech-Cal-Image-02-L0uvkN.jpg
END:VEVENT
BEGIN:VEVENT
DTSTART;TZID=America/Chicago:20251028T120000
DTEND;TZID=America/Chicago:20251028T150000
DTSTAMP:20260419T234008
CREATED:20250828T211332Z
LAST-MODIFIED:20250828T211332Z
UID:10004788-1761652800-1761663600@events.ccc.edu
SUMMARY:Harold Washington: Northeastern Illinois University (NEIU) Table Visit
DESCRIPTION:
URL:https://events.ccc.edu/event/harold-washington-northeastern-illinois-university-neiu-table-visit-8/
CATEGORIES:Harold Washington
ATTACH;FMTTYPE=image/png:https://events.ccc.edu/app/uploads/Transfer_Table_Per-College_HW-05VN0X.png
END:VEVENT
BEGIN:VEVENT
DTSTART;TZID=America/Chicago:20251028T133000
DTEND;TZID=America/Chicago:20251028T143000
DTSTAMP:20260419T234008
CREATED:20250828T212028Z
LAST-MODIFIED:20250828T212029Z
UID:10004796-1761658200-1761661800@events.ccc.edu
SUMMARY:Daley: Build Your Winning Application - Jack Kent Cooke Scholarship Workshop (Virtual)
DESCRIPTION:
URL:https://events.ccc.edu/event/daley-build-your-winning-application-jack-kent-cooke-scholarship-workshop-virtual-2/
CATEGORIES:Richard J. Daley
ATTACH;FMTTYPE=image/png:https://events.ccc.edu/app/uploads/Transfer_Per-College_RD-Smi0Q8.png
END:VEVENT
BEGIN:VEVENT
DTSTART;TZID=America/Chicago:20251028T150000
DTEND;TZID=America/Chicago:20251028T180000
DTSTAMP:20260419T234008
CREATED:20250902T212438Z
LAST-MODIFIED:20250902T212438Z
UID:10004828-1761663600-1761674400@events.ccc.edu
SUMMARY:Harold Washington: Southern Illinois University Edwardsville Table Visit
DESCRIPTION:
URL:https://events.ccc.edu/event/harold-washington-southern-illinois-university-edwardsville-table-visit/
CATEGORIES:Harold Washington
ATTACH;FMTTYPE=image/png:https://events.ccc.edu/app/uploads/Transfer_Table_Per-College_HW-05VN0X.png
END:VEVENT
BEGIN:VEVENT
DTSTART;TZID=America/Chicago:20251029T090000
DTEND;TZID=America/Chicago:20251029T120000
DTSTAMP:20260419T234008
CREATED:20250916T144442Z
LAST-MODIFIED:20250916T144442Z
UID:10004904-1761728400-1761739200@events.ccc.edu
SUMMARY:Harold Washington: Bank of America Recruiting
DESCRIPTION:
URL:https://events.ccc.edu/event/harold-washington-bank-of-america-recruiting-2/
CATEGORIES:Harold Washington
ATTACH;FMTTYPE=image/png:https://events.ccc.edu/app/uploads/CalendarImage_CareerCenter_4_HW-6aPoGM.png
END:VEVENT
END:VCALENDAR