BEGIN:VCALENDAR
VERSION:2.0
PRODID:-//CCC - ECPv6.11.2//NONSGML v1.0//EN
CALSCALE:GREGORIAN
METHOD:PUBLISH
X-WR-CALNAME:CCC
X-ORIGINAL-URL:https://events.ccc.edu
X-WR-CALDESC:Events for CCC
REFRESH-INTERVAL;VALUE=DURATION:PT1H
X-Robots-Tag:noindex
X-PUBLISHED-TTL:PT1H
BEGIN:VTIMEZONE
TZID:America/Chicago
BEGIN:DAYLIGHT
TZOFFSETFROM:-0600
TZOFFSETTO:-0500
TZNAME:CDT
DTSTART:20260308T080000
END:DAYLIGHT
BEGIN:STANDARD
TZOFFSETFROM:-0500
TZOFFSETTO:-0600
TZNAME:CST
DTSTART:20261101T070000
END:STANDARD
END:VTIMEZONE
BEGIN:VEVENT
DTSTART;TZID=America/Chicago:20260423T130000
DTEND;TZID=America/Chicago:20260423T173000
DTSTAMP:20260423T165240
CREATED:20260409T163615Z
LAST-MODIFIED:20260409T163616Z
UID:10006315-1776949200-1776965400@events.ccc.edu
SUMMARY:Harold Washington: Satisfactory Academic Progress Workshop
DESCRIPTION:
URL:https://events.ccc.edu/event/harold-washington-satisfactory-academic-progress-workshop-17/
CATEGORIES:Harold Washington
ATTACH;FMTTYPE=image/jpeg:https://events.ccc.edu/app/uploads/HW_Calendar-Image_01-WZu76t.jpg
END:VEVENT
BEGIN:VEVENT
DTSTART;TZID=America/Chicago:20260423T160000
DTEND;TZID=America/Chicago:20260423T180000
DTSTAMP:20260423T165240
CREATED:20260126T220105Z
LAST-MODIFIED:20260126T220106Z
UID:10005896-1776960000-1776967200@events.ccc.edu
SUMMARY:Malcolm X: Satisfactory Academic Progress Workshop
DESCRIPTION:
URL:https://events.ccc.edu/event/malcolm-x-satisfactory-academic-progress-workshop-18/
CATEGORIES:Malcolm X
ATTACH;FMTTYPE=image/jpeg:https://events.ccc.edu/app/uploads/MX_Calendar-Image_01-C2nx2T.jpg
END:VEVENT
BEGIN:VEVENT
DTSTART;TZID=America/Chicago:20260428T100000
DTEND;TZID=America/Chicago:20260428T120000
DTSTAMP:20260423T165240
CREATED:20260127T155852Z
LAST-MODIFIED:20260127T155852Z
UID:10005917-1777370400-1777377600@events.ccc.edu
SUMMARY:Malcolm X: Financial Aid Completion Workshop
DESCRIPTION:
URL:https://events.ccc.edu/event/malcolm-x-financial-aid-completion-workshop-36/
CATEGORIES:Malcolm X
ATTACH;FMTTYPE=image/jpeg:https://events.ccc.edu/app/uploads/MX_Calendar-Image_01-C2nx2T.jpg
END:VEVENT
BEGIN:VEVENT
DTSTART;TZID=America/Chicago:20260429T100000
DTEND;TZID=America/Chicago:20260429T120000
DTSTAMP:20260423T165240
CREATED:20260416T195426Z
LAST-MODIFIED:20260416T195426Z
UID:10006355-1777456800-1777464000@events.ccc.edu
SUMMARY:Harold Washington: Financial Aid Completion Workshop
DESCRIPTION:
URL:https://events.ccc.edu/event/harold-washington-financial-aid-completion-workshop-37/
CATEGORIES:Harold Washington
ATTACH;FMTTYPE=image/jpeg:https://events.ccc.edu/app/uploads/HW_Calendar-Image_01-WZu76t.jpg
END:VEVENT
BEGIN:VEVENT
DTSTART;TZID=America/Chicago:20260505T100000
DTEND;TZID=America/Chicago:20260505T160000
DTSTAMP:20260423T165240
CREATED:20260410T213640Z
LAST-MODIFIED:20260410T213640Z
UID:10006332-1777975200-1777996800@events.ccc.edu
SUMMARY:Truman: 2026-2027 FAFSA/RISE ACT Completion Workshop
DESCRIPTION:
URL:https://events.ccc.edu/event/truman-2026-2027-fafsa-rise-act-completion-workshop-3/
CATEGORIES:Harry S Truman
ATTACH;FMTTYPE=image/jpeg:https://events.ccc.edu/app/uploads/Financial-Aid_Calendar-FAFSA_23-w30fwU.jpg
END:VEVENT
BEGIN:VEVENT
DTSTART;TZID=America/Chicago:20260507T130000
DTEND;TZID=America/Chicago:20260507T173000
DTSTAMP:20260423T165240
CREATED:20260410T213619Z
LAST-MODIFIED:20260410T213619Z
UID:10006331-1778158800-1778175000@events.ccc.edu
SUMMARY:Harold Washington: Satisfactory Academic Progress Workshop
DESCRIPTION:
URL:https://events.ccc.edu/event/harold-washington-satisfactory-academic-progress-workshop-18/
CATEGORIES:Harold Washington
ATTACH;FMTTYPE=image/jpeg:https://events.ccc.edu/app/uploads/HW_Calendar-Image_01-WZu76t.jpg
END:VEVENT
BEGIN:VEVENT
DTSTART;TZID=America/Chicago:20260514T120000
DTEND;TZID=America/Chicago:20260514T180000
DTSTAMP:20260423T165240
CREATED:20260413T202344Z
LAST-MODIFIED:20260413T202345Z
UID:10006339-1778760000-1778781600@events.ccc.edu
SUMMARY:Truman: Satisfactory Academic Progress (SAP) Workshop
DESCRIPTION:
URL:https://events.ccc.edu/event/truman-satisfactory-academic-progress-sap-workshop-4/
CATEGORIES:Harry S Truman
ATTACH;FMTTYPE=image/jpeg:https://events.ccc.edu/app/uploads/Financial-Aid_Calendar_23-29kunw.jpg
END:VEVENT
BEGIN:VEVENT
DTSTART;TZID=America/Chicago:20260514T130000
DTEND;TZID=America/Chicago:20260514T150000
DTSTAMP:20260423T165240
CREATED:20260413T202928Z
LAST-MODIFIED:20260413T202928Z
UID:10006344-1778763600-1778770800@events.ccc.edu
SUMMARY:Harold Washington: Satisfactory Academic Progress Workshop
DESCRIPTION:
URL:https://events.ccc.edu/event/harold-washington-satisfactory-academic-progress-workshop-19/
CATEGORIES:Harold Washington
ATTACH;FMTTYPE=image/jpeg:https://events.ccc.edu/app/uploads/HW_Calendar-Image_01-WZu76t.jpg
END:VEVENT
BEGIN:VEVENT
DTSTART;TZID=America/Chicago:20260518T100000
DTEND;TZID=America/Chicago:20260518T180000
DTSTAMP:20260423T165240
CREATED:20260413T203423Z
LAST-MODIFIED:20260413T203424Z
UID:10006348-1779098400-1779127200@events.ccc.edu
SUMMARY:Truman: Satisfactory Academic Progress (SAP) Workshop
DESCRIPTION:
URL:https://events.ccc.edu/event/truman-satisfactory-academic-progress-sap-workshop-5/
CATEGORIES:Harry S Truman
ATTACH;FMTTYPE=image/jpeg:https://events.ccc.edu/app/uploads/Financial-Aid_Calendar_23-29kunw.jpg
END:VEVENT
BEGIN:VEVENT
DTSTART;TZID=America/Chicago:20260521T130000
DTEND;TZID=America/Chicago:20260521T173000
DTSTAMP:20260423T165240
CREATED:20260423T202204Z
LAST-MODIFIED:20260423T202205Z
UID:10006367-1779368400-1779384600@events.ccc.edu
SUMMARY:Harold Washington: Satisfactory Academic Progress Workshop
DESCRIPTION:
URL:https://events.ccc.edu/event/harold-washington-satisfactory-academic-progress-workshop-20/
CATEGORIES:Harold Washington
ATTACH;FMTTYPE=image/jpeg:https://events.ccc.edu/app/uploads/HW_Calendar-Image_01-WZu76t.jpg
END:VEVENT
BEGIN:VEVENT
DTSTART;TZID=America/Chicago:20260528T130000
DTEND;TZID=America/Chicago:20260528T173000
DTSTAMP:20260423T165240
CREATED:20260330T215124Z
LAST-MODIFIED:20260330T215125Z
UID:10006261-1779973200-1779989400@events.ccc.edu
SUMMARY:Harold Washington: Satisfactory Academic Progress Workshop
DESCRIPTION:
URL:https://events.ccc.edu/event/harold-washington-satisfactory-academic-progress-workshop-15/
CATEGORIES:Harold Washington
ATTACH;FMTTYPE=image/jpeg:https://events.ccc.edu/app/uploads/HW_Calendar-Image_01-WZu76t.jpg
END:VEVENT
BEGIN:VEVENT
DTSTART;TZID=America/Chicago:20260604T130000
DTEND;TZID=America/Chicago:20260604T173000
DTSTAMP:20260423T165240
CREATED:20260319T211512Z
LAST-MODIFIED:20260319T211513Z
UID:10006243-1780578000-1780594200@events.ccc.edu
SUMMARY:Harold Washington: Satisfactory Academic Progress Workshop
DESCRIPTION:
URL:https://events.ccc.edu/event/harold-washington-satisfactory-academic-progress-workshop-13/
CATEGORIES:Harold Washington
ATTACH;FMTTYPE=image/jpeg:https://events.ccc.edu/app/uploads/HW_Calendar-Image_01-WZu76t.jpg
END:VEVENT
BEGIN:VEVENT
DTSTART;TZID=America/Chicago:20260611T093000
DTEND;TZID=America/Chicago:20260611T130000
DTSTAMP:20260423T165240
CREATED:20251002T145023Z
LAST-MODIFIED:20251002T145023Z
UID:10005054-1781170200-1781182800@events.ccc.edu
SUMMARY:Kennedy-King: Instant Admissions
DESCRIPTION:
URL:https://events.ccc.edu/event/kennedy-king-instant-admissions-3/
CATEGORIES:Kennedy-King
ATTACH;FMTTYPE=image/jpeg:https://events.ccc.edu/app/uploads/KK_Stdnt_Act_03-k4S91Q.jpg
END:VEVENT
BEGIN:VEVENT
DTSTART;TZID=America/Chicago:20260611T130000
DTEND;TZID=America/Chicago:20260611T173000
DTSTAMP:20260423T165240
CREATED:20260319T211657Z
LAST-MODIFIED:20260319T211657Z
UID:10006245-1781182800-1781199000@events.ccc.edu
SUMMARY:Harold Washington: Satisfactory Academic Progress Workshop
DESCRIPTION:
URL:https://events.ccc.edu/event/harold-washington-satisfactory-academic-progress-workshop-14/
CATEGORIES:Harold Washington
ATTACH;FMTTYPE=image/jpeg:https://events.ccc.edu/app/uploads/HW_Calendar-Image_01-WZu76t.jpg
END:VEVENT
BEGIN:VEVENT
DTSTART;TZID=America/Chicago:20260716T093000
DTEND;TZID=America/Chicago:20260716T130000
DTSTAMP:20260423T165240
CREATED:20251002T145057Z
LAST-MODIFIED:20251002T145057Z
UID:10005055-1784194200-1784206800@events.ccc.edu
SUMMARY:Kennedy-King: Instant Admissions
DESCRIPTION:
URL:https://events.ccc.edu/event/kennedy-king-instant-admissions-4/
CATEGORIES:Kennedy-King
ATTACH;FMTTYPE=image/jpeg:https://events.ccc.edu/app/uploads/KK_Stdnt_Act_03-k4S91Q.jpg
END:VEVENT
END:VCALENDAR