BEGIN:VCALENDAR
VERSION:2.0
PRODID:-//CCC - ECPv6.11.2//NONSGML v1.0//EN
CALSCALE:GREGORIAN
METHOD:PUBLISH
X-WR-CALNAME:CCC
X-ORIGINAL-URL:https://events.ccc.edu
X-WR-CALDESC:Events for CCC
REFRESH-INTERVAL;VALUE=DURATION:PT1H
X-Robots-Tag:noindex
X-PUBLISHED-TTL:PT1H
BEGIN:VTIMEZONE
TZID:America/Chicago
BEGIN:DAYLIGHT
TZOFFSETFROM:-0600
TZOFFSETTO:-0500
TZNAME:CDT
DTSTART:20260308T080000
END:DAYLIGHT
BEGIN:STANDARD
TZOFFSETFROM:-0500
TZOFFSETTO:-0600
TZNAME:CST
DTSTART:20261101T070000
END:STANDARD
END:VTIMEZONE
BEGIN:VEVENT
DTSTART;TZID=America/Chicago:20260428T110000
DTEND;TZID=America/Chicago:20260428T130000
DTSTAMP:20260424T211249
CREATED:20260423T202203Z
LAST-MODIFIED:20260423T202204Z
UID:10006366-1777374000-1777381200@events.ccc.edu
SUMMARY:Olive-Harvey: What Were You Wearing?
DESCRIPTION:
URL:https://events.ccc.edu/event/olive-harvey-what-were-you-wearing/
CATEGORIES:Olive-Harvey
ATTACH;FMTTYPE=image/jpeg:https://events.ccc.edu/app/uploads/Project-SAFE-calendar-image-1-JBwJlW.jpg
END:VEVENT
BEGIN:VEVENT
DTSTART;TZID=America/Chicago:20260428T120000
DTEND;TZID=America/Chicago:20260428T130000
DTSTAMP:20260424T211249
CREATED:20260409T174012Z
LAST-MODIFIED:20260409T174013Z
UID:10006322-1777377600-1777381200@events.ccc.edu
SUMMARY:Daley: Trauma-Informed Yoga
DESCRIPTION:
URL:https://events.ccc.edu/event/daley-trauma-informed-yoga-9/
CATEGORIES:Richard J. Daley
ATTACH;FMTTYPE=image/jpeg:https://events.ccc.edu/app/uploads/Project-SAFE-calendar-image-1-JBwJlW.jpg
END:VEVENT
BEGIN:VEVENT
DTSTART;TZID=America/Chicago:20260429T110000
DTEND;TZID=America/Chicago:20260429T130000
DTSTAMP:20260424T211249
CREATED:20260420T144104Z
LAST-MODIFIED:20260420T144104Z
UID:10006360-1777460400-1777467600@events.ccc.edu
SUMMARY:Olive-Harvey: Denim Day Resource Fair
DESCRIPTION:
URL:https://events.ccc.edu/event/olive-harvey-denim-day-resource-fair-3/
CATEGORIES:Olive-Harvey
ATTACH;FMTTYPE=image/jpeg:https://events.ccc.edu/app/uploads/Project-SAFE-calendar-image-1-JBwJlW.jpg
END:VEVENT
END:VCALENDAR